BEGIN:VCALENDAR
VERSION:2.0
PRODID:-//Avid Cyclist - ECPv6.15.19//NONSGML v1.0//EN
CALSCALE:GREGORIAN
METHOD:PUBLISH
X-ORIGINAL-URL:https://avidcyclist.com
X-WR-CALDESC:Events for Avid Cyclist
REFRESH-INTERVAL;VALUE=DURATION:PT1H
X-Robots-Tag:noindex
X-PUBLISHED-TTL:PT1H
BEGIN:VTIMEZONE
TZID:America/Denver
BEGIN:DAYLIGHT
TZOFFSETFROM:-0700
TZOFFSETTO:-0600
TZNAME:MDT
DTSTART:20250309T090000
END:DAYLIGHT
BEGIN:STANDARD
TZOFFSETFROM:-0600
TZOFFSETTO:-0700
TZNAME:MST
DTSTART:20251102T080000
END:STANDARD
BEGIN:DAYLIGHT
TZOFFSETFROM:-0700
TZOFFSETTO:-0600
TZNAME:MDT
DTSTART:20260308T090000
END:DAYLIGHT
BEGIN:STANDARD
TZOFFSETFROM:-0600
TZOFFSETTO:-0700
TZNAME:MST
DTSTART:20261101T080000
END:STANDARD
BEGIN:DAYLIGHT
TZOFFSETFROM:-0700
TZOFFSETTO:-0600
TZNAME:MDT
DTSTART:20270314T090000
END:DAYLIGHT
BEGIN:STANDARD
TZOFFSETFROM:-0600
TZOFFSETTO:-0700
TZNAME:MST
DTSTART:20271107T080000
END:STANDARD
END:VTIMEZONE
BEGIN:VEVENT
DTSTART;VALUE=DATE:20260425
DTEND;VALUE=DATE:20260426
DTSTAMP:20260422T170253
CREATED:20250404T195820Z
LAST-MODIFIED:20251113T180338Z
UID:10000156-1777075200-1777161599@avidcyclist.com
SUMMARY:Highlands Gravel Classic
DESCRIPTION:The Highlands Gravel Classic is the first of two qualifiers in the USA for the UCI Gravel World Series (GWS). The GWS will include both new and existing events from around the world to qualify competitors to attend the world championships in Nice\, France.  Selection for the world championships will be based upon age group and gender\, along with both Elite men’s and women’s categories for UCI-licensed riders.  The top 25% finishers of ages 19-34 and then each 5-year age group (ex 35-39) separated by gender up to the oldest competitor will qualify. \nHighlands Gravel Classic will feature 2 courses…Highlands – 68 miles and Farmlands – 54 miles.  The 68 mile course is for Elites\, Males (19-59) and Females (19-49). The 54 mile course is for Males 60+ and Females 50+.
URL:https://avidcyclist.com/event/highlands-gravel-classic/
CATEGORIES:Gravel
ATTACH;FMTTYPE=image/png:https://avidcyclist.com/wp-content/uploads/Highlands-Gravel.png
ORGANIZER;CN="All Sports Productions":MAILTO:bruce@allsportsproductionsinc.com
END:VEVENT
END:VCALENDAR