BEGIN:VCALENDAR
VERSION:2.0
PRODID:-//Avid Cyclist - ECPv6.15.19//NONSGML v1.0//EN
CALSCALE:GREGORIAN
METHOD:PUBLISH
X-WR-CALNAME:Avid Cyclist
X-ORIGINAL-URL:https://avidcyclist.com
X-WR-CALDESC:Events for Avid Cyclist
REFRESH-INTERVAL;VALUE=DURATION:PT1H
X-Robots-Tag:noindex
X-PUBLISHED-TTL:PT1H
BEGIN:VTIMEZONE
TZID:America/Denver
BEGIN:DAYLIGHT
TZOFFSETFROM:-0700
TZOFFSETTO:-0600
TZNAME:MDT
DTSTART:20240310T090000
END:DAYLIGHT
BEGIN:STANDARD
TZOFFSETFROM:-0600
TZOFFSETTO:-0700
TZNAME:MST
DTSTART:20241103T080000
END:STANDARD
BEGIN:DAYLIGHT
TZOFFSETFROM:-0700
TZOFFSETTO:-0600
TZNAME:MDT
DTSTART:20250309T090000
END:DAYLIGHT
BEGIN:STANDARD
TZOFFSETFROM:-0600
TZOFFSETTO:-0700
TZNAME:MST
DTSTART:20251102T080000
END:STANDARD
BEGIN:DAYLIGHT
TZOFFSETFROM:-0700
TZOFFSETTO:-0600
TZNAME:MDT
DTSTART:20260308T090000
END:DAYLIGHT
BEGIN:STANDARD
TZOFFSETFROM:-0600
TZOFFSETTO:-0700
TZNAME:MST
DTSTART:20261101T080000
END:STANDARD
END:VTIMEZONE
BEGIN:VEVENT
DTSTART;TZID=America/Denver:20250919T190000
DTEND;TZID=America/Denver:20250919T220000
DTSTAMP:20260422T175020
CREATED:20250617T145430Z
LAST-MODIFIED:20250617T145430Z
UID:10000323-1758308400-1758319200@avidcyclist.com
SUMMARY:American Flyers: 40th Anniversary Showing / Denver\, Colorado
DESCRIPTION:Join us for the celebration of the 40th Anniversary of American Flyers\, the movie that got millions to hop on a bike and keep on pedaling! See Kevin Costner in one of his very first films! American Flyers was written by acclaimed Denver resident Steve Tesich (1942-1996)\, whose brilliant writing earned him the 1979 Academy Award for Best Original Screenplay for the cycling classic Breaking Away.\nExperience more than just the movie! Before the screening\, join actor and Bicycle Colorado alum\, Scott Christopher\, who portrayed a cycling team leader in ‘American Flyers\,’ for an exclusive 20-minute pre-show presentation. Discover fascinating behind-the-scenes secrets\, challenges\, and dramatic moments from the intense month-long filming of the race sequences across Colorado’s breathtaking landscapes. Don’t miss this rare opportunity to hear firsthand stories from the set!\nThe Denver showing will be in partnership with the CommonSpirit Denver Century Ride. Proceeds benefit Bicycle Colorado and Davis Phinney Foundation.
URL:https://avidcyclist.com/event/american-flyers-40th-anniversary-showing-denver-colorado/
LOCATION:Historic Elitch Theatre\, 4600 W 37th Place\, Denver\, Colorado\, 80212
CATEGORIES:Film Festival
ATTACH;FMTTYPE=image/png:https://avidcyclist.com/wp-content/uploads/american-flyers.png
ORGANIZER;CN="Bicycle Colorado":MAILTO:hilary@bicyclecolorado.org
GEO:39.7682595;-105.0464023
X-APPLE-STRUCTURED-LOCATION;VALUE=URI;X-ADDRESS=Historic Elitch Theatre 4600 W 37th Place Denver Colorado 80212;X-APPLE-RADIUS=500;X-TITLE=4600 W 37th Place:geo:-105.0464023,39.7682595
END:VEVENT
BEGIN:VEVENT
DTSTART;TZID=America/Denver:20250603T180000
DTEND;TZID=America/Denver:20250603T203000
DTSTAMP:20260422T175020
CREATED:20250512T222732Z
LAST-MODIFIED:20250512T222732Z
UID:10000262-1748973600-1748982600@avidcyclist.com
SUMMARY:"Gear Up" Fundraiser 2025
DESCRIPTION:On June 3rd\, we’re hosting our largest annual fundraiser and the best bike party in town. Bicycle Colorado has been advocating for people on bikes for over 30 years\, and we want to celebrate that. \nThis year’s Gear Up! Fundraiser features a live\, in-person auction on the evening of June 3rd\, as well as an online silent auction leading up to the party. \nThe event will be a lot of fun\, and with your help\, it will strengthen the bike advocacy movement\, too. We can’t wait to reveal more soon! \nDate: Tuesday\, June 3\, 2025 \nTime: 6-8:30 pm \nLocation: University of Denver Joy Burns Center 2044 E Evans Ave.\, Denver\, CO 80210 \nBeer\, wine\, hors d’oeuvres\, and a sit-down dessert are provided. \n\nGet Your Tickets
URL:https://avidcyclist.com/event/gear-up-fundraiser-2025/
CATEGORIES:Non-Profit Fund Raising Event
ATTACH;FMTTYPE=image/png:https://avidcyclist.com/wp-content/uploads/Gear-Up.png
ORGANIZER;CN="Bicycle Colorado":MAILTO:hilary@bicyclecolorado.org
END:VEVENT
END:VCALENDAR