BEGIN:VCALENDAR
VERSION:2.0
PRODID:-//Avid Cyclist - ECPv6.15.19//NONSGML v1.0//EN
CALSCALE:GREGORIAN
METHOD:PUBLISH
X-WR-CALNAME:Avid Cyclist
X-ORIGINAL-URL:https://avidcyclist.com
X-WR-CALDESC:Events for Avid Cyclist
REFRESH-INTERVAL;VALUE=DURATION:PT1H
X-Robots-Tag:noindex
X-PUBLISHED-TTL:PT1H
BEGIN:VTIMEZONE
TZID:America/Denver
BEGIN:DAYLIGHT
TZOFFSETFROM:-0700
TZOFFSETTO:-0600
TZNAME:MDT
DTSTART:20240310T090000
END:DAYLIGHT
BEGIN:STANDARD
TZOFFSETFROM:-0600
TZOFFSETTO:-0700
TZNAME:MST
DTSTART:20241103T080000
END:STANDARD
BEGIN:DAYLIGHT
TZOFFSETFROM:-0700
TZOFFSETTO:-0600
TZNAME:MDT
DTSTART:20250309T090000
END:DAYLIGHT
BEGIN:STANDARD
TZOFFSETFROM:-0600
TZOFFSETTO:-0700
TZNAME:MST
DTSTART:20251102T080000
END:STANDARD
BEGIN:DAYLIGHT
TZOFFSETFROM:-0700
TZOFFSETTO:-0600
TZNAME:MDT
DTSTART:20260308T090000
END:DAYLIGHT
BEGIN:STANDARD
TZOFFSETFROM:-0600
TZOFFSETTO:-0700
TZNAME:MST
DTSTART:20261101T080000
END:STANDARD
END:VTIMEZONE
BEGIN:VEVENT
DTSTART;TZID=America/Denver:20250921T080000
DTEND;TZID=America/Denver:20250921T170000
DTSTAMP:20260424T175359
CREATED:20250826T141738Z
LAST-MODIFIED:20250826T142555Z
UID:10000357-1758441600-1758474000@avidcyclist.com
SUMMARY:Tour de Farms
DESCRIPTION:Get ready for a day of bikes\, bites\, and beautiful scenery! Tour de Farms\, Bike Fort Collins’ annual community ride and fundraiser\, returns Sunday\, September 21. This fun and festive 30+ mile guided ride blends the best of Fort Collins—cycling\, local agriculture\, and community spirit. \nRiders will cruise a mix of paved and gravel roads with planned stops at local farms along the way. Each farm visit offers light tastings\, refreshments\, and the chance to meet and chat with the farmers themselves. The ride will be led by Bike Fort Collins representatives and wrap up with a post-ride celebration at Zwei Brewing (4612 South Mason Street #120\, Fort Collins\, CO 80525). \n\n What’s included:\n A guided ~30-mile road/gravel ride starting & ending at Zwei Brewing\n Farm stops with bites\, drinks & stories from local farmers\n Lunch from a food truck + a beer at Zwei Brewing\n Commemorative T-shirt\, poster & rider goody bag\n Great vibes + camaraderie with fellow riders’\n\n\nProceeds support Bike Fort Collins’ mission: More Bikes. Safe Streets.\n\n\n Registration is limited & usually sells out fast!\n Early-bird (before Sept 1): $80\n After Sept 1: $90
URL:https://avidcyclist.com/event/tour-de-farms/
LOCATION:Zwei Brewing\, 4612 S Mason Street\, #120\, Fort Collins\, Colorado\, 80525
CATEGORIES:Non-Profit Fund Raising Event,Ride
ATTACH;FMTTYPE=image/png:https://avidcyclist.com/wp-content/uploads/tour-de-farms.png
GEO:40.5227677;-105.0783994
X-APPLE-STRUCTURED-LOCATION;VALUE=URI;X-ADDRESS=Zwei Brewing 4612 S Mason Street #120 Fort Collins Colorado 80525;X-APPLE-RADIUS=500;X-TITLE=4612 S Mason Street\, #120:geo:-105.0783994,40.5227677
END:VEVENT
BEGIN:VEVENT
DTSTART;TZID=America/Denver:20250726T221500
DTEND;TZID=America/Denver:20250726T221500
DTSTAMP:20260424T175359
CREATED:20250702T223615Z
LAST-MODIFIED:20250702T223615Z
UID:10000326-1753568100-1753568100@avidcyclist.com
SUMMARY:Bike Fort Collins E-Bike Raffle
DESCRIPTION:Enter to Win a Priority Current PLUS E-Bike\, Valued at $3\,300. \nThe Current PLUS E-Bike by Priority Bicycles is a state-of-the-art electric bike that combines a powerful 720Wh battery\, enhanced comfort\, and advanced features—all at an exceptional value. It’s reliable\, versatile\, and built to last. Whether you’re commuting to work or heading out on a weekend ride\, the Current PLUS offers a low-maintenance\, easy-to-ride experience that’s perfect for everyday use. Now featuring throttle control\, upgraded motor firmware\, and improved stability\, this e-bike delivers a smooth\, powerful ride. Its long-lasting battery and optimized components make it ideal for both city streets and open roads. \nThe winner will be announced on Saturday\, July 26th at 10:15 PM during the Bike Fort Collins Bike Prom at The Lyric.
URL:https://avidcyclist.com/event/bike-fort-collins-e-bike-raffle/
LOCATION:The Lyric Theater\, 1209 N College Ave.\, Fort Collins\, CO\, 80524\, United States
CATEGORIES:Non-Profit Fund Raising Event,Other
ATTACH;FMTTYPE=image/png:https://avidcyclist.com/wp-content/uploads/bfc-2025-bike-prom-raffle-email.png
GEO:40.6026032;-105.0771688
X-APPLE-STRUCTURED-LOCATION;VALUE=URI;X-ADDRESS=The Lyric Theater 1209 N College Ave. Fort Collins CO 80524 United States;X-APPLE-RADIUS=500;X-TITLE=1209 N College Ave.:geo:-105.0771688,40.6026032
END:VEVENT
BEGIN:VEVENT
DTSTART;TZID=America/Denver:20250726T200000
DTEND;TZID=America/Denver:20250726T230000
DTSTAMP:20260424T175359
CREATED:20250702T223553Z
LAST-MODIFIED:20250702T223553Z
UID:10000325-1753560000-1753570800@avidcyclist.com
SUMMARY:Bike Fort Collins Bike Prom
DESCRIPTION:Pull those sparkly dresses out of the closet\, dust off your top hat\, and grease up your bike chain—it’s time for Bike Prom\, one of Fort Collins’ most beloved and delightfully quirky annual traditions! \nWhether you’re rocking a bedazzled helmet\, a tulle skirt over your bike shorts\, or channeling vintage prom vibes with a powder-blue tux and a handlebar mustache (real or stick-on)\, this is the night to go all out. Think corsages and cummerbunds\, puffy sleeves and glitter\, streamers and spoke lights. If it screams “bike meets ballroom\,” you’re doing it right. \nOnce you’re dressed to the nines and your ride is ready to roll\, get ready for an evening that’s anything but ordinary. Expect a whirlwind of dancing\, music\, lights\, laughter\, and all kinds of good-natured bike-fueled shenanigans. Bike Prom is where the Fort Collins bike community comes to shine—on two wheels. \nBut beyond the fun\, there’s a meaningful purpose behind the party. Bike Prom is a fundraiser for Bike Fort Collins\, the local nonprofit that’s been championing safer streets\, better infrastructure\, and a stronger bike culture since 2005. Every ticket sold\, every drink poured\, and every funky dance move helps support their mission to make Fort Collins an even better place to ride. \nSo polish those pedals\, grab a date (or your whole crew)\, and join us for a night that celebrates everything we love about bikes\, community\, and having a downright silly\, unforgettable good time. Let’s roll\, Fort Collins—prom-style!
URL:https://avidcyclist.com/event/bike-fort-collins-bike-prom/
CATEGORIES:Festival,Non-Profit Fund Raising Event
ATTACH;FMTTYPE=image/png:https://avidcyclist.com/wp-content/uploads/bike-prom-2025-email-header.png
END:VEVENT
END:VCALENDAR