BEGIN:VCALENDAR
VERSION:2.0
PRODID:-//Avid Cyclist - ECPv6.15.19//NONSGML v1.0//EN
CALSCALE:GREGORIAN
METHOD:PUBLISH
X-WR-CALNAME:Avid Cyclist
X-ORIGINAL-URL:https://avidcyclist.com
X-WR-CALDESC:Events for Avid Cyclist
REFRESH-INTERVAL;VALUE=DURATION:PT1H
X-Robots-Tag:noindex
X-PUBLISHED-TTL:PT1H
BEGIN:VTIMEZONE
TZID:America/Denver
BEGIN:DAYLIGHT
TZOFFSETFROM:-0700
TZOFFSETTO:-0600
TZNAME:MDT
DTSTART:20250309T090000
END:DAYLIGHT
BEGIN:STANDARD
TZOFFSETFROM:-0600
TZOFFSETTO:-0700
TZNAME:MST
DTSTART:20251102T080000
END:STANDARD
BEGIN:DAYLIGHT
TZOFFSETFROM:-0700
TZOFFSETTO:-0600
TZNAME:MDT
DTSTART:20260308T090000
END:DAYLIGHT
BEGIN:STANDARD
TZOFFSETFROM:-0600
TZOFFSETTO:-0700
TZNAME:MST
DTSTART:20261101T080000
END:STANDARD
BEGIN:DAYLIGHT
TZOFFSETFROM:-0700
TZOFFSETTO:-0600
TZNAME:MDT
DTSTART:20270314T090000
END:DAYLIGHT
BEGIN:STANDARD
TZOFFSETFROM:-0600
TZOFFSETTO:-0700
TZNAME:MST
DTSTART:20271107T080000
END:STANDARD
END:VTIMEZONE
BEGIN:VEVENT
DTSTART;TZID=America/Denver:20260801T160000
DTEND;TZID=America/Denver:20260807T170000
DTSTAMP:20260425T053940
CREATED:20260115T035736Z
LAST-MODIFIED:20260115T035736Z
UID:10000523-1785600000-1786122000@avidcyclist.com
SUMMARY:SAGBRAW "The Spectacular Annual Great Bike Ride Around Wisconsin" powered by Bike Wisconsin
DESCRIPTION:Wisconsin’s oldest cycling tour\, the “Spectacular Annual Great Bike Ride Around Wisconsin” is an annual 6-day cycling tradition. Enjoy riding between 150 to 300 miles in and around central and southern Wisconsin! \nSAGBRAW will be a loop (starting and ending at the same location)\, so transportation service will not be necessary. We will be starting and ending the tour in Wisconsin Dells so you will have your car available to enjoy all the attractions Wisconsin Dells has to offer during the weekend when you’re not riding! \n2026 Ride Schedule:\nSat. Aug. 1st – Arrival day in Wisconsin Dells\nSun. Aug. 2nd – Layover day in Wisconsin Dells\nMon. Aug. 3rd – Wisconsin Dells to Green Lake\nTue. Aug. 4th – Layover day in Green Lake\nWed. Aug. 5th – Green Lake to Columbus\nThu. Aug. 6th – Layover day in Columbus (this day’s ride features an optional tour of the Trek bicycle factory in Waterloo!)\nFri. Aug. 7th – Columbus to Wisconsin Dells
URL:https://avidcyclist.com/event/sagbraw-the-spectacular-annual-great-bike-ride-around-wisconsin-powered-by-bike-wisconsin/
LOCATION:Wisconsin Dells Middle School\, 520 Race St.\, Wisconsin Dells\, WI\, 53965\, United States
CATEGORIES:Fondo,Ride,Road
ATTACH;FMTTYPE=image/jpeg:https://avidcyclist.com/wp-content/uploads/2026/01/picture06700.jpg
ORGANIZER;CN="Bike Wisconsin":MAILTO:bikewisconsin@bikewisconsin.com
GEO:43.623482;-89.7597019
X-APPLE-STRUCTURED-LOCATION;VALUE=URI;X-ADDRESS=Wisconsin Dells Middle School 520 Race St. Wisconsin Dells WI 53965 United States;X-APPLE-RADIUS=500;X-TITLE=520 Race St.:geo:-89.7597019,43.623482
END:VEVENT
END:VCALENDAR