BEGIN:VCALENDAR
VERSION:2.0
PRODID:-//Avid Cyclist - ECPv6.15.19//NONSGML v1.0//EN
CALSCALE:GREGORIAN
METHOD:PUBLISH
X-ORIGINAL-URL:https://avidcyclist.com
X-WR-CALDESC:Events for Avid Cyclist
REFRESH-INTERVAL;VALUE=DURATION:PT1H
X-Robots-Tag:noindex
X-PUBLISHED-TTL:PT1H
BEGIN:VTIMEZONE
TZID:America/Denver
BEGIN:DAYLIGHT
TZOFFSETFROM:-0700
TZOFFSETTO:-0600
TZNAME:MDT
DTSTART:20250309T090000
END:DAYLIGHT
BEGIN:STANDARD
TZOFFSETFROM:-0600
TZOFFSETTO:-0700
TZNAME:MST
DTSTART:20251102T080000
END:STANDARD
BEGIN:DAYLIGHT
TZOFFSETFROM:-0700
TZOFFSETTO:-0600
TZNAME:MDT
DTSTART:20260308T090000
END:DAYLIGHT
BEGIN:STANDARD
TZOFFSETFROM:-0600
TZOFFSETTO:-0700
TZNAME:MST
DTSTART:20261101T080000
END:STANDARD
BEGIN:DAYLIGHT
TZOFFSETFROM:-0700
TZOFFSETTO:-0600
TZNAME:MDT
DTSTART:20270314T090000
END:DAYLIGHT
BEGIN:STANDARD
TZOFFSETFROM:-0600
TZOFFSETTO:-0700
TZNAME:MST
DTSTART:20271107T080000
END:STANDARD
END:VTIMEZONE
BEGIN:VEVENT
DTSTART;VALUE=DATE:20260530
DTEND;VALUE=DATE:20260531
DTSTAMP:20260422T165811
CREATED:20251118T190041Z
LAST-MODIFIED:20251118T190140Z
UID:10000448-1780099200-1780185599@avidcyclist.com
SUMMARY:Wente
DESCRIPTION:An 8-Hour mountain bike relay race and family camping extravaganza.\nThe Wente 8-hour mountain bike race is far beyond just your typical relay event. It is a full 3-day weekend expedition for your friends and family in one of the most magical places on earth: Wente Scout Reservation. \nThis team and solo mountain bike race fills very fast because it is limited to just 550 competitors. In reality\, the scale of the event is larger than this because racers come with friends and family. It’s what makes this experience so special. \nWente Scout Reservation plays host to thousands of scouts each year and introduces a large portion of them to the joy of mountain biking. The Wente 8-Hour MTB Relay Race does a lot to contribute to the further development of this program\, and in its way\, the future mountain bikers of America. Whether you’ve been a part of Wente’s regular programming\, or have never been exposed to the world of scouting\, you’re in for a great treat during this weekend.
URL:https://avidcyclist.com/event/wente/
LOCATION:Wikllits\, California\, Willits\, California
CATEGORIES:Mountain,Mountain Bike,Race
ATTACH;FMTTYPE=image/png:https://avidcyclist.com/wp-content/uploads/wente.png
ORGANIZER;CN="BikeMonkey":MAILTO:info@bikemonkey.net
END:VEVENT
BEGIN:VEVENT
DTSTART;VALUE=DATE:20260627
DTEND;VALUE=DATE:20260628
DTSTAMP:20260422T165811
CREATED:20250610T152436Z
LAST-MODIFIED:20251120T162453Z
UID:10000316-1782518400-1782604799@avidcyclist.com
SUMMARY:Truckee Tahoe Gravel
DESCRIPTION:Truckee Tahoe Gravel 2025\, produced by premier event operator Bike Monkey\, is a wild mixed-terrain adventure ride into the gravel and dirt roads of the majestic Tahoe National Forest.\nthere are two competitive options and a third shorter route designed for beginners or those looking for a lighter challenge. There is a great lineup of activities throughout the weekend\, making it a well-rounded experience for all participants. The event will recognize the top three men and women for each age group. There are six age groups for the long and medium courses: U20\, 20-29\, 30-39\, 40-49\, 50-59\, and 60+. \nThe race options are fully supported with up to three well-stocked aid stations for hydration and food. There are on-bike marshals\, SAG\, and moto support along the routes. The shortest ride is free and recommended for beginner riders with a mix of dirt and pavement who want to experience light climbing. It is open to children\, but parents must supervise them. Registrants can order Biemme Kit men’s and women’s jerseys and bike accessories through the Bike Monkey store. Bikes best suited for the three routes are mixed-terrain gravel bikes with Panaracer Gravel King Tubeless tires that are 38c or bigger. People also ride hardtail mountain bikes. \nTruckee\, CA\, is a great place to visit for cyclists and those supporting the riders. It is situated in the picturesque heart of California’s northern Sierra Nevada.  Truckee is a genuine mountain town. Whether you’re a gravel grinder\, a mountain biker\, a dedicated road rider\, or a family-friendly cruiser\, there’s terrain to suit every type of rider in Truckee. Additionally\, visitors will relish the town’s convenient proximity to Lake Tahoe\, a mere 15-minute drive from its northern shores. Truckee’s Historic Downtown adds to its charm\, boasting a delightful assortment of shops\, restaurants\, breweries\, and bars like Trokay\, Old Town Tap\, and The Hoppy Duck. These dining options are close to hotels like Cedar House or a short driving distance to Lake Tahoe’s Ritz-Carlton. Not all campgrounds are open yet\, but a few are in Truckee Ranger District; Granite Flat\, Lakeside\, and Boca Campground. Some of the area’s favorite natural areas are Tahoe National Forest\, or Donner Memorial State Park. \nBike Monkey\, a premier road and gravel cycling event producer in Northern California\, produces the event.  Sister events include Fish Rock\, Heart of Gold\, Wente\, Truckee Dirt Fondo\, Hammer Road Rally\, Stetina’s Pay Dirt\,  and Rebecca’s Private Idaho. Bike Monkey events are supported with SAG vehicles\, well-stocked feed stations\, and a post-ride festival.
URL:https://avidcyclist.com/event/truckee-tahoe-gravel/
LOCATION:Truckee\, California\, Truckee\, California
CATEGORIES:Gravel,Race,Ride
ATTACH;FMTTYPE=image/png:https://avidcyclist.com/wp-content/uploads/truckee-tahoe-gravel.png
ORGANIZER;CN="BikeMonkey":MAILTO:info@bikemonkey.net
END:VEVENT
END:VCALENDAR