BEGIN:VCALENDAR
VERSION:2.0
PRODID:-//Avid Cyclist - ECPv6.15.19//NONSGML v1.0//EN
CALSCALE:GREGORIAN
METHOD:PUBLISH
X-ORIGINAL-URL:https://avidcyclist.com
X-WR-CALDESC:Events for Avid Cyclist
REFRESH-INTERVAL;VALUE=DURATION:PT1H
X-Robots-Tag:noindex
X-PUBLISHED-TTL:PT1H
BEGIN:VTIMEZONE
TZID:America/Denver
BEGIN:DAYLIGHT
TZOFFSETFROM:-0700
TZOFFSETTO:-0600
TZNAME:MDT
DTSTART:20240310T090000
END:DAYLIGHT
BEGIN:STANDARD
TZOFFSETFROM:-0600
TZOFFSETTO:-0700
TZNAME:MST
DTSTART:20241103T080000
END:STANDARD
BEGIN:DAYLIGHT
TZOFFSETFROM:-0700
TZOFFSETTO:-0600
TZNAME:MDT
DTSTART:20250309T090000
END:DAYLIGHT
BEGIN:STANDARD
TZOFFSETFROM:-0600
TZOFFSETTO:-0700
TZNAME:MST
DTSTART:20251102T080000
END:STANDARD
BEGIN:DAYLIGHT
TZOFFSETFROM:-0700
TZOFFSETTO:-0600
TZNAME:MDT
DTSTART:20260308T090000
END:DAYLIGHT
BEGIN:STANDARD
TZOFFSETFROM:-0600
TZOFFSETTO:-0700
TZNAME:MST
DTSTART:20261101T080000
END:STANDARD
END:VTIMEZONE
BEGIN:VEVENT
DTSTART;TZID=America/Denver:20250426T100000
DTEND;TZID=America/Denver:20250426T150000
DTSTAMP:20260425T092010
CREATED:20250326T145241Z
LAST-MODIFIED:20250417T160242Z
UID:10000137-1745661600-1745679600@avidcyclist.com
SUMMARY:AVOUT Racing Sponsor Appreciation Bike Expo
DESCRIPTION:Exciting Bike Expo Hosted by AVOUT Racing and Bike Source Littleton: A Day of Fun\, Gear\, and Giveaways! \nLittleton\, CO — April 19\, 2025 — Get ready for an unforgettable day at the AVOUT Racing and Bike Source Littleton Bike Expo on April 19\, 2025\, from 10:00 AM to 3:00 PM! This event promises a thrilling day for cycling enthusiasts of all levels\, featuring some of the biggest names in the bike industry\, a variety of raffle prizes\, exclusive gear deals\, and much more. \nJoin Us for the Ultimate Cycling Experience! \nHosted by AVOUT Racing and Bike Source Littleton\, this exciting expo will showcase the latest and greatest from top industry brands. Whether you’re a casual rider\, an avid enthusiast\, or a competitive cyclist\, there’s something for everyone! Highlights include: \n\nIncredible Raffle Prizes: Win big with amazing raffle prizes from Fox Racing (DH Helmet)\, Revolution Enduro (2 Race Entries)\, Session Series (1 Race Entry)\, Flow Formula (Nutrition Kits)\, Bike Source (Various Items)\, Enduro MTB Training (2 Full Training Programs)\, and many more surprises!\nLive Broadcasting: Tune in to the live broadcast of the event\, courtesy of Avid Cyclist\, for behind-the-scenes access and interviews with the industry’s best.\nFood Trucks: Enjoy award winning food from Borderless Food Truck & Catering (Awarded Colorado’s Consumer Choice Award for best food truck & catering!)\nExclusive Deals and Discounts: Bike Source will be offering incredible deals on bikes\, gear\, and accessories for this one-day-only event\, giving you the chance to gear up for the 2025 season.\n\n  \nWhat is AVOUT Racing? \nAVOUT Racing offers a variety of recreational teams for riders of all skill levels. Whether you’re looking to have fun and meet like-minded cyclists\, or you’re aiming for the CAT1 Pro level and competing at the National circuit\, AVOUT Racing has something for you. Join us at the expo to learn more about how you can get involved! \n  \nDon’t Miss Out! \nThis is an opportunity you won’t want to miss! Mark your calendars for April 19th and get ready to experience everything the cycling world has to offer—from top-tier brands to unbeatable raffle prizes and discounts. Plus\, enjoy the opportunity to meet the AVOUT Racing team and learn about their range of teams and programs for cyclists at every level.
URL:https://avidcyclist.com/event/avout-racing-sponsor-appreciation-bike-expo/
CATEGORIES:Expo
ATTACH;FMTTYPE=image/png:https://avidcyclist.com/wp-content/uploads/Sponsor-Appreciation-Bike-Expo-3.png
ORGANIZER;CN="Avout Racing":MAILTO:Tom.hall@avoutracing.com
END:VEVENT
END:VCALENDAR