BEGIN:VCALENDAR
VERSION:2.0
PRODID:-//Avid Cyclist - ECPv6.15.19//NONSGML v1.0//EN
CALSCALE:GREGORIAN
METHOD:PUBLISH
X-WR-CALNAME:Avid Cyclist
X-ORIGINAL-URL:https://avidcyclist.com
X-WR-CALDESC:Events for Avid Cyclist
REFRESH-INTERVAL;VALUE=DURATION:PT1H
X-Robots-Tag:noindex
X-PUBLISHED-TTL:PT1H
BEGIN:VTIMEZONE
TZID:America/Detroit
BEGIN:DAYLIGHT
TZOFFSETFROM:-0500
TZOFFSETTO:-0400
TZNAME:EDT
DTSTART:20250309T070000
END:DAYLIGHT
BEGIN:STANDARD
TZOFFSETFROM:-0400
TZOFFSETTO:-0500
TZNAME:EST
DTSTART:20251102T060000
END:STANDARD
BEGIN:DAYLIGHT
TZOFFSETFROM:-0500
TZOFFSETTO:-0400
TZNAME:EDT
DTSTART:20260308T070000
END:DAYLIGHT
BEGIN:STANDARD
TZOFFSETFROM:-0400
TZOFFSETTO:-0500
TZNAME:EST
DTSTART:20261101T060000
END:STANDARD
BEGIN:DAYLIGHT
TZOFFSETFROM:-0500
TZOFFSETTO:-0400
TZNAME:EDT
DTSTART:20270314T070000
END:DAYLIGHT
BEGIN:STANDARD
TZOFFSETFROM:-0400
TZOFFSETTO:-0500
TZNAME:EST
DTSTART:20271107T060000
END:STANDARD
END:VTIMEZONE
BEGIN:VEVENT
DTSTART;TZID=America/Detroit:20260904T183000
DTEND;TZID=America/Detroit:20260906T200000
DTSTAMP:20260425T082503
CREATED:20260113T202725Z
LAST-MODIFIED:20260113T202725Z
UID:10000510-1788546600-1788724800@avidcyclist.com
SUMMARY:Copper Harbor Trails Fest
DESCRIPTION:A Family Reunion for Mountain Biking \nHosted by the Copper Harbor Trails Club\, the 33nd Annual Orbion x Copper Harbor Trails Fest takes place September 4th – 6th\, 2026. The annual Labor Day Weekend event features races\, music\, beer\, and good times over three days of action! This all-ages event has something for everyone\, whether you’re a cross-country lover\, blazing-fast downhiller\, enduro expert\, sure-footed trail runner\, or aspiring young ripper. Enjoy the best of what Copper Harbor\, MI\, has to offer with us all weekend!
URL:https://avidcyclist.com/event/copper-harbor-trails-fest/
LOCATION:Copper Harbor\, Mi\, 230 Gratiot street\, Copper Harbor\, MI\, 49918\, United States
CATEGORIES:Festival,Mountain Bike,Non-Profit Fund Raising Event,Race
ATTACH;FMTTYPE=image/jpeg:https://avidcyclist.com/wp-content/uploads/2026/01/54624671376_0c809ced7a_o-scaled.jpg
ORGANIZER;CN="Copper Harbor Trails Club":MAILTO:info@copperharbortrails.org
GEO:47.4677421;-87.8883017
X-APPLE-STRUCTURED-LOCATION;VALUE=URI;X-ADDRESS=Copper Harbor Mi 230 Gratiot street Copper Harbor MI 49918 United States;X-APPLE-RADIUS=500;X-TITLE=230 Gratiot street:geo:-87.8883017,47.4677421
END:VEVENT
END:VCALENDAR