BEGIN:VCALENDAR
VERSION:2.0
PRODID:-//Avid Cyclist - ECPv6.15.19//NONSGML v1.0//EN
CALSCALE:GREGORIAN
METHOD:PUBLISH
X-WR-CALNAME:Avid Cyclist
X-ORIGINAL-URL:https://avidcyclist.com
X-WR-CALDESC:Events for Avid Cyclist
REFRESH-INTERVAL;VALUE=DURATION:PT1H
X-Robots-Tag:noindex
X-PUBLISHED-TTL:PT1H
BEGIN:VTIMEZONE
TZID:America/Denver
BEGIN:DAYLIGHT
TZOFFSETFROM:-0700
TZOFFSETTO:-0600
TZNAME:MDT
DTSTART:20240310T090000
END:DAYLIGHT
BEGIN:STANDARD
TZOFFSETFROM:-0600
TZOFFSETTO:-0700
TZNAME:MST
DTSTART:20241103T080000
END:STANDARD
BEGIN:DAYLIGHT
TZOFFSETFROM:-0700
TZOFFSETTO:-0600
TZNAME:MDT
DTSTART:20250309T090000
END:DAYLIGHT
BEGIN:STANDARD
TZOFFSETFROM:-0600
TZOFFSETTO:-0700
TZNAME:MST
DTSTART:20251102T080000
END:STANDARD
BEGIN:DAYLIGHT
TZOFFSETFROM:-0700
TZOFFSETTO:-0600
TZNAME:MDT
DTSTART:20260308T090000
END:DAYLIGHT
BEGIN:STANDARD
TZOFFSETFROM:-0600
TZOFFSETTO:-0700
TZNAME:MST
DTSTART:20261101T080000
END:STANDARD
END:VTIMEZONE
BEGIN:VEVENT
DTSTART;VALUE=DATE:20251011
DTEND;VALUE=DATE:20251012
DTSTAMP:20260424T144556
CREATED:20250908T204246Z
LAST-MODIFIED:20250908T204246Z
UID:10000365-1760140800-1760227199@avidcyclist.com
SUMMARY:2025 Bike Olympics
DESCRIPTION:Join us for the first ever “Bike Olympics” at Rowdy Ryder Academy!\nParticipate in a variety of contests including:\n• High jump (bunny hops)• Long jump (furthest drop send)• 200m dash (fastest time up/down the trail)• 100m sprint (fastest trail descent)• and MORE!!!\nPrizes will be awarded to the competition winners in all categories which include:\n• Best all around male rider• Best all around female rider• Best youth rider (under 16)• Best masters rider (over 50)\nThis event is open to everyone! Partners and kids are welcome to attend. Must be at least 13 years old to participate in the competition\, though. Waivers will be on site and must be signed\, prior to the competition. Bring your own bike and helmet!\nNOTE- you don’t have to participate in the Olympics in order to attend this event\, come out anytime and cheer everyone on\, eat\, drink and socialize!!\nWe will provide the meat and drinks\, but please bring a side to share! Bring a camp chair\, too!\nContest begins at 2pm\, dinner served at 5pm.\n**We do have some parking available on the property\, as well as in the grass field at our neighbors\, just one driveway to the west. Feel free to park there and walk up the hill!
URL:https://avidcyclist.com/event/2025-bike-olympics/
LOCATION:Rowdy Rider Academy\, 15615 W 82nd Ave\, Arvada\, Colorado\, 80007\, United States
CATEGORIES:Mountain Bike
ATTACH;FMTTYPE=image/png:https://avidcyclist.com/wp-content/uploads/bike-olympics.png
GEO:39.8441305;-105.1750994
X-APPLE-STRUCTURED-LOCATION;VALUE=URI;X-ADDRESS=Rowdy Rider Academy 15615 W 82nd Ave Arvada Colorado 80007 United States;X-APPLE-RADIUS=500;X-TITLE=15615 W 82nd Ave:geo:-105.1750994,39.8441305
END:VEVENT
END:VCALENDAR