BEGIN:VCALENDAR
VERSION:2.0
PRODID:-//Avid Cyclist - ECPv6.15.19//NONSGML v1.0//EN
CALSCALE:GREGORIAN
METHOD:PUBLISH
X-ORIGINAL-URL:https://avidcyclist.com
X-WR-CALDESC:Events for Avid Cyclist
REFRESH-INTERVAL;VALUE=DURATION:PT1H
X-Robots-Tag:noindex
X-PUBLISHED-TTL:PT1H
BEGIN:VTIMEZONE
TZID:America/Denver
BEGIN:DAYLIGHT
TZOFFSETFROM:-0700
TZOFFSETTO:-0600
TZNAME:MDT
DTSTART:20240310T090000
END:DAYLIGHT
BEGIN:STANDARD
TZOFFSETFROM:-0600
TZOFFSETTO:-0700
TZNAME:MST
DTSTART:20241103T080000
END:STANDARD
BEGIN:DAYLIGHT
TZOFFSETFROM:-0700
TZOFFSETTO:-0600
TZNAME:MDT
DTSTART:20250309T090000
END:DAYLIGHT
BEGIN:STANDARD
TZOFFSETFROM:-0600
TZOFFSETTO:-0700
TZNAME:MST
DTSTART:20251102T080000
END:STANDARD
BEGIN:DAYLIGHT
TZOFFSETFROM:-0700
TZOFFSETTO:-0600
TZNAME:MDT
DTSTART:20260308T090000
END:DAYLIGHT
BEGIN:STANDARD
TZOFFSETFROM:-0600
TZOFFSETTO:-0700
TZNAME:MST
DTSTART:20261101T080000
END:STANDARD
END:VTIMEZONE
BEGIN:VEVENT
DTSTART;VALUE=DATE:20250628
DTEND;VALUE=DATE:20250629
DTSTAMP:20260425T111434
CREATED:20250507T210959Z
LAST-MODIFIED:20250507T213950Z
UID:10000256-1751068800-1751155199@avidcyclist.com
SUMMARY:Coast to Coast Gravel Grinder
DESCRIPTION:Michigan’s Coast to Coast Gravel Grinder\nJune 28\, 2025 \n204 miles from Au Gres on Lake Huron to Ludington on Lake Michigan or…\n\n100 mile loop from Ludington to the Manistee National Forest and back \n“Coast to Coast has changed my life. It has been the pivotal moment of every year for me since 2018… You treat riders like friends and family and it’s commendable.” -Nick L \n“I’m so in love with this event.” -Kelly S. \nRace the setting sun as you cross the mighty Mitten on bicycle – from coast to stunning freshwater coast. In pursuit of rugged adventure\, we discovered a route that stitches together fast gravel roads and signature two-tracks\, spanning Michigan’s lower peninsula. With heart pumping challenges and breathtaking views\, the course is the only one on Earth that links two freshwater oceans… and it’s waiting for you. \nStart your day at the sunrise shores of Lake Huron. Make one all-out push west\, 204 miles through Michigan farmlands and grasslands\, rolling hardwoods\, the majestic Manistee National Forest\, all the way to the sandy beaches of Lake Michigan at Ludington. Or try our challenging 100-mile Ludington-Manistee National Forest loop. \nIf Michigan is America’s high five\, the Coast to Coast Gravel Grinder is how you earn it. \nSo much good information on this site\, but once you read through it\, be sure to join our Facebook community page and ask questions from the racers who’ve already experienced the adventure! \nCoast to Coast is traditionally the 4th Saturday in June each year\, but dates may change.
URL:https://avidcyclist.com/event/coast-to-coast-gravel-grinder/
CATEGORIES:Gravel
ATTACH;FMTTYPE=image/png:https://avidcyclist.com/wp-content/uploads/Coast-to-Coast-Gravel-Grinder.png
END:VEVENT
END:VCALENDAR