BEGIN:VCALENDAR
VERSION:2.0
PRODID:-//Avid Cyclist - ECPv6.15.19//NONSGML v1.0//EN
CALSCALE:GREGORIAN
METHOD:PUBLISH
X-ORIGINAL-URL:https://avidcyclist.com
X-WR-CALDESC:Events for Avid Cyclist
REFRESH-INTERVAL;VALUE=DURATION:PT1H
X-Robots-Tag:noindex
X-PUBLISHED-TTL:PT1H
BEGIN:VTIMEZONE
TZID:America/Denver
BEGIN:DAYLIGHT
TZOFFSETFROM:-0700
TZOFFSETTO:-0600
TZNAME:MDT
DTSTART:20250309T090000
END:DAYLIGHT
BEGIN:STANDARD
TZOFFSETFROM:-0600
TZOFFSETTO:-0700
TZNAME:MST
DTSTART:20251102T080000
END:STANDARD
BEGIN:DAYLIGHT
TZOFFSETFROM:-0700
TZOFFSETTO:-0600
TZNAME:MDT
DTSTART:20260308T090000
END:DAYLIGHT
BEGIN:STANDARD
TZOFFSETFROM:-0600
TZOFFSETTO:-0700
TZNAME:MST
DTSTART:20261101T080000
END:STANDARD
BEGIN:DAYLIGHT
TZOFFSETFROM:-0700
TZOFFSETTO:-0600
TZNAME:MDT
DTSTART:20270314T090000
END:DAYLIGHT
BEGIN:STANDARD
TZOFFSETFROM:-0600
TZOFFSETTO:-0700
TZNAME:MST
DTSTART:20271107T080000
END:STANDARD
END:VTIMEZONE
BEGIN:VEVENT
DTSTART;VALUE=DATE:20260502
DTEND;VALUE=DATE:20260503
DTSTAMP:20260424T130238
CREATED:20251118T151916Z
LAST-MODIFIED:20251118T153306Z
UID:10000436-1777680000-1777766399@avidcyclist.com
SUMMARY:Oregon Coast Gravel Epic
DESCRIPTION:Start your season with this epic Pacific Northwest spring classic at the coast. This gravel cycling event showcases the raw beauty of ancient Siuslaw National Forests and is geared towards the enthusiast cyclist looking for a well-marked and supported event. A good day of gravel riding with friends amid an enchanting forest is in store on the Oregon Coast. \nStaging from the charming town of Waldport\, Oregon\, our meticulously crafted routes consist of a perfect blend of 65% unpaved logging roads (which happen to be our absolute favorite\, by the way!) and 35% smooth pavement. Brace yourself for an extraordinary adventure as you immerse yourself in the breathtaking beauty that gets better with every turn. \nTake on the 60-mile Abomination or the 37-mile Son of Abomination route. New for 2026 is the Uncle Abomination for 49.4 miles to spice things up. There’s also the opportunity to make it a double-header weekend with the West Coast Gravel event on Sunday in Yachats\, only 8.5 miles south. Don’t miss out on this incredible opportunity to embrace the true essence of spring in the Pacific Northwest. Join us and let the magic of this coastal gem leave an indelible mark on your cycling experience.
URL:https://avidcyclist.com/event/oregon-coast-gravel-epic/
LOCATION:Waldport\, Oregon\, Waldport\, Oregon
CATEGORIES:Gravel,Race,Ride
ATTACH;FMTTYPE=image/png:https://avidcyclist.com/wp-content/uploads/oregon-coast-gravel-epic.png
ORGANIZER;CN="Mudslinger Events":MAILTO:mike@mudslingerevents.com
END:VEVENT
BEGIN:VEVENT
DTSTART;VALUE=DATE:20260503
DTEND;VALUE=DATE:20260504
DTSTAMP:20260424T130238
CREATED:20251118T153047Z
LAST-MODIFIED:20251118T153208Z
UID:10000437-1777766400-1777852799@avidcyclist.com
SUMMARY:West Coast Gravel
DESCRIPTION:West Coast Gravel celebrates the explorer in all of us as you make your way to the shores of the Pacific and take on the Siuslaw National Forest’s unforgettable backroads for a journey that would make Thor or Freyja proud!\nThis second day of cycling after the Oregon Coast Gravel Epic sits only 9 miles from Waldport south on the 101 to the fantastic community of Yachats\, Oregon.\nThe event features the Erik the Red loop with 53 miles\, or choose the shorter and less graveled Leif Erikson route with 32 miles and less climbing.\nMost of the terrain is new to many riders and has a thrilling twist that has seldom seen a bike tire on.\nPlease note that\, like all events at Aid 1 and the course split\, you can customize your journey if you have signed up for the Erik the Red loop and ride shorter.\nRelax in Yachats at West Coast Gravel\n  \nAfter a day of adventure on Saturday at the Oregon Coast Gravel Epic this event 30 minutes or more quicker by time! \nEither route will leave you with a smile in Yachats! \n\n\nBring your 35MM or larger gravel bike or mountain bike and enjoy the views and scenery of the Oregon Coast. This event has ocean waves and ribbons of gravel to treat your bike to something special. \n\n\n\n  \nThe first weekend of May means we are in full swing to welcome you to Yachats\, Oregon to not only enjoy a great ride\, but to enjoy time friends and family who may be joining you for other activities while you pedal away.\n\n 
URL:https://avidcyclist.com/event/west-coast-gravel/
LOCATION:Yachats\, Oregon\, Yachats\, Oregon
CATEGORIES:Gravel,Race,Ride
ATTACH;FMTTYPE=image/png:https://avidcyclist.com/wp-content/uploads/west-coast-gravel.png
ORGANIZER;CN="Mudslinger Events":MAILTO:mike@mudslingerevents.com
END:VEVENT
BEGIN:VEVENT
DTSTART;VALUE=DATE:20260516
DTEND;VALUE=DATE:20260517
DTSTAMP:20260424T130238
CREATED:20250513T014504Z
LAST-MODIFIED:20251118T163516Z
UID:10000268-1778889600-1778975999@avidcyclist.com
SUMMARY:Oregon Gran Fondo
DESCRIPTION:Road Cycling at its finest! \nOne big day on the bike\, no matter your level\, for two all-road routes starting in Cottage Grove\, Oregon\, 20 Minutes south of Eugene. \nTimed\, supported\, and fun whether you are racing it or simply riding it to finish.
URL:https://avidcyclist.com/event/oregon-gran-fondo/
LOCATION:Cottage Grove\, Oregon\, Cottage Grove\, Oregon
CATEGORIES:Fondo,Race,Ride,Road
ATTACH;FMTTYPE=image/jpeg:https://avidcyclist.com/wp-content/uploads/Oregon-Grand-Fondo.jpg
ORGANIZER;CN="Mudslinger Events":MAILTO:mike@mudslingerevents.com
END:VEVENT
BEGIN:VEVENT
DTSTART;VALUE=DATE:20260524
DTEND;VALUE=DATE:20260525
DTSTAMP:20260424T130238
CREATED:20251118T184847Z
LAST-MODIFIED:20251118T184847Z
UID:10000446-1779580800-1779667199@avidcyclist.com
SUMMARY:Sisters Stampede
DESCRIPTION:Welcome to Sisters Country and the Sisters Stampede! Est 2010 \nFounded off the spirit of adventure and the generosity of the community of Sisters\, Oregon we embrace the excitment of racing mountain bikes from ages 9-70+ \nThis annual memorial weekend mountain bike now staging from Blazin Saddles Bike Shop draws a maximum allowed by a permit of 500 riders and features the Peterson Ridge Trail System. \nWhat sets this event apart is the racers and families that come to Sisters for the first time or an annual pilgrimage. \nCome for the fun\, fast racing and spend the weekend with us! \nThanks to the community\, Forest Service\, Landowners\, and sponsors for making this event possible. \nSee you at the Sisters Stampede Memorial Weekend 2024! \nGiddy up! \nLIVE RESULTS! SEE LINK IN HEADER! \n\n\nDid you know you can transfer your entry through bike reg up until 7 days before the event for 10.00. You can make arrangements on your own how you want to get paid from your friend. \nCheck Mudslinger Events Credit Policy for 2026 \nPlease remember to purchase the Bike Registration Event protection through Allianz if the product meets your needs \nMudslinger Events does not offer refunds.
URL:https://avidcyclist.com/event/sisters-stampede/
CATEGORIES:Mountain,Mountain Bike,Race,Ride
ATTACH;FMTTYPE=image/png:https://avidcyclist.com/wp-content/uploads/sisters-stampede.png
ORGANIZER;CN="Mudslinger Events":MAILTO:mike@mudslingerevents.com
END:VEVENT
BEGIN:VEVENT
DTSTART;VALUE=DATE:20260627
DTEND;VALUE=DATE:20260628
DTSTAMP:20260424T130238
CREATED:20250610T151802Z
LAST-MODIFIED:20251120T162317Z
UID:10000315-1782518400-1782604799@avidcyclist.com
SUMMARY:Takelma Gravel Grinder
DESCRIPTION:About the Ride\n\n\n\n\n\n\nSeven Feathers Casino Resort\, nestled among tall Douglas firs and pine trees\, just off of Interstate 5\, at exit 99\, in Canyonville\, Oregon\, is the beginning of the Takelma Gravel Grinder. \nThe 57-mile Takema Tough Bold ride begins by taking riders through the doors of the casino before rolling towards the town of Canyonville and onto rural\, Tiller Trail Highway.  Passing farm and ranch landscapes along the South Umpqua River\, soon you’re into the gravel experience with a 1.3 mile climbing effort of 9% average gain\, then cresting to a spectacular valley view of Days Creek. \nRiders continue on towards Chief Miwaleta Park and along the scenic view of Galesville Reservoir. Returning to Seven Feathers Casino Resort to relax at Seven Feathers’ Wine Fest\, enjoying food and beverage from the Seven Feathers Food Truck\, compliments of the race organizers.
URL:https://avidcyclist.com/event/takelma-gravel-grinder/
LOCATION:Canyonville\, Oregon\, Canyonville\, Oregon
CATEGORIES:Gravel,Race
ATTACH;FMTTYPE=image/png:https://avidcyclist.com/wp-content/uploads/takelma-gravel-grinder.png
ORGANIZER;CN="Mudslinger Events":MAILTO:mike@mudslingerevents.com
END:VEVENT
BEGIN:VEVENT
DTSTART;VALUE=DATE:20260711
DTEND;VALUE=DATE:20260712
DTSTAMP:20260424T130238
CREATED:20251202T174918Z
LAST-MODIFIED:20251202T174918Z
UID:10000466-1783728000-1783814399@avidcyclist.com
SUMMARY:Bend Dirt Fest
DESCRIPTION:Join us in Bend\, Oregon for the Bend Dirt Fest\, a dirt-filled celebration of endurance and community—brought to you by Mudslinger Events and presented by Bicycle Accident Law. \nChoose your challenge: MTB\, Gravel at 8am\, or Trail Run\, all starting from the Athletic Club of Bend at 8:45 AM. \nGo solo or team up with two or three friends for a shot at team glory—funky team names encouraged! \nEnjoy finisher and age-group awards\, live music\, and cold brews from 10 Barrel Brewing as we wrap up the day with a party worthy of Bend’s outdoor spirit.
URL:https://avidcyclist.com/event/bend-dirt-fest/
LOCATION:Bend\, Oregon\, Bend\, Oregon
CATEGORIES:Gravel,Mountain,Mountain Bike,Race,Ride
ATTACH;FMTTYPE=image/png:https://avidcyclist.com/wp-content/uploads/bend-dirt-fest.png
ORGANIZER;CN="Mudslinger Events":MAILTO:mike@mudslingerevents.com
END:VEVENT
BEGIN:VEVENT
DTSTART;VALUE=DATE:20260718
DTEND;VALUE=DATE:20260719
DTSTAMP:20260424T130238
CREATED:20251202T190124Z
LAST-MODIFIED:20251202T200708Z
UID:10000470-1784332800-1784419199@avidcyclist.com
SUMMARY:High Cascades 100
DESCRIPTION:The 15th annual High Cascades 100 2026 is a classic endurance mountain Bike race in the mountain mecca of Bend\, Oregon. Mudslinger Events produces the race and is part of the National Ultra Endurance Series.  The High Cascades 100 2026 is Mudslinger’s pinnacle MTB event at 100 miles and just under 10\,000 feet of elevation gain.
URL:https://avidcyclist.com/event/high-cascades-100/
LOCATION:Bend\, Oregon\, Bend\, Oregon
CATEGORIES:Mountain,Mountain Bike,Race
ATTACH;FMTTYPE=image/png:https://avidcyclist.com/wp-content/uploads/high-cascades.png
ORGANIZER;CN="Mudslinger Events":MAILTO:mike@mudslingerevents.com
END:VEVENT
BEGIN:VEVENT
DTSTART;VALUE=DATE:20260808
DTEND;VALUE=DATE:20260809
DTSTAMP:20260424T130238
CREATED:20251208T182627Z
LAST-MODIFIED:20251208T182627Z
UID:10000492-1786147200-1786233599@avidcyclist.com
SUMMARY:Oregon 6-Hour MTB
DESCRIPTION:The predecessor event to the highly popular Oregon 24/12\, which was cancelled in 2024 due to licensing issues. Acclaimed producer Mudslinger Events produces the event\, which takes place at the Alsea Falls Recreation Area near Monroe\, Oregon.  This event offers solo and duo team categories\, challenging participants to complete as many laps as possible within six hours.  The first lap covers 10 miles with 1\,800 feet of climbing\, featuring a mix of singletrack\, double track\, and a paved climb. Subsequent laps are 7 miles each with 950 feet of elevation gain\, designed to maintain momentum throughout the event.
URL:https://avidcyclist.com/event/oregon-6-hour-mtb/
LOCATION:Monroe\, Oregon\, Monroe\, Oregon
CATEGORIES:Mountain Bike,Race
ATTACH;FMTTYPE=image/jpeg:https://avidcyclist.com/wp-content/uploads/oregon-6.jpg
ORGANIZER;CN="Mudslinger Events":MAILTO:mike@mudslingerevents.com
END:VEVENT
BEGIN:VEVENT
DTSTART;VALUE=DATE:20260926
DTEND;VALUE=DATE:20260927
DTSTAMP:20260424T130238
CREATED:20251202T175753Z
LAST-MODIFIED:20251202T175753Z
UID:10000467-1790380800-1790467199@avidcyclist.com
SUMMARY:Ring of Fire
DESCRIPTION:50 MILES TO END THE MTB SEASON IN BEAUTIFUL BEND\, OREGON!\nPart of the NUE Series Marathon Schedule 
URL:https://avidcyclist.com/event/ring-of-fire/
LOCATION:Bend\, Oregon\, Bend\, Oregon
CATEGORIES:Mountain Bike,Race,Ride
ATTACH;FMTTYPE=image/jpeg:https://avidcyclist.com/wp-content/uploads/ring-of-fire.jpg
ORGANIZER;CN="Mudslinger Events":MAILTO:mike@mudslingerevents.com
END:VEVENT
END:VCALENDAR