BEGIN:VCALENDAR
VERSION:2.0
PRODID:-//Avid Cyclist - ECPv6.15.19//NONSGML v1.0//EN
CALSCALE:GREGORIAN
METHOD:PUBLISH
X-WR-CALNAME:Avid Cyclist
X-ORIGINAL-URL:https://avidcyclist.com
X-WR-CALDESC:Events for Avid Cyclist
REFRESH-INTERVAL;VALUE=DURATION:PT1H
X-Robots-Tag:noindex
X-PUBLISHED-TTL:PT1H
BEGIN:VTIMEZONE
TZID:America/Denver
BEGIN:DAYLIGHT
TZOFFSETFROM:-0700
TZOFFSETTO:-0600
TZNAME:MDT
DTSTART:20240310T090000
END:DAYLIGHT
BEGIN:STANDARD
TZOFFSETFROM:-0600
TZOFFSETTO:-0700
TZNAME:MST
DTSTART:20241103T080000
END:STANDARD
BEGIN:DAYLIGHT
TZOFFSETFROM:-0700
TZOFFSETTO:-0600
TZNAME:MDT
DTSTART:20250309T090000
END:DAYLIGHT
BEGIN:STANDARD
TZOFFSETFROM:-0600
TZOFFSETTO:-0700
TZNAME:MST
DTSTART:20251102T080000
END:STANDARD
BEGIN:DAYLIGHT
TZOFFSETFROM:-0700
TZOFFSETTO:-0600
TZNAME:MDT
DTSTART:20260308T090000
END:DAYLIGHT
BEGIN:STANDARD
TZOFFSETFROM:-0600
TZOFFSETTO:-0700
TZNAME:MST
DTSTART:20261101T080000
END:STANDARD
END:VTIMEZONE
BEGIN:VEVENT
DTSTART;TZID=America/Denver:20250601T070000
DTEND;TZID=America/Denver:20250601T130000
DTSTAMP:20260422T160652
CREATED:20250513T024338Z
LAST-MODIFIED:20250513T024338Z
UID:10000273-1748761200-1748782800@avidcyclist.com
SUMMARY:Rio Bravo Gravel Grind
DESCRIPTION:Event description\n\n\n\n\n\n\n\n\nThe Rio Bravo Gravel Grind is a gravel race in El Paso\, Texas. The venue is at Mary Frances Keisling Park. Our race will be held rain or shine on Sunday\, June 1\, 2025. While this is a race\, it’s also time to admire all the beautiful scenery around the westside of El Paso! \nCATEGORIES: \n\n\n\n\n\nBeginners/Juniors (one loop~29 miles)\nIntermediates (two loops~58 miles)\nExperts (three loops~87 mile)\n\n\n\n\n\n\n\n\n\n\n\n\n\n\n\n\nDates\n\n\n\n\n\n\nFRIDAY\, MAY 31 \nPacket Pick-up at Border Bicycle \nSUNDAY\, June 2 \n6:30am  –  Racers Meeting \n7:00am  –  Race Start \n1:00pm – Podium Awards \n\n\n\n\n\n\n\n\n\n\nThe Course\n\n\n\n\n\n\nThe course is about thirty miles in length\, and will have you ride through gravel\, hard dirt\, soft sand\, canals\, levees\, and minimal paved streets. \n\n\n\n\n\n\n\n\n\n\nAid Stations / Food\n\n\n\n\n\n\nIt is going to be hot\, so please be prepared by bringing enough hydration for the event you will be competing in. We will have a total of three hydration/aid stations where you can hydrate or refill. \nFood vendors will be present at the venue.
URL:https://avidcyclist.com/event/rio-bravo-gravel-grind/
LOCATION:El Paso\, Texas\, El Paso\, TX
CATEGORIES:Gravel,Race,Ride
ATTACH;FMTTYPE=image/png:https://avidcyclist.com/wp-content/uploads/Rio-Bravo-Gravel-Grind.png
END:VEVENT
END:VCALENDAR