BEGIN:VCALENDAR
VERSION:2.0
PRODID:-//Avid Cyclist - ECPv6.15.19//NONSGML v1.0//EN
CALSCALE:GREGORIAN
METHOD:PUBLISH
X-ORIGINAL-URL:https://avidcyclist.com
X-WR-CALDESC:Events for Avid Cyclist
REFRESH-INTERVAL;VALUE=DURATION:PT1H
X-Robots-Tag:noindex
X-PUBLISHED-TTL:PT1H
BEGIN:VTIMEZONE
TZID:America/Denver
BEGIN:DAYLIGHT
TZOFFSETFROM:-0700
TZOFFSETTO:-0600
TZNAME:MDT
DTSTART:20240310T090000
END:DAYLIGHT
BEGIN:STANDARD
TZOFFSETFROM:-0600
TZOFFSETTO:-0700
TZNAME:MST
DTSTART:20241103T080000
END:STANDARD
BEGIN:DAYLIGHT
TZOFFSETFROM:-0700
TZOFFSETTO:-0600
TZNAME:MDT
DTSTART:20250309T090000
END:DAYLIGHT
BEGIN:STANDARD
TZOFFSETFROM:-0600
TZOFFSETTO:-0700
TZNAME:MST
DTSTART:20251102T080000
END:STANDARD
BEGIN:DAYLIGHT
TZOFFSETFROM:-0700
TZOFFSETTO:-0600
TZNAME:MDT
DTSTART:20260308T090000
END:DAYLIGHT
BEGIN:STANDARD
TZOFFSETFROM:-0600
TZOFFSETTO:-0700
TZNAME:MST
DTSTART:20261101T080000
END:STANDARD
END:VTIMEZONE
BEGIN:VEVENT
DTSTART;VALUE=DATE:20250920
DTEND;VALUE=DATE:20250923
DTSTAMP:20260425T071739
CREATED:20250319T042649Z
LAST-MODIFIED:20250319T150423Z
UID:10000067-1758326400-1758585599@avidcyclist.com
SUMMARY:Skinny Tire Fall Festival - Utah
DESCRIPTION:September 20th – 22nd\, 2025\nJoin us for our inaugural Skinny Tire FALL Festival – A NEW 3-day cycling event in Moab with incredible routes worth training for! \nThis 3-day fall cycling event includes: \n\n\nDead Horse Point State Park – Pending permit approval \n\n\nBull Canyon Overlook \n\n\nCycling along the Colorado River \n\n\nJoin us in September when temperatures cool down\, the fall foliage comes alive\, and cyclists from across the country unite in red rock country to experience awe-inspiring landscapes. \nThis brand new three-day event will showcase to riders Moab’s full geographical beauty. Saturday we ride as a group to Bull Canyon Overlook via the quaint town of Castle Valley. A crowd favorite from last year’s Moab Century Tour! On day 2\, we keep the elevation gain a little lower\, but the breathtaking views sky-high\, as we ride the River Portal route along the Colorado River. On Day 3 we have saved the best for last\, as we climb up Highway 313\, atop the Mesa\, and ride into Dead Horse Point State Park (pending permit approval). \nFrom your saddle you embrace the landscape\, feeling the contours as gravity tugs on your tires\, challenging you to climb and daring you to descend. You’ll appreciate the grand scale of this place once you’ve ventured far from town under your own ‘skinny’ power\, and down byways known only to a lucky few.
URL:https://avidcyclist.com/event/skinny-tire-fall-festival-utah/
LOCATION:Moab\, Utah\, Moab\, UT\, United States
CATEGORIES:Non-Profit Fund Raising Event,Ride,Road
ATTACH;FMTTYPE=image/png:https://avidcyclist.com/wp-content/uploads/Skinny-Tire-Fall-Festival-Featured-Image.png
ORGANIZER;CN="Skinny Tire Events":MAILTO:info@skinnytireevents.com
END:VEVENT
END:VCALENDAR