BEGIN:VCALENDAR
VERSION:2.0
PRODID:-//Avid Cyclist - ECPv6.15.19//NONSGML v1.0//EN
CALSCALE:GREGORIAN
METHOD:PUBLISH
X-WR-CALNAME:Avid Cyclist
X-ORIGINAL-URL:https://avidcyclist.com
X-WR-CALDESC:Events for Avid Cyclist
REFRESH-INTERVAL;VALUE=DURATION:PT1H
X-Robots-Tag:noindex
X-PUBLISHED-TTL:PT1H
BEGIN:VTIMEZONE
TZID:America/Denver
BEGIN:DAYLIGHT
TZOFFSETFROM:-0700
TZOFFSETTO:-0600
TZNAME:MDT
DTSTART:20240310T090000
END:DAYLIGHT
BEGIN:STANDARD
TZOFFSETFROM:-0600
TZOFFSETTO:-0700
TZNAME:MST
DTSTART:20241103T080000
END:STANDARD
BEGIN:DAYLIGHT
TZOFFSETFROM:-0700
TZOFFSETTO:-0600
TZNAME:MDT
DTSTART:20250309T090000
END:DAYLIGHT
BEGIN:STANDARD
TZOFFSETFROM:-0600
TZOFFSETTO:-0700
TZNAME:MST
DTSTART:20251102T080000
END:STANDARD
BEGIN:DAYLIGHT
TZOFFSETFROM:-0700
TZOFFSETTO:-0600
TZNAME:MDT
DTSTART:20260308T090000
END:DAYLIGHT
BEGIN:STANDARD
TZOFFSETFROM:-0600
TZOFFSETTO:-0700
TZNAME:MST
DTSTART:20261101T080000
END:STANDARD
END:VTIMEZONE
BEGIN:VEVENT
DTSTART;VALUE=DATE:20250809
DTEND;VALUE=DATE:20250810
DTSTAMP:20260425T050912
CREATED:20250610T161431Z
LAST-MODIFIED:20250610T161442Z
UID:10000321-1754697600-1754783999@avidcyclist.com
SUMMARY:Stonewall Century Ride
DESCRIPTION:About the Ride\nThe Stonewall Century is a challenging road bike ride along one of Colorado’s most beautiful scenic highways. We welcome you to come and enjoy some of the best road riding in Southern Colorado. \nCan you make the grade?\n\n\n\n\n\n\n\n102 miles\n+7500 ft elevation gain\nThis is an out-and-back ride. Turn around wherever you like and head back to the party in La Veta\nStart/end in La Veta\nStart time: 6:30 am – 8:30 am\nRide along beautiful Colorado State Highway 12 to Segundo and back\nRegistration fee covers 7 SAG stations (including a mid-ride lunch stop)\, mechanical assistance\, a post-ride barbecue\, t-shirt and more\nClick here for the Route And Profile map. Note\, the route and profile are in pdf file format\, which your can read using Acrobat Reader. (Click here to download Adobe Acrobat Reader (external link).)\n\n\n\n\n\n\n\n\n\n\n\n\n\nJoin us in August\, and you’ll be treated to scenic vistas\, friendly volunteers\, great feed stations\, and steep hills. The route follows Highway 12\, a Colorado Scenic Byway known as the “Highway of Legends”. You’ll start in La Veta at 7\,013 ft elevation\, climb to the top of Cucharas Pass (9\,945 ft)\, descend to 8\,400 ft then climb to the second feed station at North Lake (8\,600 ft). The route descends to the beautiful town of Stonewall and on to the lunch stop in Segundo\, where the route reverses and returns\, climbing along Highway 12. You’ll encounter the back side of Cucharas Pass\, which some have called the “Soul Crusher” at 83 miles into the 102-mile ride.
URL:https://avidcyclist.com/event/stonewall-century-ride/
CATEGORIES:Ride,Road
ATTACH;FMTTYPE=image/jpeg:https://avidcyclist.com/wp-content/uploads/stonewall-century-ride.jpg
ORGANIZER;CN="Spanish Peaks Cycling":MAILTO:info@spcycling.com
END:VEVENT
END:VCALENDAR