BEGIN:VCALENDAR
VERSION:2.0
PRODID:-//Avid Cyclist - ECPv6.15.19//NONSGML v1.0//EN
CALSCALE:GREGORIAN
METHOD:PUBLISH
X-WR-CALNAME:Avid Cyclist
X-ORIGINAL-URL:https://avidcyclist.com
X-WR-CALDESC:Events for Avid Cyclist
REFRESH-INTERVAL;VALUE=DURATION:PT1H
X-Robots-Tag:noindex
X-PUBLISHED-TTL:PT1H
BEGIN:VTIMEZONE
TZID:America/Denver
BEGIN:DAYLIGHT
TZOFFSETFROM:-0700
TZOFFSETTO:-0600
TZNAME:MDT
DTSTART:20240310T090000
END:DAYLIGHT
BEGIN:STANDARD
TZOFFSETFROM:-0600
TZOFFSETTO:-0700
TZNAME:MST
DTSTART:20241103T080000
END:STANDARD
BEGIN:DAYLIGHT
TZOFFSETFROM:-0700
TZOFFSETTO:-0600
TZNAME:MDT
DTSTART:20250309T090000
END:DAYLIGHT
BEGIN:STANDARD
TZOFFSETFROM:-0600
TZOFFSETTO:-0700
TZNAME:MST
DTSTART:20251102T080000
END:STANDARD
BEGIN:DAYLIGHT
TZOFFSETFROM:-0700
TZOFFSETTO:-0600
TZNAME:MDT
DTSTART:20260308T090000
END:DAYLIGHT
BEGIN:STANDARD
TZOFFSETFROM:-0600
TZOFFSETTO:-0700
TZNAME:MST
DTSTART:20261101T080000
END:STANDARD
END:VTIMEZONE
BEGIN:VEVENT
DTSTART;TZID=America/Denver:20251005T080000
DTEND;TZID=America/Denver:20251005T170000
DTSTAMP:20260424T145749
CREATED:20250929T173908Z
LAST-MODIFIED:20250929T182010Z
UID:10000381-1759651200-1759683600@avidcyclist.com
SUMMARY:Mt. Diablo Challenge
DESCRIPTION:The 42nd Mt. Diablo Challenge\nPresented by the Valley Spokesmen Bicycle Club​\n\n\nWe are pleased to announce that the 42nd Mt. Diablo Challenge Ride will be held on Sunday\, October 5\, 2025​ \nThe 11.2-mile\, individually timed ride climbs 3\,249 feet to the summit of Mt. Diablo starting up South Gate Road. Mt. Diablo is one of the highest peaks in the San Francisco Bay Area\, with views of the Farallon Islands and the Sierras. The road is closed for safety and more than 800 cyclists will ride to the summit. The ride welcomes all ages\, abilities\, teams\, and bicycle types. It will be a once-a-year opportunity to enjoy riding the mountain without cars. Everyone celebrates after the ride with free BBQ\, prizes\, awards\, and live music. All registrants receive a complimentary t-shirt to commemorate the event. You can also purchase a jersey by clicking here: Come participate in this epic ride that provides breathtaking scenery and test your climbing ability. You can register for the event here:
URL:https://avidcyclist.com/event/mt-diablo-challenge/
LOCATION:San Francisco\, California\, San Francisco\, California
CATEGORIES:Race,Ride,Road
ATTACH;FMTTYPE=image/png:https://avidcyclist.com/wp-content/uploads/mt-diablo.png
END:VEVENT
END:VCALENDAR