BEGIN:VCALENDAR
VERSION:2.0
PRODID:-//Avid Cyclist - ECPv6.15.19//NONSGML v1.0//EN
CALSCALE:GREGORIAN
METHOD:PUBLISH
X-WR-CALNAME:Avid Cyclist
X-ORIGINAL-URL:https://avidcyclist.com
X-WR-CALDESC:Events for Avid Cyclist
REFRESH-INTERVAL;VALUE=DURATION:PT1H
X-Robots-Tag:noindex
X-PUBLISHED-TTL:PT1H
BEGIN:VTIMEZONE
TZID:America/Denver
BEGIN:DAYLIGHT
TZOFFSETFROM:-0700
TZOFFSETTO:-0600
TZNAME:MDT
DTSTART:20250309T090000
END:DAYLIGHT
BEGIN:STANDARD
TZOFFSETFROM:-0600
TZOFFSETTO:-0700
TZNAME:MST
DTSTART:20251102T080000
END:STANDARD
BEGIN:DAYLIGHT
TZOFFSETFROM:-0700
TZOFFSETTO:-0600
TZNAME:MDT
DTSTART:20260308T090000
END:DAYLIGHT
BEGIN:STANDARD
TZOFFSETFROM:-0600
TZOFFSETTO:-0700
TZNAME:MST
DTSTART:20261101T080000
END:STANDARD
BEGIN:DAYLIGHT
TZOFFSETFROM:-0700
TZOFFSETTO:-0600
TZNAME:MDT
DTSTART:20270314T090000
END:DAYLIGHT
BEGIN:STANDARD
TZOFFSETFROM:-0600
TZOFFSETTO:-0700
TZNAME:MST
DTSTART:20271107T080000
END:STANDARD
END:VTIMEZONE
BEGIN:VEVENT
DTSTART;TZID=America/Denver:20260517T080000
DTEND;TZID=America/Denver:20260517T170000
DTSTAMP:20260425T054953
CREATED:20251118T162440Z
LAST-MODIFIED:20251118T162845Z
UID:10000442-1779004800-1779037200@avidcyclist.com
SUMMARY:Storming of Thunder Ridge
DESCRIPTION:Join us on May 17\, 2026\, for the 17th annual Storming of Thunder Ridge\, a breathtaking ride through the Blue Ridge Mountains of Central Virginia. Choose from routes ranging from 27 to 100 miles\, each offering camaraderie\, scenic views\, and a challenge fit for every rider. Whether tackling the rolling hills or conquering the 13-mile ascent to Apple Orchard Mountain\, this ride is fully supported with rest stops\, SAG support\, and cue sheets. Proceeds benefit the YMCA of Central Virginia’s Annual Fund\, helping ensure that no one is turned away due to financial hardship.
URL:https://avidcyclist.com/event/storming-of-thunder-ridge/
LOCATION:Lynchburg\, VA\, Lynchburg\, VA
CATEGORIES:Race,Ride,Road
ATTACH;FMTTYPE=image/jpeg:https://avidcyclist.com/wp-content/uploads/storming-of-thunder-ridge.jpg
END:VEVENT
END:VCALENDAR