BEGIN:VCALENDAR
VERSION:2.0
PRODID:-//Avid Cyclist - ECPv6.15.19//NONSGML v1.0//EN
CALSCALE:GREGORIAN
METHOD:PUBLISH
X-ORIGINAL-URL:https://avidcyclist.com
X-WR-CALDESC:Events for Avid Cyclist
REFRESH-INTERVAL;VALUE=DURATION:PT1H
X-Robots-Tag:noindex
X-PUBLISHED-TTL:PT1H
BEGIN:VTIMEZONE
TZID:America/Denver
BEGIN:DAYLIGHT
TZOFFSETFROM:-0700
TZOFFSETTO:-0600
TZNAME:MDT
DTSTART:20250309T090000
END:DAYLIGHT
BEGIN:STANDARD
TZOFFSETFROM:-0600
TZOFFSETTO:-0700
TZNAME:MST
DTSTART:20251102T080000
END:STANDARD
BEGIN:DAYLIGHT
TZOFFSETFROM:-0700
TZOFFSETTO:-0600
TZNAME:MDT
DTSTART:20260308T090000
END:DAYLIGHT
BEGIN:STANDARD
TZOFFSETFROM:-0600
TZOFFSETTO:-0700
TZNAME:MST
DTSTART:20261101T080000
END:STANDARD
BEGIN:DAYLIGHT
TZOFFSETFROM:-0700
TZOFFSETTO:-0600
TZNAME:MDT
DTSTART:20270314T090000
END:DAYLIGHT
BEGIN:STANDARD
TZOFFSETFROM:-0600
TZOFFSETTO:-0700
TZNAME:MST
DTSTART:20271107T080000
END:STANDARD
END:VTIMEZONE
BEGIN:VEVENT
DTSTART;VALUE=DATE:20260425
DTEND;VALUE=DATE:20260427
DTSTAMP:20260424T043644
CREATED:20251113T183220Z
LAST-MODIFIED:20251113T183220Z
UID:10000431-1777075200-1777247999@avidcyclist.com
SUMMARY:Whiskey Tango Fondo
DESCRIPTION:RIDER INCLUSIONS\nRiders will be provided sufficient climbs\, kick ass scenery\, WTF Survival Kit\, drinks\, food\, suffering and surprises to ensure an unforgettable experience. You’re welcome. \nABOUT THE ALABAMA HILLS\nThe Alabama Hills\, nestled in the foothills of the Sierra Nevada just west of Lone Pine\, is one of old Hollywood’s favorite filming locations. The beautiful rock formations of the hills bordered by a vast open plain rising majestically to the snow capped mountains beyond has been a prime filming location for westerns since the early 1900s. \n\n\n\nROUTES\nIncludes challenging but not overly-technical gravel terrain\, and three distance options with up to 11\,750+ feet of elevation gain. Options friendly enough for first-timers\, but epic enough for even the most seasoned pioneer. \n\n\n\n\n\n\n\nWTF 100\n\n\n\n\n\n\nWTF 70\n\n\n\n\n\n\nWTF 50\n\n\n\n\n\n\n\n*Routes subject to change. Extreme weather\, road closures\, rockfalls\, flooding & more may affect routes but don’t you worry. \n\n\n\n\n\n\nHIGHLIGHTS\nEnd to end\, Whitney Portal Rd is 13 miles (22 km) topping out at an elevation of 8\,374 feet (2\,552 m). Whitney Portal is the gateway to Mt. Whitney\, the highest point in the contiguous United States. Also\, the trailhead for mountaineering routes such as the East Face (Mount Whitney)\, first climbed in 1931\, and the Mountaineer’s Route\, first climbed by John Muir in 1873.
URL:https://avidcyclist.com/event/whiskey-tango-fondo/
LOCATION:Alabama Hills\, California\, Alabama Hills\, California
CATEGORIES:Fondo,Race,Ride,Road
ATTACH;FMTTYPE=image/png:https://avidcyclist.com/wp-content/uploads/whiskey-tango-fondo.png
END:VEVENT
END:VCALENDAR