BEGIN:VCALENDAR
VERSION:2.0
PRODID:-//Avid Cyclist - ECPv6.15.19//NONSGML v1.0//EN
CALSCALE:GREGORIAN
METHOD:PUBLISH
X-ORIGINAL-URL:https://avidcyclist.com
X-WR-CALDESC:Events for Avid Cyclist
REFRESH-INTERVAL;VALUE=DURATION:PT1H
X-Robots-Tag:noindex
X-PUBLISHED-TTL:PT1H
BEGIN:VTIMEZONE
TZID:America/Denver
BEGIN:DAYLIGHT
TZOFFSETFROM:-0700
TZOFFSETTO:-0600
TZNAME:MDT
DTSTART:20240310T090000
END:DAYLIGHT
BEGIN:STANDARD
TZOFFSETFROM:-0600
TZOFFSETTO:-0700
TZNAME:MST
DTSTART:20241103T080000
END:STANDARD
BEGIN:DAYLIGHT
TZOFFSETFROM:-0700
TZOFFSETTO:-0600
TZNAME:MDT
DTSTART:20250309T090000
END:DAYLIGHT
BEGIN:STANDARD
TZOFFSETFROM:-0600
TZOFFSETTO:-0700
TZNAME:MST
DTSTART:20251102T080000
END:STANDARD
BEGIN:DAYLIGHT
TZOFFSETFROM:-0700
TZOFFSETTO:-0600
TZNAME:MDT
DTSTART:20260308T090000
END:DAYLIGHT
BEGIN:STANDARD
TZOFFSETFROM:-0600
TZOFFSETTO:-0700
TZNAME:MST
DTSTART:20261101T080000
END:STANDARD
END:VTIMEZONE
BEGIN:VEVENT
DTSTART;VALUE=DATE:20251003
DTEND;VALUE=DATE:20251005
DTSTAMP:20260425T055344
CREATED:20250929T163100Z
LAST-MODIFIED:20250929T163100Z
UID:10000376-1759449600-1759622399@avidcyclist.com
SUMMARY:Belgian Waffle Ride North Carolina
DESCRIPTION:Welkom to the fifth Annual Belgian Waffle Ride NC\, which will take place on October 4 near Asheville\, which is an incredible destination that has recently been severely impacted by Hurricane Helene. We will be working with local groups to address the course and property damage that has happened and raise money for hurricane relief in the local community. \nThis year we are planning a shorter and less hilly route that still features so much of the area’s glorious greenery. The race will be the seventh and maybe hilliest of the Belgian Waffle Rides. Regardless of the length it ends up being in 2025\, there’ll be a fair bit of climbing\, earning it the title of THE HELL OF THE EAST. It’s probable the race will be run in hot and humid conditions\, compounding the difficulty of the dynamic Unroad sectors. \nCreated as an extremely challenging race in the spirit of the great European one-day Spring Classics\, the BWR\, with a Belgique theme\, is an unusually difficult Unroad Race. There are three distances on offer: The longer Waffle Ride\, the half as long Wafer Ride\, and for those looking to get a taste of the fun without the life-changing training commitment we’re offering the Wanna Ride. This fifth annual BWR NC event will have a deep field of professional riders and an expansive list of hungry amateur riders drawn to the unique opportunity to race alongside their heroes. \nThe BWR Unroad Expo promises to be a cool cycling party and is open to the public. A variety of beers reflecting the incredible brewing crafts of the region’s best brewers will be a featured attraction for this unique occasion. Attendees can peruse a wide range of offerings from event sponsors and over 40 vendors! Racers and event patrons will be treated to Belgian waffles and plenty of food options for attendees.
URL:https://avidcyclist.com/event/belgian-waffle-ride-north-carolina/
LOCATION:Asheville\, North Carolina\, Asheville\, North Carolina
CATEGORIES:Gravel,Race,Ride
ATTACH;FMTTYPE=image/png:https://avidcyclist.com/wp-content/uploads/belgian-waffle-ride-1.png
ORGANIZER;CN="Monuments of Cycling":MAILTO:info@monumentsofcycling.com
END:VEVENT
END:VCALENDAR