BEGIN:VCALENDAR
VERSION:2.0
PRODID:-//Avid Cyclist - ECPv6.15.19//NONSGML v1.0//EN
CALSCALE:GREGORIAN
METHOD:PUBLISH
X-ORIGINAL-URL:https://avidcyclist.com
X-WR-CALDESC:Events for Avid Cyclist
REFRESH-INTERVAL;VALUE=DURATION:PT1H
X-Robots-Tag:noindex
X-PUBLISHED-TTL:PT1H
BEGIN:VTIMEZONE
TZID:America/Denver
BEGIN:DAYLIGHT
TZOFFSETFROM:-0700
TZOFFSETTO:-0600
TZNAME:MDT
DTSTART:20250309T090000
END:DAYLIGHT
BEGIN:STANDARD
TZOFFSETFROM:-0600
TZOFFSETTO:-0700
TZNAME:MST
DTSTART:20251102T080000
END:STANDARD
BEGIN:DAYLIGHT
TZOFFSETFROM:-0700
TZOFFSETTO:-0600
TZNAME:MDT
DTSTART:20260308T090000
END:DAYLIGHT
BEGIN:STANDARD
TZOFFSETFROM:-0600
TZOFFSETTO:-0700
TZNAME:MST
DTSTART:20261101T080000
END:STANDARD
BEGIN:DAYLIGHT
TZOFFSETFROM:-0700
TZOFFSETTO:-0600
TZNAME:MDT
DTSTART:20270314T090000
END:DAYLIGHT
BEGIN:STANDARD
TZOFFSETFROM:-0600
TZOFFSETTO:-0700
TZNAME:MST
DTSTART:20271107T080000
END:STANDARD
END:VTIMEZONE
BEGIN:VEVENT
DTSTART;VALUE=DATE:20260626
DTEND;VALUE=DATE:20260629
DTSTAMP:20260425T054024
CREATED:20260320T014559Z
LAST-MODIFIED:20260320T014859Z
UID:10000643-1782432000-1782691199@avidcyclist.com
SUMMARY:Baker City Cycling Classic
DESCRIPTION:With Baker City Cycling Classic you’ll get two road races with legendary courses cumulating with the tremendous 101 mile Dooley Mountain Road Race on Stage 4. A great new Time Trial on beautiful Pocahontas Road and a fast and fun Criterium in Downtown Baker City featuring one of the widest finishing straights in the Northwest. All of this is set in the backdrop of the beautiful Elkhorn and Wallowa Mountain ranges.
URL:https://avidcyclist.com/event/baker-city-cycling-classic-2/
LOCATION:Baker City\, Oregon\, Baker City\, Oregon
CATEGORIES:Race>Stage Race,Road,Time Trial
ATTACH;FMTTYPE=image/jpeg:https://avidcyclist.com/wp-content/uploads/2026/03/baker-city-cycling-classic-june-21-2025-stage-2-154-scaled.jpg
ORGANIZER;CN="Scott's Cycle and Sports":MAILTO:scottscycleandsports@gmail.com
END:VEVENT
END:VCALENDAR