BEGIN:VCALENDAR
VERSION:2.0
PRODID:-//Avid Cyclist - ECPv6.15.19//NONSGML v1.0//EN
CALSCALE:GREGORIAN
METHOD:PUBLISH
X-ORIGINAL-URL:https://avidcyclist.com
X-WR-CALDESC:Events for Avid Cyclist
REFRESH-INTERVAL;VALUE=DURATION:PT1H
X-Robots-Tag:noindex
X-PUBLISHED-TTL:PT1H
BEGIN:VTIMEZONE
TZID:America/Denver
BEGIN:DAYLIGHT
TZOFFSETFROM:-0700
TZOFFSETTO:-0600
TZNAME:MDT
DTSTART:20250309T090000
END:DAYLIGHT
BEGIN:STANDARD
TZOFFSETFROM:-0600
TZOFFSETTO:-0700
TZNAME:MST
DTSTART:20251102T080000
END:STANDARD
BEGIN:DAYLIGHT
TZOFFSETFROM:-0700
TZOFFSETTO:-0600
TZNAME:MDT
DTSTART:20260308T090000
END:DAYLIGHT
BEGIN:STANDARD
TZOFFSETFROM:-0600
TZOFFSETTO:-0700
TZNAME:MST
DTSTART:20261101T080000
END:STANDARD
BEGIN:DAYLIGHT
TZOFFSETFROM:-0700
TZOFFSETTO:-0600
TZNAME:MDT
DTSTART:20270314T090000
END:DAYLIGHT
BEGIN:STANDARD
TZOFFSETFROM:-0600
TZOFFSETTO:-0700
TZNAME:MST
DTSTART:20271107T080000
END:STANDARD
END:VTIMEZONE
BEGIN:VEVENT
DTSTART;VALUE=DATE:20260620
DTEND;VALUE=DATE:20260621
DTSTAMP:20260424T175224
CREATED:20250610T145334Z
LAST-MODIFIED:20251120T155441Z
UID:10000314-1781913600-1781999999@avidcyclist.com
SUMMARY:Gran Fondo Hincapie – Bangor
DESCRIPTION:Escape the summer heat and join former world tour rider George Hincapie for an unforgettable ride in Bangor\, ME\, as Hincapie Events takes the Ultimate Cycling Experience WAY up north! \nEvent & Course Info\nRide options start with the Gran route spanning ~80 miles\, ~5000 feet of elevation gain\, two timed segments\, and epic views of the Penobscot River and Bay.  The Medio route is perfect for those looking for a slightly less intense\, although still challenging\, tour of the region.  The Medio route spans ~52 miles and ~3000 feet of elevation gain\, including one timed section and three rest stops.   Finally\, the Piccolo route at ~15 miles is the perfect ride for riders looking to dip their toes into the Hincapie experience with ~640 ft of elevation gain. \nRegistration in any course includes SAG support\, fully stocked rest stops\, an event jersey\, a timing chip\, free rider photos\, and food and beverages at the post-race Rider Festival at Bangor’s Waterfront Park. The awards ceremony occurs at 3:30 PM\, and the celebration continues at an after-party open to all participants and Gran Fondo Hincapie supporters.
URL:https://avidcyclist.com/event/gran-fondo-hincapie-bangor/
LOCATION:Bangor\, Maine\, Bangor\, Maine
CATEGORIES:Fondo,Race,Ride
ATTACH;FMTTYPE=image/jpeg:https://avidcyclist.com/wp-content/uploads/gran-fondo-hincapie-–-bangor.jpg
END:VEVENT
END:VCALENDAR