BEGIN:VCALENDAR
VERSION:2.0
PRODID:-//Avid Cyclist - ECPv6.15.19//NONSGML v1.0//EN
CALSCALE:GREGORIAN
METHOD:PUBLISH
X-WR-CALNAME:Avid Cyclist
X-ORIGINAL-URL:https://avidcyclist.com
X-WR-CALDESC:Events for Avid Cyclist
REFRESH-INTERVAL;VALUE=DURATION:PT1H
X-Robots-Tag:noindex
X-PUBLISHED-TTL:PT1H
BEGIN:VTIMEZONE
TZID:America/Denver
BEGIN:DAYLIGHT
TZOFFSETFROM:-0700
TZOFFSETTO:-0600
TZNAME:MDT
DTSTART:20250309T090000
END:DAYLIGHT
BEGIN:STANDARD
TZOFFSETFROM:-0600
TZOFFSETTO:-0700
TZNAME:MST
DTSTART:20251102T080000
END:STANDARD
BEGIN:DAYLIGHT
TZOFFSETFROM:-0700
TZOFFSETTO:-0600
TZNAME:MDT
DTSTART:20260308T090000
END:DAYLIGHT
BEGIN:STANDARD
TZOFFSETFROM:-0600
TZOFFSETTO:-0700
TZNAME:MST
DTSTART:20261101T080000
END:STANDARD
BEGIN:DAYLIGHT
TZOFFSETFROM:-0700
TZOFFSETTO:-0600
TZNAME:MDT
DTSTART:20270314T090000
END:DAYLIGHT
BEGIN:STANDARD
TZOFFSETFROM:-0600
TZOFFSETTO:-0700
TZNAME:MST
DTSTART:20271107T080000
END:STANDARD
END:VTIMEZONE
BEGIN:VEVENT
DTSTART;VALUE=DATE:20260708
DTEND;VALUE=DATE:20260713
DTSTAMP:20260424T161740
CREATED:20250609T191246Z
LAST-MODIFIED:20251201T230527Z
UID:10000309-1783468800-1783900799@avidcyclist.com
SUMMARY:Oregon Trail Gravel Grinder
DESCRIPTION:The Oregon Trail Gravel Grinder 2025 is the third leg of the Oregon Gravel Grinder Series; this “Grand Tour of Gravel” is a five-day event that will challenge and reward racers and adventure riders alike\, not only on the epic days in the saddle but the celebration of the gravel tribe each night at camp.   This unique experience offers a fully supported race-vacation experience covering approximately 350 miles and 25\,000-33\,000 feet of elevation gain over mixed terrain through the Cascade Mountain Range in five days and four nights.
URL:https://avidcyclist.com/event/oregon-trail-gravel-grinder/
LOCATION:Bend\, Oregon\, Bend\, Oregon
CATEGORIES:Gravel,Race,Race>Stage Race
ATTACH;FMTTYPE=image/png:https://avidcyclist.com/wp-content/uploads/oregon-trail-gravel-grinder.png
ORGANIZER;CN="breakaway":MAILTO:grinderinfo@breakawaypro.com
END:VEVENT
BEGIN:VEVENT
DTSTART;VALUE=DATE:20260711
DTEND;VALUE=DATE:20260712
DTSTAMP:20260424T161740
CREATED:20251202T174918Z
LAST-MODIFIED:20251202T174918Z
UID:10000466-1783728000-1783814399@avidcyclist.com
SUMMARY:Bend Dirt Fest
DESCRIPTION:Join us in Bend\, Oregon for the Bend Dirt Fest\, a dirt-filled celebration of endurance and community—brought to you by Mudslinger Events and presented by Bicycle Accident Law. \nChoose your challenge: MTB\, Gravel at 8am\, or Trail Run\, all starting from the Athletic Club of Bend at 8:45 AM. \nGo solo or team up with two or three friends for a shot at team glory—funky team names encouraged! \nEnjoy finisher and age-group awards\, live music\, and cold brews from 10 Barrel Brewing as we wrap up the day with a party worthy of Bend’s outdoor spirit.
URL:https://avidcyclist.com/event/bend-dirt-fest/
LOCATION:Bend\, Oregon\, Bend\, Oregon
CATEGORIES:Gravel,Mountain,Mountain Bike,Race,Ride
ATTACH;FMTTYPE=image/png:https://avidcyclist.com/wp-content/uploads/bend-dirt-fest.png
ORGANIZER;CN="Mudslinger Events":MAILTO:mike@mudslingerevents.com
END:VEVENT
BEGIN:VEVENT
DTSTART;VALUE=DATE:20260718
DTEND;VALUE=DATE:20260719
DTSTAMP:20260424T161740
CREATED:20251202T190124Z
LAST-MODIFIED:20251202T200708Z
UID:10000470-1784332800-1784419199@avidcyclist.com
SUMMARY:High Cascades 100
DESCRIPTION:The 15th annual High Cascades 100 2026 is a classic endurance mountain Bike race in the mountain mecca of Bend\, Oregon. Mudslinger Events produces the race and is part of the National Ultra Endurance Series.  The High Cascades 100 2026 is Mudslinger’s pinnacle MTB event at 100 miles and just under 10\,000 feet of elevation gain.
URL:https://avidcyclist.com/event/high-cascades-100/
LOCATION:Bend\, Oregon\, Bend\, Oregon
CATEGORIES:Mountain,Mountain Bike,Race
ATTACH;FMTTYPE=image/png:https://avidcyclist.com/wp-content/uploads/high-cascades.png
ORGANIZER;CN="Mudslinger Events":MAILTO:mike@mudslingerevents.com
END:VEVENT
BEGIN:VEVENT
DTSTART;VALUE=DATE:20260926
DTEND;VALUE=DATE:20260927
DTSTAMP:20260424T161740
CREATED:20251202T175753Z
LAST-MODIFIED:20251202T175753Z
UID:10000467-1790380800-1790467199@avidcyclist.com
SUMMARY:Ring of Fire
DESCRIPTION:50 MILES TO END THE MTB SEASON IN BEAUTIFUL BEND\, OREGON!\nPart of the NUE Series Marathon Schedule 
URL:https://avidcyclist.com/event/ring-of-fire/
LOCATION:Bend\, Oregon\, Bend\, Oregon
CATEGORIES:Mountain Bike,Race,Ride
ATTACH;FMTTYPE=image/jpeg:https://avidcyclist.com/wp-content/uploads/ring-of-fire.jpg
ORGANIZER;CN="Mudslinger Events":MAILTO:mike@mudslingerevents.com
END:VEVENT
END:VCALENDAR