BEGIN:VCALENDAR
VERSION:2.0
PRODID:-//Avid Cyclist - ECPv6.15.19//NONSGML v1.0//EN
CALSCALE:GREGORIAN
METHOD:PUBLISH
X-ORIGINAL-URL:https://avidcyclist.com
X-WR-CALDESC:Events for Avid Cyclist
REFRESH-INTERVAL;VALUE=DURATION:PT1H
X-Robots-Tag:noindex
X-PUBLISHED-TTL:PT1H
BEGIN:VTIMEZONE
TZID:America/Denver
BEGIN:DAYLIGHT
TZOFFSETFROM:-0700
TZOFFSETTO:-0600
TZNAME:MDT
DTSTART:20240310T090000
END:DAYLIGHT
BEGIN:STANDARD
TZOFFSETFROM:-0600
TZOFFSETTO:-0700
TZNAME:MST
DTSTART:20241103T080000
END:STANDARD
BEGIN:DAYLIGHT
TZOFFSETFROM:-0700
TZOFFSETTO:-0600
TZNAME:MDT
DTSTART:20250309T090000
END:DAYLIGHT
BEGIN:STANDARD
TZOFFSETFROM:-0600
TZOFFSETTO:-0700
TZNAME:MST
DTSTART:20251102T080000
END:STANDARD
BEGIN:DAYLIGHT
TZOFFSETFROM:-0700
TZOFFSETTO:-0600
TZNAME:MDT
DTSTART:20260308T090000
END:DAYLIGHT
BEGIN:STANDARD
TZOFFSETFROM:-0600
TZOFFSETTO:-0700
TZNAME:MST
DTSTART:20261101T080000
END:STANDARD
END:VTIMEZONE
BEGIN:VEVENT
DTSTART;VALUE=DATE:20251012
DTEND;VALUE=DATE:20251013
DTSTAMP:20260425T062335
CREATED:20250929T184904Z
LAST-MODIFIED:20250929T184904Z
UID:10000385-1760227200-1760313599@avidcyclist.com
SUMMARY:Little Sugar MTB
DESCRIPTION:Three Distances | One Unforgettable Weekend\nThe Life Time Little Sugar MTB courses will start in Bentonville and travel north into Bella Vista\, traversing the hollers and ravines of Little Sugar and Back 40. You’ll get a firsthand view of the unique bluff lines\, caves\, waterfalls\, and the iconic Ledges in the Ozarks! \nDon’t be fooled – these trail systems offer grinding climbs that alternate with fast rolling descents! While you’ll feel like you are in the middle of nowhere you’ll connect to Slaughter Pen as you make your way back home. A world-class urban trail system with clean flow lines\, technical rock features\, and a view of the picturesque Crystal Bridges Museum of American Art.
URL:https://avidcyclist.com/event/little-sugar-mtb/
LOCATION:Bentonville\, Arkansas\, Bentonville\, Arkansas
CATEGORIES:Festival,Mountain Bike,Race,Ride
ATTACH;FMTTYPE=image/png:https://avidcyclist.com/wp-content/uploads/little-sugar-mtb.png
END:VEVENT
END:VCALENDAR