BEGIN:VCALENDAR
VERSION:2.0
PRODID:-//Avid Cyclist - ECPv6.15.19//NONSGML v1.0//EN
CALSCALE:GREGORIAN
METHOD:PUBLISH
X-WR-CALNAME:Avid Cyclist
X-ORIGINAL-URL:https://avidcyclist.com
X-WR-CALDESC:Events for Avid Cyclist
REFRESH-INTERVAL;VALUE=DURATION:PT1H
X-Robots-Tag:noindex
X-PUBLISHED-TTL:PT1H
BEGIN:VTIMEZONE
TZID:America/Denver
BEGIN:DAYLIGHT
TZOFFSETFROM:-0700
TZOFFSETTO:-0600
TZNAME:MDT
DTSTART:20250309T090000
END:DAYLIGHT
BEGIN:STANDARD
TZOFFSETFROM:-0600
TZOFFSETTO:-0700
TZNAME:MST
DTSTART:20251102T080000
END:STANDARD
BEGIN:DAYLIGHT
TZOFFSETFROM:-0700
TZOFFSETTO:-0600
TZNAME:MDT
DTSTART:20260308T090000
END:DAYLIGHT
BEGIN:STANDARD
TZOFFSETFROM:-0600
TZOFFSETTO:-0700
TZNAME:MST
DTSTART:20261101T080000
END:STANDARD
BEGIN:DAYLIGHT
TZOFFSETFROM:-0700
TZOFFSETTO:-0600
TZNAME:MDT
DTSTART:20270314T090000
END:DAYLIGHT
BEGIN:STANDARD
TZOFFSETFROM:-0600
TZOFFSETTO:-0700
TZNAME:MST
DTSTART:20271107T080000
END:STANDARD
END:VTIMEZONE
BEGIN:VEVENT
DTSTART;VALUE=DATE:20260418
DTEND;VALUE=DATE:20260419
DTSTAMP:20260424T191718
CREATED:20251113T160633Z
LAST-MODIFIED:20260107T184821Z
UID:10000423-1776470400-1776556799@avidcyclist.com
SUMMARY:Mudslinger XC
DESCRIPTION:The Mudslinger XC Race: A Northwest Tradition\nJoin hundreds from all over Oregon and the Northwest at the Mudslinger on the first Saturday in April for an annual celebration of mountain biking and one fun time since 1987. \nClimb or grind your way to the top of a ridge\, then bomb down fast-paced\, loamy trails built off our Pacific Northwest logging heritage. Thanks to the dedication of trail-building enthusiasts\, this experience continues to embody the spirit of adventure. \n\nCourse Highlights:\nA mix of fantastic old-school logging roads and approximately 35% singletrack most years\, designed to keep you on edge.\nChallenging climbs paired with thrilling descents make for a ride you won’t forget.\nBe Prepared:\nAn excellent front tire is a must to grip the dirt.\nWith temperatures usually between 50-55°F and a 40% chance of rain\, participants must be ready for anything.\nLocation and Legacy:\nSince 2001\, the event has been hosted in Blodgett\, Oregon—just 20 minutes west of Corvallis.\nThe tradition dates back to the 1991 NORBA State Championships\, which were held on this very ground.\n\nA heartfelt thank you goes out to Starker Forests for their support of the Mudslinger course and their commitment to recreation for all trail users in Benton County and beyond
URL:https://avidcyclist.com/event/mudslinger-xc/
LOCATION:Blodgett\, Oregon\, Blodgett\, Oregon
CATEGORIES:Mountain,Mountain Bike
ATTACH;FMTTYPE=image/jpeg:https://avidcyclist.com/wp-content/uploads/mudslinger.jpg
ORGANIZER;CN="Mudslinger Events":MAILTO:mike@mudslingerevents.com
END:VEVENT
END:VCALENDAR