BEGIN:VCALENDAR
VERSION:2.0
PRODID:-//Avid Cyclist - ECPv6.15.19//NONSGML v1.0//EN
CALSCALE:GREGORIAN
METHOD:PUBLISH
X-WR-CALNAME:Avid Cyclist
X-ORIGINAL-URL:https://avidcyclist.com
X-WR-CALDESC:Events for Avid Cyclist
REFRESH-INTERVAL;VALUE=DURATION:PT1H
X-Robots-Tag:noindex
X-PUBLISHED-TTL:PT1H
BEGIN:VTIMEZONE
TZID:America/Denver
BEGIN:DAYLIGHT
TZOFFSETFROM:-0700
TZOFFSETTO:-0600
TZNAME:MDT
DTSTART:20250309T090000
END:DAYLIGHT
BEGIN:STANDARD
TZOFFSETFROM:-0600
TZOFFSETTO:-0700
TZNAME:MST
DTSTART:20251102T080000
END:STANDARD
BEGIN:DAYLIGHT
TZOFFSETFROM:-0700
TZOFFSETTO:-0600
TZNAME:MDT
DTSTART:20260308T090000
END:DAYLIGHT
BEGIN:STANDARD
TZOFFSETFROM:-0600
TZOFFSETTO:-0700
TZNAME:MST
DTSTART:20261101T080000
END:STANDARD
BEGIN:DAYLIGHT
TZOFFSETFROM:-0700
TZOFFSETTO:-0600
TZNAME:MDT
DTSTART:20270314T090000
END:DAYLIGHT
BEGIN:STANDARD
TZOFFSETFROM:-0600
TZOFFSETTO:-0700
TZNAME:MST
DTSTART:20271107T080000
END:STANDARD
END:VTIMEZONE
BEGIN:VEVENT
DTSTART;TZID=America/Denver:20260719T080000
DTEND;TZID=America/Denver:20260719T170000
DTSTAMP:20260425T053832
CREATED:20251202T223507Z
LAST-MODIFIED:20251202T223507Z
UID:10000479-1784448000-1784480400@avidcyclist.com
SUMMARY:Bogus Basins
DESCRIPTION:The Bogus Basin Hill Climb started in 1972\, making it the third oldest continuously running hill climb in the United States. Thank you to everyone who rode in 2025 see results and photos with the buttons below! \nClimbing 4\,314 feet in 18 and a half miles\, the Bogus Basin Hill Climb is a challenge undertaken by thousands of Boiseans over the last 50 years. Join riders of all stripes\, from Olympians and Tour de France riders to regular Janes and Joes as we celebrate one of the many things that makes Boise awesome!
URL:https://avidcyclist.com/event/bogus-basins/
LOCATION:Boise\, Idaho\, Boise\, Idaho
CATEGORIES:Race,Ride,Road
ATTACH;FMTTYPE=image/png:https://avidcyclist.com/wp-content/uploads/bogus-basin-1.png
END:VEVENT
END:VCALENDAR