BEGIN:VCALENDAR
VERSION:2.0
PRODID:-//Avid Cyclist - ECPv6.15.19//NONSGML v1.0//EN
CALSCALE:GREGORIAN
METHOD:PUBLISH
X-ORIGINAL-URL:https://avidcyclist.com
X-WR-CALDESC:Events for Avid Cyclist
REFRESH-INTERVAL;VALUE=DURATION:PT1H
X-Robots-Tag:noindex
X-PUBLISHED-TTL:PT1H
BEGIN:VTIMEZONE
TZID:America/Denver
BEGIN:DAYLIGHT
TZOFFSETFROM:-0700
TZOFFSETTO:-0600
TZNAME:MDT
DTSTART:20250309T090000
END:DAYLIGHT
BEGIN:STANDARD
TZOFFSETFROM:-0600
TZOFFSETTO:-0700
TZNAME:MST
DTSTART:20251102T080000
END:STANDARD
BEGIN:DAYLIGHT
TZOFFSETFROM:-0700
TZOFFSETTO:-0600
TZNAME:MDT
DTSTART:20260308T090000
END:DAYLIGHT
BEGIN:STANDARD
TZOFFSETFROM:-0600
TZOFFSETTO:-0700
TZNAME:MST
DTSTART:20261101T080000
END:STANDARD
BEGIN:DAYLIGHT
TZOFFSETFROM:-0700
TZOFFSETTO:-0600
TZNAME:MDT
DTSTART:20270314T090000
END:DAYLIGHT
BEGIN:STANDARD
TZOFFSETFROM:-0600
TZOFFSETTO:-0700
TZNAME:MST
DTSTART:20271107T080000
END:STANDARD
END:VTIMEZONE
BEGIN:VEVENT
DTSTART;VALUE=DATE:20260802
DTEND;VALUE=DATE:20260803
DTSTAMP:20260425T045554
CREATED:20251208T160817Z
LAST-MODIFIED:20251208T160817Z
UID:10000488-1785628800-1785715199@avidcyclist.com
SUMMARY:Boone Gran Fondo
DESCRIPTION:3 Scenic & Challenging Courses\nOne of the most fun courses of the entire series\, the Boone Gran Fondo twists and turns through wooded climbs and descents before returning to the party atmosphere of downtown Boone\, North Carolina. \n\n\n95 Mile Route  \n\n\n60 Mile Route  \n\n\n25 Mile Route \n\n\n\n\nEvent Jersey Included \n\n\n\n\nAll athletes who sign up for Boone Gran Fondo at least 30 days before the event\, or by July 3\, will receive an event-specific jersey from SUAREZ! These jerseys are produced on-demand\, which is why we need accurate counts ahead of time. We will have a limited supply of jerseys for size exchanges and for purchase day of the event. Don’t forget to complete your kit with matching bib shorts\, available during signup and on-site. \n\n\n 
URL:https://avidcyclist.com/event/boone-gran-fondo/
LOCATION:Boone\, North Carolina\, Boone\, North Carolina
CATEGORIES:Race,Ride,Road
ATTACH;FMTTYPE=image/png:https://avidcyclist.com/wp-content/uploads/boone-gran-fondo.png
END:VEVENT
END:VCALENDAR