BEGIN:VCALENDAR
VERSION:2.0
PRODID:-//Avid Cyclist - ECPv6.15.19//NONSGML v1.0//EN
CALSCALE:GREGORIAN
METHOD:PUBLISH
X-ORIGINAL-URL:https://avidcyclist.com
X-WR-CALDESC:Events for Avid Cyclist
REFRESH-INTERVAL;VALUE=DURATION:PT1H
X-Robots-Tag:noindex
X-PUBLISHED-TTL:PT1H
BEGIN:VTIMEZONE
TZID:America/Denver
BEGIN:DAYLIGHT
TZOFFSETFROM:-0700
TZOFFSETTO:-0600
TZNAME:MDT
DTSTART:20240310T090000
END:DAYLIGHT
BEGIN:STANDARD
TZOFFSETFROM:-0600
TZOFFSETTO:-0700
TZNAME:MST
DTSTART:20241103T080000
END:STANDARD
BEGIN:DAYLIGHT
TZOFFSETFROM:-0700
TZOFFSETTO:-0600
TZNAME:MDT
DTSTART:20250309T090000
END:DAYLIGHT
BEGIN:STANDARD
TZOFFSETFROM:-0600
TZOFFSETTO:-0700
TZNAME:MST
DTSTART:20251102T080000
END:STANDARD
BEGIN:DAYLIGHT
TZOFFSETFROM:-0700
TZOFFSETTO:-0600
TZNAME:MDT
DTSTART:20260308T090000
END:DAYLIGHT
BEGIN:STANDARD
TZOFFSETFROM:-0600
TZOFFSETTO:-0700
TZNAME:MST
DTSTART:20261101T080000
END:STANDARD
BEGIN:DAYLIGHT
TZOFFSETFROM:-0700
TZOFFSETTO:-0600
TZNAME:MDT
DTSTART:20270314T090000
END:DAYLIGHT
BEGIN:STANDARD
TZOFFSETFROM:-0600
TZOFFSETTO:-0700
TZNAME:MST
DTSTART:20271107T080000
END:STANDARD
END:VTIMEZONE
BEGIN:VEVENT
DTSTART;TZID=America/Denver:20260410T083000
DTEND;TZID=America/Denver:20260412T143000
DTSTAMP:20260424T083544
CREATED:20260327T125022Z
LAST-MODIFIED:20260327T133138Z
UID:10000650-1775809800-1776004200@avidcyclist.com
SUMMARY:Mini Gravel Training Camp
DESCRIPTION:3 solid days of volume\, climbing and getting better-together!\nWe’ll ride some of the most iconic gravel in Boulder County\, stack over 200 miles and 10K feet of climbing\, spend real time together both in the saddle and off the bike. \nThis is about riding together\, coach led\, building volume and skills. All things gravel. \nCome ride my dirt\, my way. Let’s do this.
URL:https://avidcyclist.com/event/mini-gravel-training-camp/
LOCATION:Boulder\, Colorado\, Boulder\, CO\, United States
CATEGORIES:Clinic/Training,Gravel
ATTACH;FMTTYPE=image/png:https://avidcyclist.com/wp-content/uploads/2026/03/untitled-800-x-533-px.png
ORGANIZER;CN="Tracey Jacobs Coaching":MAILTO:info@traceyjacobscoaching.com
END:VEVENT
BEGIN:VEVENT
DTSTART;VALUE=DATE:20250518
DTEND;VALUE=DATE:20250519
DTSTAMP:20260424T083544
CREATED:20250319T041915Z
LAST-MODIFIED:20250319T150425Z
UID:10000021-1747526400-1747612799@avidcyclist.com
SUMMARY:Boulder Omnium - Superior Morgul
DESCRIPTION:Friday May 17th\, Saturday May 18th\, and Sunday May19th \nBoulder\, Louisville\, & Superior\, Colorado \n1st Time racers looking to get an annual USA Cycling License – Click here for $61 off \nCycling\, like life\, is about balance.  Being able to win requires a skill set in all types of terrain\, conditions\, and formats.  For 2024 we’re excited to make some exciting change-ups to last year’s Superville.  The best part is that you can pick one day\, two days\, or race all three.  Scoring in the omnium will reward racers who come out each day\, but there’s no special requirements to earn points in the final rankings.  Select each day of racing below for more info and to sign-up.  Scroll a bit further down to see our new “easy to follow” omnium points format. \nFriday May 17th – Jamestown Time-Trial \nSaturday May 18th – Louisville Criterium \nSunday May 19th – Morgul Road Race
URL:https://avidcyclist.com/event/boulder-omnium-superior-morgul/
LOCATION:Boulder\, Colorado\, Boulder\, CO\, United States
CATEGORIES:Race,Road
ATTACH;FMTTYPE=image/png:https://avidcyclist.com/wp-content/uploads/Boulder-Omnium.png
ORGANIZER;CN="Without Limits Productions":MAILTO:lance@withoutlimits.com
END:VEVENT
BEGIN:VEVENT
DTSTART;VALUE=DATE:20250517
DTEND;VALUE=DATE:20250518
DTSTAMP:20260424T083544
CREATED:20250319T041717Z
LAST-MODIFIED:20250319T150425Z
UID:10000020-1747440000-1747526399@avidcyclist.com
SUMMARY:Boulder Omnium - Louisville Criterium
DESCRIPTION:Friday May 17th\, Saturday May 18th\, and Sunday May19th \nBoulder\, Louisville\, & Superior\, Colorado \n1st Time racers looking to get an annual USA Cycling License – Click here for $61 off \nCycling\, like life\, is about balance.  Being able to win requires a skill set in all types of terrain\, conditions\, and formats.  For 2024 we’re excited to make some exciting change-ups to last year’s Superville.  The best part is that you can pick one day\, two days\, or race all three.  Scoring in the omnium will reward racers who come out each day\, but there’s no special requirements to earn points in the final rankings.  Select each day of racing below for more info and to sign-up.  Scroll a bit further down to see our new “easy to follow” omnium points format. \nFriday May 17th – Jamestown Time-Trial \nSaturday May 18th – Louisville Criterium \nSunday May 19th – Morgul Road Race
URL:https://avidcyclist.com/event/boulder-omnium-louisville-criterium/
LOCATION:Boulder\, Colorado\, Boulder\, CO\, United States
CATEGORIES:Criterium,Time Trial
ATTACH;FMTTYPE=image/png:https://avidcyclist.com/wp-content/uploads/Boulder-Omnium.png
ORGANIZER;CN="Without Limits Productions":MAILTO:lance@withoutlimits.com
END:VEVENT
BEGIN:VEVENT
DTSTART;VALUE=DATE:20250516
DTEND;VALUE=DATE:20250517
DTSTAMP:20260424T083544
CREATED:20250319T041716Z
LAST-MODIFIED:20250319T150444Z
UID:10000019-1747353600-1747439999@avidcyclist.com
SUMMARY:Boulder Omnium - Jamestown Time Trial
DESCRIPTION:Friday May 17th\, Saturday May 18th\, and Sunday May19th \nBoulder\, Louisville\, & Superior\, Colorado \n1st Time racers looking to get an annual USA Cycling License – Click here for $61 off \nCycling\, like life\, is about balance.  Being able to win requires a skill set in all types of terrain\, conditions\, and formats.  For 2024 we’re excited to make some exciting change-ups to last year’s Superville.  The best part is that you can pick one day\, two days\, or race all three.  Scoring in the omnium will reward racers who come out each day\, but there’s no special requirements to earn points in the final rankings.  Select each day of racing below for more info and to sign-up.  Scroll a bit further down to see our new “easy to follow” omnium points format. \nFriday May 17th – Jamestown Time-Trial \nSaturday May 18th – Louisville Criterium \nSunday May 19th – Morgul Road Race
URL:https://avidcyclist.com/event/boulder-omnium-jamestown-time-trial/
LOCATION:Boulder\, Colorado\, Boulder\, CO\, United States
CATEGORIES:Time Trial
ATTACH;FMTTYPE=image/png:https://avidcyclist.com/wp-content/uploads/Boulder-Omnium.png
ORGANIZER;CN="Without Limits Productions":MAILTO:lance@withoutlimits.com
END:VEVENT
END:VCALENDAR