BEGIN:VCALENDAR
VERSION:2.0
PRODID:-//Avid Cyclist - ECPv6.15.19//NONSGML v1.0//EN
CALSCALE:GREGORIAN
METHOD:PUBLISH
X-ORIGINAL-URL:https://avidcyclist.com
X-WR-CALDESC:Events for Avid Cyclist
REFRESH-INTERVAL;VALUE=DURATION:PT1H
X-Robots-Tag:noindex
X-PUBLISHED-TTL:PT1H
BEGIN:VTIMEZONE
TZID:America/Denver
BEGIN:DAYLIGHT
TZOFFSETFROM:-0700
TZOFFSETTO:-0600
TZNAME:MDT
DTSTART:20250309T090000
END:DAYLIGHT
BEGIN:STANDARD
TZOFFSETFROM:-0600
TZOFFSETTO:-0700
TZNAME:MST
DTSTART:20251102T080000
END:STANDARD
BEGIN:DAYLIGHT
TZOFFSETFROM:-0700
TZOFFSETTO:-0600
TZNAME:MDT
DTSTART:20260308T090000
END:DAYLIGHT
BEGIN:STANDARD
TZOFFSETFROM:-0600
TZOFFSETTO:-0700
TZNAME:MST
DTSTART:20261101T080000
END:STANDARD
BEGIN:DAYLIGHT
TZOFFSETFROM:-0700
TZOFFSETTO:-0600
TZNAME:MDT
DTSTART:20270314T090000
END:DAYLIGHT
BEGIN:STANDARD
TZOFFSETFROM:-0600
TZOFFSETTO:-0700
TZNAME:MST
DTSTART:20271107T080000
END:STANDARD
END:VTIMEZONE
BEGIN:VEVENT
DTSTART;VALUE=DATE:20260619
DTEND;VALUE=DATE:20260621
DTSTAMP:20260424T095652
CREATED:20250610T154155Z
LAST-MODIFIED:20251120T162708Z
UID:10000318-1781827200-1781999999@avidcyclist.com
SUMMARY:Belgian Waffle Ride (BWR) Montana
DESCRIPTION:Belgian Waffle Ride (BWR) Montana\nThe Belgian Waffle Ride (BWR) Montana\, known as “The Hell of the Bozone\,” is set to launch in Bozeman in June 2025\, adding a rugged\, breathtaking new location to the iconic BWR Series. Scheduled for the last week of June\, the event will welcome cyclists to Montana’s wild and scenic backcountry\, showcasing a unique blend of challenging gravel paths\, single-track trails\, and off-road sectors\, all amid the picturesque Rocky Mountains and Bozeman’s renowned gravel network. \nBozeman’s mild June climate and vast stretches of unpaved paths\, rivers\, and plains make it a prime setting for the “unroad” adventure the BWR Series is celebrated for. Participants can anticipate courses designed with a meticulous balance of “rippable” terrain—gravel\, sand\, mud\, water crossings\, and technical climbs—requiring both stamina and skill. As always\, BWR events include three main course options: the full “Waffle\,” an intermediate “Wafer\,” and the shorter “Wanna Ride\,” allowing a wide range of riders to partake in the experience. In addition to the varied terrain\, riders will find frequent Feed Zones stocked with Belgian waffles and other snacks\, alongside energetic volunteers providing support every 20 miles.​ \nBWR Montana is also the finale for the 2025 Quad-Tripel Crown of Gravel Series\, a new competition awarding top honors to riders who compete in three of the four selected BWR events. This format gives competitors in Arizona\, California\, Utah\, and now Montana a chance to battle it out over different terrains\, climates\, and elevations across North America. \nThe Bozeman BWR experience will be enhanced by the city’s vibrant outdoor community\, excellent dining options\, and local accommodations\, ensuring riders have a full Montana adventure. Alongside their race number\, RFID tag\, and BWR swag bag\, participants will enjoy pre- and post-race waffles\, coffee\, and a celebratory beer\, with commemorative gear available at the event.​
URL:https://avidcyclist.com/event/belgian-waffle-ride-bwr-montana/
LOCATION:Bozeman\, Montana\, Bozeman\, Montana
CATEGORIES:Gravel,Race,Ride
ATTACH;FMTTYPE=image/png:https://avidcyclist.com/wp-content/uploads/belgian-waffle-ride-montana.png
ORGANIZER;CN="Monuments of Cycling":MAILTO:info@monumentsofcycling.com
END:VEVENT
END:VCALENDAR