BEGIN:VCALENDAR
VERSION:2.0
PRODID:-//Avid Cyclist - ECPv6.15.19//NONSGML v1.0//EN
CALSCALE:GREGORIAN
METHOD:PUBLISH
X-WR-CALNAME:Avid Cyclist
X-ORIGINAL-URL:https://avidcyclist.com
X-WR-CALDESC:Events for Avid Cyclist
REFRESH-INTERVAL;VALUE=DURATION:PT1H
X-Robots-Tag:noindex
X-PUBLISHED-TTL:PT1H
BEGIN:VTIMEZONE
TZID:America/Denver
BEGIN:DAYLIGHT
TZOFFSETFROM:-0700
TZOFFSETTO:-0600
TZNAME:MDT
DTSTART:20240310T090000
END:DAYLIGHT
BEGIN:STANDARD
TZOFFSETFROM:-0600
TZOFFSETTO:-0700
TZNAME:MST
DTSTART:20241103T080000
END:STANDARD
BEGIN:DAYLIGHT
TZOFFSETFROM:-0700
TZOFFSETTO:-0600
TZNAME:MDT
DTSTART:20250309T090000
END:DAYLIGHT
BEGIN:STANDARD
TZOFFSETFROM:-0600
TZOFFSETTO:-0700
TZNAME:MST
DTSTART:20251102T080000
END:STANDARD
BEGIN:DAYLIGHT
TZOFFSETFROM:-0700
TZOFFSETTO:-0600
TZNAME:MDT
DTSTART:20260308T090000
END:DAYLIGHT
BEGIN:STANDARD
TZOFFSETFROM:-0600
TZOFFSETTO:-0700
TZNAME:MST
DTSTART:20261101T080000
END:STANDARD
END:VTIMEZONE
BEGIN:VEVENT
DTSTART;TZID=America/Denver:20251206T090000
DTEND;TZID=America/Denver:20251206T130000
DTSTAMP:20260425T055221
CREATED:20250922T192517Z
LAST-MODIFIED:20250922T192517Z
UID:10000373-1765011600-1765026000@avidcyclist.com
SUMMARY:Cycling Santa 2025
DESCRIPTION:Join us for the 2025 Cycling Santa ride\, and help spread Christmas cheer to children across Colorado Springs! \nRegistration for the 2025 Cycling Santa Ride and the 2025 Chasing Santa Walk/Run is now open. Cycling Santa serves as a toy drive for Give It Forward\, to spread Christmas cheer to kids across the Pikes Peak region. \nThere are three ride distances\, to accommodate all levels of cyclist — a 6mi\, a 10mi\, and a 21mi — and toddlers under 4 are free! Every participant will receive a free Santa suit along with registration\, even the kids. If participating\, please bring new and unwrapped toys with you to to the start line! \nNote: this ride does not begin at the Buffalo Lodge — for location and course info\, check out the registration page.
URL:https://avidcyclist.com/event/cycling-santa-2025/
LOCATION:Buffalo Lodge Bicycle Resort\, Colorado Springs\, CO\, United States
CATEGORIES:Other,Ride
ATTACH;FMTTYPE=image/png:https://avidcyclist.com/wp-content/uploads/2025-cycling-santa-graphic-new-charity-version-scaled.png
ORGANIZER;CN="Buffalo Lodge Bicycle Resort":MAILTO:bicycleresort@gmail.com
END:VEVENT
BEGIN:VEVENT
DTSTART;VALUE=DATE:20251003
DTEND;VALUE=DATE:20251006
DTSTAMP:20260425T055221
CREATED:20250918T205201Z
LAST-MODIFIED:20250925T212926Z
UID:10000372-1759449600-1759708799@avidcyclist.com
SUMMARY:Buffalo Grass Music Festival
DESCRIPTION:Join us for a weekend music festival nestled between Old Colorado City and Manitou Springs! \nEnjoy a great lineup of local bands\, vendors\, yoga\, group bike rides\, bluegrass circles and more\, all weekend long. For our updated music lineup and festival details\, visit our event page here. \nChildren 15 years old and younger are free with a paid adult. Bike in for $5 off your ticket!
URL:https://avidcyclist.com/event/buffalograss-music-festival/
LOCATION:Buffalo Lodge Bicycle Resort\, Colorado Springs\, CO\, United States
CATEGORIES:Festival
ATTACH;FMTTYPE=image/png:https://avidcyclist.com/wp-content/uploads/2025-buffalo-grass-event-header.png
ORGANIZER;CN="Buffalo Lodge Bicycle Resort":MAILTO:bicycleresort@gmail.com
END:VEVENT
END:VCALENDAR