BEGIN:VCALENDAR
VERSION:2.0
PRODID:-//Avid Cyclist - ECPv6.15.19//NONSGML v1.0//EN
CALSCALE:GREGORIAN
METHOD:PUBLISH
X-ORIGINAL-URL:https://avidcyclist.com
X-WR-CALDESC:Events for Avid Cyclist
REFRESH-INTERVAL;VALUE=DURATION:PT1H
X-Robots-Tag:noindex
X-PUBLISHED-TTL:PT1H
BEGIN:VTIMEZONE
TZID:America/Denver
BEGIN:DAYLIGHT
TZOFFSETFROM:-0700
TZOFFSETTO:-0600
TZNAME:MDT
DTSTART:20260308T090000
END:DAYLIGHT
BEGIN:STANDARD
TZOFFSETFROM:-0600
TZOFFSETTO:-0700
TZNAME:MST
DTSTART:20261101T080000
END:STANDARD
BEGIN:DAYLIGHT
TZOFFSETFROM:-0700
TZOFFSETTO:-0600
TZNAME:MDT
DTSTART:20270314T090000
END:DAYLIGHT
BEGIN:STANDARD
TZOFFSETFROM:-0600
TZOFFSETTO:-0700
TZNAME:MST
DTSTART:20271107T080000
END:STANDARD
BEGIN:DAYLIGHT
TZOFFSETFROM:-0700
TZOFFSETTO:-0600
TZNAME:MDT
DTSTART:20280312T090000
END:DAYLIGHT
BEGIN:STANDARD
TZOFFSETFROM:-0600
TZOFFSETTO:-0700
TZNAME:MST
DTSTART:20281105T080000
END:STANDARD
END:VTIMEZONE
BEGIN:VEVENT
DTSTART;TZID=America/Denver:20270821T050000
DTEND;TZID=America/Denver:20270827T180000
DTSTAMP:20260425T053630
CREATED:20260212T002637Z
LAST-MODIFIED:20260212T002637Z
UID:10000594-1818824400-1819389600@avidcyclist.com
SUMMARY:Bicycle Illinois
DESCRIPTION:THE ONLY CYCLING TOUR ACROSS THE ENTIRE LENGTH OF ILLINOIS! \nStarting from the town of Cairo at Illinois’ southernmost tip and ending in the heart of downtown Chicago\, Bicycle Illinois is the only cycling event across the entire state of Illinois. Held annually\, the fully supported ride covers 500 to 600 miles with nightly stops in Cairo\, Carbondale\, Centralia\, Effingham\, Champaign\, and Kankakee. For riders looking for even more of a challenge\, a century option is available every day of the ride. \nThere will be six consecutive days of riding with pre-designated\, supported rest stops along the way. Each ride segment is an estimated 20 miles between rest stops. As always\, this route follows the safest\, most direct route between our stopping towns. \nFor a bigger challenge\, you can continue cycling north to Wisconsin the following day on the Tri-State Tour Chicago Century #2\, which also includes a century option. That’s up to 7 centuries in 7 days – no other cycling event comes close! \nWhether you’re a recreational cyclist looking for the sense of accomplishment\, or an athlete who wants to enhance your endurance skills\, Bicycle Illinois has something for you. Along with new friends and our caring\, service-oriented\, professional staff\, you’ll gain a new level of satisfaction and self-confidence! \nRelax – Bicycle Illinois makes it easy. Focus on cycling and have fun!
URL:https://avidcyclist.com/event/bicycle-illinois/
LOCATION:Cairo Junior/Senior High School\, 4201 Sycamore St.\, Cairo\, IL\, 62914\, United States
CATEGORIES:Fondo,Ride,Road
ATTACH;FMTTYPE=image/jpeg:https://avidcyclist.com/wp-content/uploads/2026/02/endinsight.jpg
ORGANIZER;CN="Bicycle Illinois":MAILTO:bicycleillinois@bicycleillinois.com
GEO:37.0192629;-89.1859615
X-APPLE-STRUCTURED-LOCATION;VALUE=URI;X-ADDRESS=Cairo Junior/Senior High School 4201 Sycamore St. Cairo IL 62914 United States;X-APPLE-RADIUS=500;X-TITLE=4201 Sycamore St.:geo:-89.1859615,37.0192629
END:VEVENT
END:VCALENDAR