BEGIN:VCALENDAR
VERSION:2.0
PRODID:-//Avid Cyclist - ECPv6.15.19//NONSGML v1.0//EN
CALSCALE:GREGORIAN
METHOD:PUBLISH
X-ORIGINAL-URL:https://avidcyclist.com
X-WR-CALDESC:Events for Avid Cyclist
REFRESH-INTERVAL;VALUE=DURATION:PT1H
X-Robots-Tag:noindex
X-PUBLISHED-TTL:PT1H
BEGIN:VTIMEZONE
TZID:America/Denver
BEGIN:DAYLIGHT
TZOFFSETFROM:-0700
TZOFFSETTO:-0600
TZNAME:MDT
DTSTART:20240310T090000
END:DAYLIGHT
BEGIN:STANDARD
TZOFFSETFROM:-0600
TZOFFSETTO:-0700
TZNAME:MST
DTSTART:20241103T080000
END:STANDARD
BEGIN:DAYLIGHT
TZOFFSETFROM:-0700
TZOFFSETTO:-0600
TZNAME:MDT
DTSTART:20250309T090000
END:DAYLIGHT
BEGIN:STANDARD
TZOFFSETFROM:-0600
TZOFFSETTO:-0700
TZNAME:MST
DTSTART:20251102T080000
END:STANDARD
BEGIN:DAYLIGHT
TZOFFSETFROM:-0700
TZOFFSETTO:-0600
TZNAME:MDT
DTSTART:20260308T090000
END:DAYLIGHT
BEGIN:STANDARD
TZOFFSETFROM:-0600
TZOFFSETTO:-0700
TZNAME:MST
DTSTART:20261101T080000
END:STANDARD
END:VTIMEZONE
BEGIN:VEVENT
DTSTART;VALUE=DATE:20251005
DTEND;VALUE=DATE:20251006
DTSTAMP:20260424T163902
CREATED:20250929T172947Z
LAST-MODIFIED:20250929T172947Z
UID:10000380-1759622400-1759708799@avidcyclist.com
SUMMARY:GFNY Maryland Cambridge
DESCRIPTION:This year\, Cambridge proudly hosts the GFNY Maryland 2025\, an event renowned as Maryland’s hardest and biggest road race and a new GFNY World Series calendar event. With its roots deeply anchored in Maryland’s authentic landscape\, the race offers two distinct courses: a thrilling 92-mile long course for the competitive spirits and a more relaxed 48-mile medium course for those seeking a serene cycling experience. Yet\, irrespective of the distance you choose\, every cyclist is treated to police-moderated intersections throughout the course\, ensuring a safe and smooth ride. The team at Strambecco considers it one of the Best Road Cycling Events in the Mid-Atlantic.
URL:https://avidcyclist.com/event/gfny-maryland-cambridge/
LOCATION:Cambridge\, Maryland\, Cambridge\, Maryland
CATEGORIES:Race,Road
ATTACH;FMTTYPE=image/png:https://avidcyclist.com/wp-content/uploads/gfny-maryland.png
END:VEVENT
END:VCALENDAR