BEGIN:VCALENDAR
VERSION:2.0
PRODID:-//Avid Cyclist - ECPv6.15.19//NONSGML v1.0//EN
CALSCALE:GREGORIAN
METHOD:PUBLISH
X-ORIGINAL-URL:https://avidcyclist.com
X-WR-CALDESC:Events for Avid Cyclist
REFRESH-INTERVAL;VALUE=DURATION:PT1H
X-Robots-Tag:noindex
X-PUBLISHED-TTL:PT1H
BEGIN:VTIMEZONE
TZID:America/Denver
BEGIN:DAYLIGHT
TZOFFSETFROM:-0700
TZOFFSETTO:-0600
TZNAME:MDT
DTSTART:20250309T090000
END:DAYLIGHT
BEGIN:STANDARD
TZOFFSETFROM:-0600
TZOFFSETTO:-0700
TZNAME:MST
DTSTART:20251102T080000
END:STANDARD
BEGIN:DAYLIGHT
TZOFFSETFROM:-0700
TZOFFSETTO:-0600
TZNAME:MDT
DTSTART:20260308T090000
END:DAYLIGHT
BEGIN:STANDARD
TZOFFSETFROM:-0600
TZOFFSETTO:-0700
TZNAME:MST
DTSTART:20261101T080000
END:STANDARD
BEGIN:DAYLIGHT
TZOFFSETFROM:-0700
TZOFFSETTO:-0600
TZNAME:MDT
DTSTART:20270314T090000
END:DAYLIGHT
BEGIN:STANDARD
TZOFFSETFROM:-0600
TZOFFSETTO:-0700
TZNAME:MST
DTSTART:20271107T080000
END:STANDARD
END:VTIMEZONE
BEGIN:VEVENT
DTSTART;TZID=America/Denver:20260509T080000
DTEND;TZID=America/Denver:20260509T170000
DTSTAMP:20260422T170155
CREATED:20251118T155700Z
LAST-MODIFIED:20251118T155700Z
UID:10000439-1778313600-1778346000@avidcyclist.com
SUMMARY:Tour of the Battenkill
DESCRIPTION:America’s Queen of the Classics\nBattenkill is a fully supported mixed terrain gran fondo & race with overall & age group awards.  The course passes through the landscapes of rural Southern Washington County\, NY.   Scenic villages and hamlets\, covered bridges\, amazing views and challenging terrain\, and an exciting finish in downtown Cambridge\, NY are just a prelude to the after party & live entertainment near the historic Cambridge Hotel and Train Depot. \nProfessional Women’s & Men’s races highlight the day at ‘America’s Queen of the Classics.’ \nCheck out some of the great press we’ve received at both Cyclingnews.com and Bicycling.com
URL:https://avidcyclist.com/event/tour-of-the-battenkill/
LOCATION:Cambridge\, New York\, Cambridge\, New York
CATEGORIES:Expo,Fondo,Race,Road
ATTACH;FMTTYPE=image/jpeg:https://avidcyclist.com/wp-content/uploads/battenkill.jpg
END:VEVENT
END:VCALENDAR