BEGIN:VCALENDAR
VERSION:2.0
PRODID:-//Avid Cyclist - ECPv6.15.19//NONSGML v1.0//EN
CALSCALE:GREGORIAN
METHOD:PUBLISH
X-WR-CALNAME:Avid Cyclist
X-ORIGINAL-URL:https://avidcyclist.com
X-WR-CALDESC:Events for Avid Cyclist
REFRESH-INTERVAL;VALUE=DURATION:PT1H
X-Robots-Tag:noindex
X-PUBLISHED-TTL:PT1H
BEGIN:VTIMEZONE
TZID:America/Denver
BEGIN:DAYLIGHT
TZOFFSETFROM:-0700
TZOFFSETTO:-0600
TZNAME:MDT
DTSTART:20240310T090000
END:DAYLIGHT
BEGIN:STANDARD
TZOFFSETFROM:-0600
TZOFFSETTO:-0700
TZNAME:MST
DTSTART:20241103T080000
END:STANDARD
BEGIN:DAYLIGHT
TZOFFSETFROM:-0700
TZOFFSETTO:-0600
TZNAME:MDT
DTSTART:20250309T090000
END:DAYLIGHT
BEGIN:STANDARD
TZOFFSETFROM:-0600
TZOFFSETTO:-0700
TZNAME:MST
DTSTART:20251102T080000
END:STANDARD
BEGIN:DAYLIGHT
TZOFFSETFROM:-0700
TZOFFSETTO:-0600
TZNAME:MDT
DTSTART:20260308T090000
END:DAYLIGHT
BEGIN:STANDARD
TZOFFSETFROM:-0600
TZOFFSETTO:-0700
TZNAME:MST
DTSTART:20261101T080000
END:STANDARD
END:VTIMEZONE
BEGIN:VEVENT
DTSTART;TZID=America/Denver:20250608T060000
DTEND;TZID=America/Denver:20250608T160000
DTSTAMP:20260425T082340
CREATED:20250319T041916Z
LAST-MODIFIED:20250319T150424Z
UID:10000023-1749362400-1749398400@avidcyclist.com
SUMMARY:2024 Ride to End ALZ
DESCRIPTION:All routes start and finish at Canvas Stadium on the Colorado State University campus in Fort Collins\, CO and feature scenic views\, along with best-in-class support along the way. \nWith distances ranging from 10 – 75 miles\, we’ve got something for every skill level! You’ll feel well supported with Safety & Gear (SAG) vehicles\, ample signage\, and law enforcement at key intersections. You will also be treated to breakfast\, fully stocked rest stops every 12-15 miles\, and an after-party complete with a catered meal and drinks to enjoy as you cheer on your fellow cyclists at the finish line. Please note\, to participate in person\, riders are required to meet a $500 minimum fundraising requirement. \nWe all have a ‘Why’. If you or anyone you love needs information or support\, the Alzheimer’s Association® is here and available to help with: \n\n\n\nOur free 24/7 Helpline (800.272.3900)\nInformation and resources on our extensive website at alz.org\nTips for caregivers during the COVID pandemic\nHow we are making the Ride to End ALZ safe\n\n\n\n  \nSee also: The Routes\, The Perks\, The Experience
URL:https://avidcyclist.com/event/2024-ride-to-end-alz/
LOCATION:Canvas Stadium\, West Pitkin Street\, Fort Collins\, CO\, United States
CATEGORIES:Non-Profit Fund Raising Event,Ride,Road
ATTACH;FMTTYPE=image/jpeg:https://avidcyclist.com/wp-content/uploads/Ride-to-End-ALZ-1.jpg
GEO:40.5708954;-105.086432
X-APPLE-STRUCTURED-LOCATION;VALUE=URI;X-ADDRESS=Canvas Stadium West Pitkin Street Fort Collins CO United States;X-APPLE-RADIUS=500;X-TITLE=West Pitkin Street:geo:-105.086432,40.5708954
END:VEVENT
END:VCALENDAR