BEGIN:VCALENDAR
VERSION:2.0
PRODID:-//Avid Cyclist - ECPv6.15.19//NONSGML v1.0//EN
CALSCALE:GREGORIAN
METHOD:PUBLISH
X-ORIGINAL-URL:https://avidcyclist.com
X-WR-CALDESC:Events for Avid Cyclist
REFRESH-INTERVAL;VALUE=DURATION:PT1H
X-Robots-Tag:noindex
X-PUBLISHED-TTL:PT1H
BEGIN:VTIMEZONE
TZID:America/Denver
BEGIN:DAYLIGHT
TZOFFSETFROM:-0700
TZOFFSETTO:-0600
TZNAME:MDT
DTSTART:20240310T090000
END:DAYLIGHT
BEGIN:STANDARD
TZOFFSETFROM:-0600
TZOFFSETTO:-0700
TZNAME:MST
DTSTART:20241103T080000
END:STANDARD
BEGIN:DAYLIGHT
TZOFFSETFROM:-0700
TZOFFSETTO:-0600
TZNAME:MDT
DTSTART:20250309T090000
END:DAYLIGHT
BEGIN:STANDARD
TZOFFSETFROM:-0600
TZOFFSETTO:-0700
TZNAME:MST
DTSTART:20251102T080000
END:STANDARD
BEGIN:DAYLIGHT
TZOFFSETFROM:-0700
TZOFFSETTO:-0600
TZNAME:MDT
DTSTART:20260308T090000
END:DAYLIGHT
BEGIN:STANDARD
TZOFFSETFROM:-0600
TZOFFSETTO:-0700
TZNAME:MST
DTSTART:20261101T080000
END:STANDARD
END:VTIMEZONE
BEGIN:VEVENT
DTSTART;TZID=America/Denver:20250509T190000
DTEND;TZID=America/Denver:20250509T220000
DTSTAMP:20260425T083537
CREATED:20250410T225517Z
LAST-MODIFIED:20250410T225517Z
UID:10000179-1746817200-1746828000@avidcyclist.com
SUMMARY:Ritual Mountain Bike Film Tour - Calgary\, AB\, Canada
DESCRIPTION:The inaugural gathering of mountain biking’s best films hits the big screen this spring featuring epic adventures\, legendary lines\, stellar storytelling\, and interstellar athletes. Don’t miss your chance to celebrate the sport we love among friends and fellow disciples of dirt.\nFor More Information or Tickets\, visit https://ritualbike.com/tour/
URL:https://avidcyclist.com/event/ritual-mountain-bike-film-tour-calgary-ab-canada/
LOCATION:Canyon Meadows Cinemas\, 13226 MacLeod Trail #110\, ANT2J7ES\, Calgary\, ABT2J 7E5\, Canada
CATEGORIES:Expo,Festival
ATTACH;FMTTYPE=image/jpeg:https://avidcyclist.com/wp-content/uploads/Ritual-Bike-Fest-1.jpg
ORGANIZER;CN="Ritual Mountain Bike Film Tour":MAILTO:info@ritualbike.com
GEO:50.9328412;-114.0660926
X-APPLE-STRUCTURED-LOCATION;VALUE=URI;X-ADDRESS=Canyon Meadows Cinemas 13226 MacLeod Trail #110 ANT2J7ES Calgary ABT2J 7E5 Canada;X-APPLE-RADIUS=500;X-TITLE=13226 MacLeod Trail #110:geo:-114.0660926,50.9328412
END:VEVENT
END:VCALENDAR