BEGIN:VCALENDAR
VERSION:2.0
PRODID:-//Avid Cyclist - ECPv6.15.19//NONSGML v1.0//EN
CALSCALE:GREGORIAN
METHOD:PUBLISH
X-ORIGINAL-URL:https://avidcyclist.com
X-WR-CALDESC:Events for Avid Cyclist
REFRESH-INTERVAL;VALUE=DURATION:PT1H
X-Robots-Tag:noindex
X-PUBLISHED-TTL:PT1H
BEGIN:VTIMEZONE
TZID:America/Denver
BEGIN:DAYLIGHT
TZOFFSETFROM:-0700
TZOFFSETTO:-0600
TZNAME:MDT
DTSTART:20240310T090000
END:DAYLIGHT
BEGIN:STANDARD
TZOFFSETFROM:-0600
TZOFFSETTO:-0700
TZNAME:MST
DTSTART:20241103T080000
END:STANDARD
BEGIN:DAYLIGHT
TZOFFSETFROM:-0700
TZOFFSETTO:-0600
TZNAME:MDT
DTSTART:20250309T090000
END:DAYLIGHT
BEGIN:STANDARD
TZOFFSETFROM:-0600
TZOFFSETTO:-0700
TZNAME:MST
DTSTART:20251102T080000
END:STANDARD
BEGIN:DAYLIGHT
TZOFFSETFROM:-0700
TZOFFSETTO:-0600
TZNAME:MDT
DTSTART:20260308T090000
END:DAYLIGHT
BEGIN:STANDARD
TZOFFSETFROM:-0600
TZOFFSETTO:-0700
TZNAME:MST
DTSTART:20261101T080000
END:STANDARD
END:VTIMEZONE
BEGIN:VEVENT
DTSTART;VALUE=DATE:20250517
DTEND;VALUE=DATE:20250518
DTSTAMP:20260425T073817
CREATED:20250512T033850Z
LAST-MODIFIED:20250512T033850Z
UID:10000258-1747440000-1747526399@avidcyclist.com
SUMMARY:Stetina’s Carson City Paydirt
DESCRIPTION:Stetina’s Carson City Paydirt 2025 has become a favorite gravel event among riders and was picked by Strambecco as one of the Best Gravel Cycling Race Events in the Southwest. It is produced in partnership with Bike Monkey and started by former World Pro Tour rider Peter Stetina who moved on in 2019 to concentrate on adventure racing with a focus on less-trafficked routes like gravel.  Stetina’s Paydirt offers a supported rugged gravel experience through the Pine Nut Mountains and Eastern Sierras. \nThe event is extra unique with a few fun\, creative twists including Wahoo’s Mechanical Bull which will enable participants to gain a 1-1 time bonus\, an IRC Tire-Toss which can further help riders score some critical bonus seconds\, and finally the Shimano Women’s Paydirt Challenge. Women get center stage with a $5\,000 women’s only purse (no men’s purse) and serves as one small step to tackle the problem of gender equality in cycling. \nBelow you will find information on course details\, lodging\, dining\, and other outdoor activities to do while in town for Stetina’s Paydirt.
URL:https://avidcyclist.com/event/stetinas-carson-city-paydirt/
LOCATION:Carson City\, Nevada\, Carson City\, NV
CATEGORIES:Gravel,Race
ATTACH;FMTTYPE=image/png:https://avidcyclist.com/wp-content/uploads/Stetinas-Carson-City-Paydirt.png
ORGANIZER;CN="BikeMonkey":MAILTO:info@bikemonkey.net
END:VEVENT
END:VCALENDAR