BEGIN:VCALENDAR
VERSION:2.0
PRODID:-//Avid Cyclist - ECPv6.15.19//NONSGML v1.0//EN
CALSCALE:GREGORIAN
METHOD:PUBLISH
X-WR-CALNAME:Avid Cyclist
X-ORIGINAL-URL:https://avidcyclist.com
X-WR-CALDESC:Events for Avid Cyclist
REFRESH-INTERVAL;VALUE=DURATION:PT1H
X-Robots-Tag:noindex
X-PUBLISHED-TTL:PT1H
BEGIN:VTIMEZONE
TZID:America/Denver
BEGIN:DAYLIGHT
TZOFFSETFROM:-0700
TZOFFSETTO:-0600
TZNAME:MDT
DTSTART:20240310T090000
END:DAYLIGHT
BEGIN:STANDARD
TZOFFSETFROM:-0600
TZOFFSETTO:-0700
TZNAME:MST
DTSTART:20241103T080000
END:STANDARD
BEGIN:DAYLIGHT
TZOFFSETFROM:-0700
TZOFFSETTO:-0600
TZNAME:MDT
DTSTART:20250309T090000
END:DAYLIGHT
BEGIN:STANDARD
TZOFFSETFROM:-0600
TZOFFSETTO:-0700
TZNAME:MST
DTSTART:20251102T080000
END:STANDARD
BEGIN:DAYLIGHT
TZOFFSETFROM:-0700
TZOFFSETTO:-0600
TZNAME:MDT
DTSTART:20260308T090000
END:DAYLIGHT
BEGIN:STANDARD
TZOFFSETFROM:-0600
TZOFFSETTO:-0700
TZNAME:MST
DTSTART:20261101T080000
END:STANDARD
END:VTIMEZONE
BEGIN:VEVENT
DTSTART;TZID=America/Denver:20250918T160000
DTEND;TZID=America/Denver:20250918T180000
DTSTAMP:20260425T054932
CREATED:20250821T205843Z
LAST-MODIFIED:20250821T205843Z
UID:10000350-1758211200-1758218400@avidcyclist.com
SUMMARY:Chatfield Time Trial Series
DESCRIPTION:Location:\nChatfield State Park\n11500 N. Roxborough Park Rd. Littleton\, CO\, 80125 \nDates:\nSeptember 4\, 11\, and 18 \nStart times: 4::00 PM to 6:00 PM \nExperience Colorado’s New Premier Time Trial Event! \nConquer the Course \nChallenge yourself on a fast\, scenic 10.9-mile course around beautiful Chatfield Lake! Whether you’re a seasoned racer or new to time trials\, this series welcomes all abilities. Enjoy smooth roads\, wide shoulders\, and breathtaking views at every turn. Early September brings pleasant\, sunny days and cool\, comfortable evenings—perfect conditions for unforgettable racing. \nDirections: Chatfield State Park is off of Wadsworth and C-470. Race headquarters at the Riverside Group area near the marina on the south side of the park.
URL:https://avidcyclist.com/event/chatfield-time-trial-series-2/2025-09-18/
LOCATION:Chatfield State Park\, N Roxborough Park Rd\, Littleton\, CO\, United States
CATEGORIES:Time Trial
ATTACH;FMTTYPE=image/png:https://avidcyclist.com/wp-content/uploads/chatfieldlogo-300x170-1.png
ORGANIZER;CN="COBRAS":MAILTO:Larry@cobrascycling.org
GEO:39.4921001;-105.0545745
X-APPLE-STRUCTURED-LOCATION;VALUE=URI;X-ADDRESS=Chatfield State Park N Roxborough Park Rd Littleton CO United States;X-APPLE-RADIUS=500;X-TITLE=N Roxborough Park Rd:geo:-105.0545745,39.4921001
END:VEVENT
BEGIN:VEVENT
DTSTART;TZID=America/Denver:20250918T160000
DTEND;TZID=America/Denver:20250918T180000
DTSTAMP:20260425T054932
CREATED:20250801T130729Z
LAST-MODIFIED:20250801T130729Z
UID:10000332-1758211200-1758218400@avidcyclist.com
SUMMARY:Chatfield Time Trial Series
DESCRIPTION:Three week time trial series held at Chatfield State Park.  \nChallenge yourself on a fast\, scenic 10.9-mile course around beautiful Chatfield Lake! Whether you’re a seasoned racer or new to time trials\, this series welcomes all abilities. Enjoy smooth roads\, wide shoulders\, and breathtaking views at every turn. Early September brings pleasant\, sunny days and cool\, comfortable evenings—perfect conditions for unforgettable racing.
URL:https://avidcyclist.com/event/chatfield-time-trial-series/2025-09-18/
LOCATION:Chatfield State Park\, N Roxborough Park Rd\, Littleton\, CO\, United States
CATEGORIES:Time Trial
ATTACH;FMTTYPE=image/jpeg:https://avidcyclist.com/wp-content/uploads/img_0681-1.jpeg
ORGANIZER;CN="COBRAS":MAILTO:Larry@cobrascycling.org
GEO:39.4921001;-105.0545745
X-APPLE-STRUCTURED-LOCATION;VALUE=URI;X-ADDRESS=Chatfield State Park N Roxborough Park Rd Littleton CO United States;X-APPLE-RADIUS=500;X-TITLE=N Roxborough Park Rd:geo:-105.0545745,39.4921001
END:VEVENT
BEGIN:VEVENT
DTSTART;TZID=America/Denver:20250911T160000
DTEND;TZID=America/Denver:20250911T180000
DTSTAMP:20260425T054932
CREATED:20250821T205843Z
LAST-MODIFIED:20250821T205843Z
UID:10000349-1757606400-1757613600@avidcyclist.com
SUMMARY:Chatfield Time Trial Series
DESCRIPTION:Location:\nChatfield State Park\n11500 N. Roxborough Park Rd. Littleton\, CO\, 80125 \nDates:\nSeptember 4\, 11\, and 18 \nStart times: 4::00 PM to 6:00 PM \nExperience Colorado’s New Premier Time Trial Event! \nConquer the Course \nChallenge yourself on a fast\, scenic 10.9-mile course around beautiful Chatfield Lake! Whether you’re a seasoned racer or new to time trials\, this series welcomes all abilities. Enjoy smooth roads\, wide shoulders\, and breathtaking views at every turn. Early September brings pleasant\, sunny days and cool\, comfortable evenings—perfect conditions for unforgettable racing. \nDirections: Chatfield State Park is off of Wadsworth and C-470. Race headquarters at the Riverside Group area near the marina on the south side of the park.
URL:https://avidcyclist.com/event/chatfield-time-trial-series-2/2025-09-11/
LOCATION:Chatfield State Park\, N Roxborough Park Rd\, Littleton\, CO\, United States
CATEGORIES:Time Trial
ATTACH;FMTTYPE=image/png:https://avidcyclist.com/wp-content/uploads/chatfieldlogo-300x170-1.png
ORGANIZER;CN="COBRAS":MAILTO:Larry@cobrascycling.org
GEO:39.4921001;-105.0545745
X-APPLE-STRUCTURED-LOCATION;VALUE=URI;X-ADDRESS=Chatfield State Park N Roxborough Park Rd Littleton CO United States;X-APPLE-RADIUS=500;X-TITLE=N Roxborough Park Rd:geo:-105.0545745,39.4921001
END:VEVENT
BEGIN:VEVENT
DTSTART;TZID=America/Denver:20250911T160000
DTEND;TZID=America/Denver:20250911T180000
DTSTAMP:20260425T054932
CREATED:20250801T130729Z
LAST-MODIFIED:20250801T130729Z
UID:10000331-1757606400-1757613600@avidcyclist.com
SUMMARY:Chatfield Time Trial Series
DESCRIPTION:Three week time trial series held at Chatfield State Park.  \nChallenge yourself on a fast\, scenic 10.9-mile course around beautiful Chatfield Lake! Whether you’re a seasoned racer or new to time trials\, this series welcomes all abilities. Enjoy smooth roads\, wide shoulders\, and breathtaking views at every turn. Early September brings pleasant\, sunny days and cool\, comfortable evenings—perfect conditions for unforgettable racing.
URL:https://avidcyclist.com/event/chatfield-time-trial-series/2025-09-11/
LOCATION:Chatfield State Park\, N Roxborough Park Rd\, Littleton\, CO\, United States
CATEGORIES:Time Trial
ATTACH;FMTTYPE=image/jpeg:https://avidcyclist.com/wp-content/uploads/img_0681-1.jpeg
ORGANIZER;CN="COBRAS":MAILTO:Larry@cobrascycling.org
GEO:39.4921001;-105.0545745
X-APPLE-STRUCTURED-LOCATION;VALUE=URI;X-ADDRESS=Chatfield State Park N Roxborough Park Rd Littleton CO United States;X-APPLE-RADIUS=500;X-TITLE=N Roxborough Park Rd:geo:-105.0545745,39.4921001
END:VEVENT
BEGIN:VEVENT
DTSTART;TZID=America/Denver:20250904T160000
DTEND;TZID=America/Denver:20250904T180000
DTSTAMP:20260425T054932
CREATED:20250821T205843Z
LAST-MODIFIED:20250821T205843Z
UID:10000348-1757001600-1757008800@avidcyclist.com
SUMMARY:Chatfield Time Trial Series
DESCRIPTION:Location:\nChatfield State Park\n11500 N. Roxborough Park Rd. Littleton\, CO\, 80125 \nDates:\nSeptember 4\, 11\, and 18 \nStart times: 4::00 PM to 6:00 PM \nExperience Colorado’s New Premier Time Trial Event! \nConquer the Course \nChallenge yourself on a fast\, scenic 10.9-mile course around beautiful Chatfield Lake! Whether you’re a seasoned racer or new to time trials\, this series welcomes all abilities. Enjoy smooth roads\, wide shoulders\, and breathtaking views at every turn. Early September brings pleasant\, sunny days and cool\, comfortable evenings—perfect conditions for unforgettable racing. \nDirections: Chatfield State Park is off of Wadsworth and C-470. Race headquarters at the Riverside Group area near the marina on the south side of the park.
URL:https://avidcyclist.com/event/chatfield-time-trial-series-2/2025-09-04/
LOCATION:Chatfield State Park\, N Roxborough Park Rd\, Littleton\, CO\, United States
CATEGORIES:Time Trial
ATTACH;FMTTYPE=image/png:https://avidcyclist.com/wp-content/uploads/chatfieldlogo-300x170-1.png
ORGANIZER;CN="COBRAS":MAILTO:Larry@cobrascycling.org
GEO:39.4921001;-105.0545745
X-APPLE-STRUCTURED-LOCATION;VALUE=URI;X-ADDRESS=Chatfield State Park N Roxborough Park Rd Littleton CO United States;X-APPLE-RADIUS=500;X-TITLE=N Roxborough Park Rd:geo:-105.0545745,39.4921001
END:VEVENT
BEGIN:VEVENT
DTSTART;TZID=America/Denver:20250904T160000
DTEND;TZID=America/Denver:20250904T180000
DTSTAMP:20260425T054932
CREATED:20250801T130729Z
LAST-MODIFIED:20250801T130729Z
UID:10000330-1757001600-1757008800@avidcyclist.com
SUMMARY:Chatfield Time Trial Series
DESCRIPTION:Three week time trial series held at Chatfield State Park.  \nChallenge yourself on a fast\, scenic 10.9-mile course around beautiful Chatfield Lake! Whether you’re a seasoned racer or new to time trials\, this series welcomes all abilities. Enjoy smooth roads\, wide shoulders\, and breathtaking views at every turn. Early September brings pleasant\, sunny days and cool\, comfortable evenings—perfect conditions for unforgettable racing.
URL:https://avidcyclist.com/event/chatfield-time-trial-series/2025-09-04/
LOCATION:Chatfield State Park\, N Roxborough Park Rd\, Littleton\, CO\, United States
CATEGORIES:Time Trial
ATTACH;FMTTYPE=image/jpeg:https://avidcyclist.com/wp-content/uploads/img_0681-1.jpeg
ORGANIZER;CN="COBRAS":MAILTO:Larry@cobrascycling.org
GEO:39.4921001;-105.0545745
X-APPLE-STRUCTURED-LOCATION;VALUE=URI;X-ADDRESS=Chatfield State Park N Roxborough Park Rd Littleton CO United States;X-APPLE-RADIUS=500;X-TITLE=N Roxborough Park Rd:geo:-105.0545745,39.4921001
END:VEVENT
BEGIN:VEVENT
DTSTART;TZID=America/Denver:20250725T150000
DTEND;TZID=America/Denver:20250725T190000
DTSTAMP:20260425T054932
CREATED:20250722T154508Z
LAST-MODIFIED:20250722T154649Z
UID:10000328-1753455600-1753470000@avidcyclist.com
SUMMARY:Access Adventure Multi-Sport and Family Day
DESCRIPTION:Come explore adaptive sports with Adaptive Adventures at Chatfield State Park. Bring your family for a FREE\, fun-filled\, experiential and social day including cycling\, climbing on a mobile rock wall\, kayaking and paddleboarding! \nEnjoy socializing with our amazing community of participants\, volunteers\, partners\, vendors and staff over a free picnic. \nTrying adaptive sports for the first time? Interested in honing your skills? Looking for camaraderie? We have something for everyone! \nThis program is open to all ages and abilities. Adaptations and modifications will be provided for children\, adults and veterans with physical disabilities and their families. Preregistration is required. \nIn the event of inclement weather\, registrants will receive updates via email and we will update our website. \n\nGoals:  \n\nHave fun as a community\nIntroduce new adaptive sports\nEducate\, teach and continue to foster new engagement\nVolunteer opportunities\nCommunity partner opportunities\n\nSchedule\n3:00 PM-7:00 PM MST – OPEN Cycling\, Climbing\, Kayaking and Paddleboarding \nThere will be three sports running throughout the event: cycling\, paddlesports\, and climbing. Each sport will be an introduction and allow all participants to experience the various adaptations and equipment available. \nWho Can Attend? \nThe programs offered by Adaptive Adventures are specifically designed to serve individuals with physical disabilities. To be eligible for participation in Adaptive Adventures programs\, individuals must be able to follow directions and effectively communicate without assistance. \nNo experience is necessary. Family and friends are welcome to attend. A picnic dinner will be provided. Activities and picnic are free to all registered participants and their guests! \nWhat Can I Expect?\nYou will have the opportunity to experience a variety of sports\, eat lunch\, enjoy the outdoors\, and meet other community members and partners. \nHow Should I Dress & Things to bring?\nBring layers\, protective sun gear\, swim gear (items that can get wet)\, sandals/water shoes\, towels\, water bottle\, suncreen\, and chair. \nPlease Note – Weather is fairly unpredictable (and yet predictable)! When we have sunny days\, it is likely that we will get afternoon thunderstorms. Please make a note of this when planning to come to this event. We will continue to run our activities as long as possible but please know that we may need to stop programming if lightning is in the area. \n\nLocation \nChatfield State Park
URL:https://avidcyclist.com/event/access-adventure-multi-sport-and-family-day/
LOCATION:Chatfield State Park\, N Roxborough Park Rd\, Littleton\, CO\, United States
CATEGORIES:Expo,Festival
ATTACH;FMTTYPE=image/jpeg:https://avidcyclist.com/wp-content/uploads/adaptive-adentures.jpg
GEO:39.4921001;-105.0545745
X-APPLE-STRUCTURED-LOCATION;VALUE=URI;X-ADDRESS=Chatfield State Park N Roxborough Park Rd Littleton CO United States;X-APPLE-RADIUS=500;X-TITLE=N Roxborough Park Rd:geo:-105.0545745,39.4921001
END:VEVENT
END:VCALENDAR