BEGIN:VCALENDAR
VERSION:2.0
PRODID:-//Avid Cyclist - ECPv6.15.19//NONSGML v1.0//EN
CALSCALE:GREGORIAN
METHOD:PUBLISH
X-ORIGINAL-URL:https://avidcyclist.com
X-WR-CALDESC:Events for Avid Cyclist
REFRESH-INTERVAL;VALUE=DURATION:PT1H
X-Robots-Tag:noindex
X-PUBLISHED-TTL:PT1H
BEGIN:VTIMEZONE
TZID:America/Denver
BEGIN:DAYLIGHT
TZOFFSETFROM:-0700
TZOFFSETTO:-0600
TZNAME:MDT
DTSTART:20250309T090000
END:DAYLIGHT
BEGIN:STANDARD
TZOFFSETFROM:-0600
TZOFFSETTO:-0700
TZNAME:MST
DTSTART:20251102T080000
END:STANDARD
BEGIN:DAYLIGHT
TZOFFSETFROM:-0700
TZOFFSETTO:-0600
TZNAME:MDT
DTSTART:20260308T090000
END:DAYLIGHT
BEGIN:STANDARD
TZOFFSETFROM:-0600
TZOFFSETTO:-0700
TZNAME:MST
DTSTART:20261101T080000
END:STANDARD
BEGIN:DAYLIGHT
TZOFFSETFROM:-0700
TZOFFSETTO:-0600
TZNAME:MDT
DTSTART:20270314T090000
END:DAYLIGHT
BEGIN:STANDARD
TZOFFSETFROM:-0600
TZOFFSETTO:-0700
TZNAME:MST
DTSTART:20271107T080000
END:STANDARD
END:VTIMEZONE
BEGIN:VEVENT
DTSTART;VALUE=DATE:20260502
DTEND;VALUE=DATE:20260504
DTSTAMP:20260425T071158
CREATED:20251113T204705Z
LAST-MODIFIED:20251113T204729Z
UID:10000433-1777680000-1777852799@avidcyclist.com
SUMMARY:Gran Fondo Hincapie - Chattanooga
DESCRIPTION:Join George on a ride through the Tennessee mountains! \nRide from downtown city streets to winding mountain roads. Gran Fondo Hincapie-Chattanooga begins in the center of the River City before taking you on a scenic ride along the Tennessee River and ascending Sequatchie Mountain. Celebrate your finish (and your survival of Sequatchie Mountain) at our family festival\, with beverages and free food for you and your friends.
URL:https://avidcyclist.com/event/gran-fondo-hincapie-chattanooga/
LOCATION:Chattanooga\, Tennessee\, Chattanooga\, Tennessee
CATEGORIES:Fondo,Race,Road
ATTACH;FMTTYPE=image/png:https://avidcyclist.com/wp-content/uploads/hincappie-chattannooga-.png
END:VEVENT
END:VCALENDAR