BEGIN:VCALENDAR
VERSION:2.0
PRODID:-//Avid Cyclist - ECPv6.15.19//NONSGML v1.0//EN
CALSCALE:GREGORIAN
METHOD:PUBLISH
X-ORIGINAL-URL:https://avidcyclist.com
X-WR-CALDESC:Events for Avid Cyclist
REFRESH-INTERVAL;VALUE=DURATION:PT1H
X-Robots-Tag:noindex
X-PUBLISHED-TTL:PT1H
BEGIN:VTIMEZONE
TZID:America/Denver
BEGIN:DAYLIGHT
TZOFFSETFROM:-0700
TZOFFSETTO:-0600
TZNAME:MDT
DTSTART:20240310T090000
END:DAYLIGHT
BEGIN:STANDARD
TZOFFSETFROM:-0600
TZOFFSETTO:-0700
TZNAME:MST
DTSTART:20241103T080000
END:STANDARD
BEGIN:DAYLIGHT
TZOFFSETFROM:-0700
TZOFFSETTO:-0600
TZNAME:MDT
DTSTART:20250309T090000
END:DAYLIGHT
BEGIN:STANDARD
TZOFFSETFROM:-0600
TZOFFSETTO:-0700
TZNAME:MST
DTSTART:20251102T080000
END:STANDARD
BEGIN:DAYLIGHT
TZOFFSETFROM:-0700
TZOFFSETTO:-0600
TZNAME:MDT
DTSTART:20260308T090000
END:DAYLIGHT
BEGIN:STANDARD
TZOFFSETFROM:-0600
TZOFFSETTO:-0700
TZNAME:MST
DTSTART:20261101T080000
END:STANDARD
END:VTIMEZONE
BEGIN:VEVENT
DTSTART;TZID=America/Denver:20250719T063000
DTEND;TZID=America/Denver:20250719T153000
DTSTAMP:20260425T062117
CREATED:20250319T042116Z
LAST-MODIFIED:20250319T150424Z
UID:10000028-1752906600-1752939000@avidcyclist.com
SUMMARY:The 719 Ride Elevation Celebration
DESCRIPTION:The locally-organized 719 Ride FESTIVAL OF NEVER-ENDING ASCENDING brings cycling and community together on a 14-mile loop course of neighborhood roads. \nIt’s AN ELEVATION CELEBRATION where repetition happens and beauty is found in a merry-go-round of uphilly-ness. \nFive laps (71.9 miles and 9\,190′ of elevation gain) is the signature ride\, but you can ride as many or as few laps as your mind can handle and your legs will allow. Penny farthings are welcome! \nFrom our Personal Challenge Rides to our Epic Elevation Quests\, The Course That Cannot Be Defeated will elevate you to new heights of accomplishment and fun — Type I and Type II F-U-N!
URL:https://avidcyclist.com/event/the-719-ride-elevation-celebration/
LOCATION:Chipeta Elementary School\, Colorado Springs\, CO\, United States
CATEGORIES:Non-Profit Fund Raising Event,Ride,Road
ATTACH;FMTTYPE=image/jpeg:https://avidcyclist.com/wp-content/uploads/719-Ride.jpg
END:VEVENT
END:VCALENDAR