BEGIN:VCALENDAR
VERSION:2.0
PRODID:-//Avid Cyclist - ECPv6.15.19//NONSGML v1.0//EN
CALSCALE:GREGORIAN
METHOD:PUBLISH
X-WR-CALNAME:Avid Cyclist
X-ORIGINAL-URL:https://avidcyclist.com
X-WR-CALDESC:Events for Avid Cyclist
REFRESH-INTERVAL;VALUE=DURATION:PT1H
X-Robots-Tag:noindex
X-PUBLISHED-TTL:PT1H
BEGIN:VTIMEZONE
TZID:America/Denver
BEGIN:DAYLIGHT
TZOFFSETFROM:-0700
TZOFFSETTO:-0600
TZNAME:MDT
DTSTART:20240310T090000
END:DAYLIGHT
BEGIN:STANDARD
TZOFFSETFROM:-0600
TZOFFSETTO:-0700
TZNAME:MST
DTSTART:20241103T080000
END:STANDARD
BEGIN:DAYLIGHT
TZOFFSETFROM:-0700
TZOFFSETTO:-0600
TZNAME:MDT
DTSTART:20250309T090000
END:DAYLIGHT
BEGIN:STANDARD
TZOFFSETFROM:-0600
TZOFFSETTO:-0700
TZNAME:MST
DTSTART:20251102T080000
END:STANDARD
BEGIN:DAYLIGHT
TZOFFSETFROM:-0700
TZOFFSETTO:-0600
TZNAME:MDT
DTSTART:20260308T090000
END:DAYLIGHT
BEGIN:STANDARD
TZOFFSETFROM:-0600
TZOFFSETTO:-0700
TZNAME:MST
DTSTART:20261101T080000
END:STANDARD
END:VTIMEZONE
BEGIN:VEVENT
DTSTART;TZID=America/Denver:20250426T030000
DTEND;TZID=America/Denver:20250426T210000
DTSTAMP:20260425T073527
CREATED:20250424T133811Z
LAST-MODIFIED:20250424T133811Z
UID:10000195-1745636400-1745701200@avidcyclist.com
SUMMARY:Denver Bike Fest
DESCRIPTION:DENVER BIKE FESTAPRIL 26th\, 3-9 PM\, 2025CITY PARK PAVILIONTHE ULTIMATE CELEBRATION OF DENVER’S BICYCLE COMMUNITY
URL:https://avidcyclist.com/event/denver-bike-fest/
LOCATION:City Park Pavilion\, Denver\, CO\, 80202\, United States
CATEGORIES:Expo,Festival
ATTACH;FMTTYPE=image/png:https://avidcyclist.com/wp-content/uploads/Denver-Bike-Fest-2.png
END:VEVENT
END:VCALENDAR