BEGIN:VCALENDAR
VERSION:2.0
PRODID:-//Avid Cyclist - ECPv6.15.19//NONSGML v1.0//EN
CALSCALE:GREGORIAN
METHOD:PUBLISH
X-WR-CALNAME:Avid Cyclist
X-ORIGINAL-URL:https://avidcyclist.com
X-WR-CALDESC:Events for Avid Cyclist
REFRESH-INTERVAL;VALUE=DURATION:PT1H
X-Robots-Tag:noindex
X-PUBLISHED-TTL:PT1H
BEGIN:VTIMEZONE
TZID:America/Denver
BEGIN:DAYLIGHT
TZOFFSETFROM:-0700
TZOFFSETTO:-0600
TZNAME:MDT
DTSTART:20250309T090000
END:DAYLIGHT
BEGIN:STANDARD
TZOFFSETFROM:-0600
TZOFFSETTO:-0700
TZNAME:MST
DTSTART:20251102T080000
END:STANDARD
BEGIN:DAYLIGHT
TZOFFSETFROM:-0700
TZOFFSETTO:-0600
TZNAME:MDT
DTSTART:20260308T090000
END:DAYLIGHT
BEGIN:STANDARD
TZOFFSETFROM:-0600
TZOFFSETTO:-0700
TZNAME:MST
DTSTART:20261101T080000
END:STANDARD
BEGIN:DAYLIGHT
TZOFFSETFROM:-0700
TZOFFSETTO:-0600
TZNAME:MDT
DTSTART:20270314T090000
END:DAYLIGHT
BEGIN:STANDARD
TZOFFSETFROM:-0600
TZOFFSETTO:-0700
TZNAME:MST
DTSTART:20271107T080000
END:STANDARD
END:VTIMEZONE
BEGIN:VEVENT
DTSTART;VALUE=DATE:20260718
DTEND;VALUE=DATE:20260719
DTSTAMP:20260425T042434
CREATED:20250319T041456Z
LAST-MODIFIED:20251202T183537Z
UID:10000003-1784332800-1784419199@avidcyclist.com
SUMMARY:The Range Gravel
DESCRIPTION:THE RANGE is an epic gravel cycling experience\, adventure\, race and ride on July 18\, 2026. The Range Routes is gravel riding at its peak through private and public roads in the pristine varied eco-systems of Southwest Alberta. There are 4 routes for all abilities.
URL:https://avidcyclist.com/event/the-range-gravel/
LOCATION:Claresholm\, Alberta\, Claresholm\, Alberta\, Canada
CATEGORIES:Gravel
ATTACH;FMTTYPE=image/jpeg:https://avidcyclist.com/wp-content/uploads/The-Range-Gravel.jpg
ORGANIZER;CN="TransRockies Race Series":MAILTO:aaron@transrockies.com
END:VEVENT
END:VCALENDAR