BEGIN:VCALENDAR
VERSION:2.0
PRODID:-//Avid Cyclist - ECPv6.15.19//NONSGML v1.0//EN
CALSCALE:GREGORIAN
METHOD:PUBLISH
X-ORIGINAL-URL:https://avidcyclist.com
X-WR-CALDESC:Events for Avid Cyclist
REFRESH-INTERVAL;VALUE=DURATION:PT1H
X-Robots-Tag:noindex
X-PUBLISHED-TTL:PT1H
BEGIN:VTIMEZONE
TZID:America/Denver
BEGIN:DAYLIGHT
TZOFFSETFROM:-0700
TZOFFSETTO:-0600
TZNAME:MDT
DTSTART:20240310T090000
END:DAYLIGHT
BEGIN:STANDARD
TZOFFSETFROM:-0600
TZOFFSETTO:-0700
TZNAME:MST
DTSTART:20241103T080000
END:STANDARD
BEGIN:DAYLIGHT
TZOFFSETFROM:-0700
TZOFFSETTO:-0600
TZNAME:MDT
DTSTART:20250309T090000
END:DAYLIGHT
BEGIN:STANDARD
TZOFFSETFROM:-0600
TZOFFSETTO:-0700
TZNAME:MST
DTSTART:20251102T080000
END:STANDARD
BEGIN:DAYLIGHT
TZOFFSETFROM:-0700
TZOFFSETTO:-0600
TZNAME:MDT
DTSTART:20260308T090000
END:DAYLIGHT
BEGIN:STANDARD
TZOFFSETFROM:-0600
TZOFFSETTO:-0700
TZNAME:MST
DTSTART:20261101T080000
END:STANDARD
END:VTIMEZONE
BEGIN:VEVENT
DTSTART;VALUE=DATE:20250823
DTEND;VALUE=DATE:20250824
DTSTAMP:20260425T071738
CREATED:20250807T213409Z
LAST-MODIFIED:20250807T213409Z
UID:10000336-1755907200-1755993599@avidcyclist.com
SUMMARY:Rampart Rager
DESCRIPTION:Registration is now open for the 2025 Rampart Rager Gravel & Regional Gravel Hillclimb Championship in Colorado Springs\, featuring a $2\,500 prize purse with equal awards for men and women. This challenging course offers well-marked trails\, chip timing\, aid stations\, and a post-ride party with live music\, a food truck\, and prizes!
URL:https://avidcyclist.com/event/rampart-rager/
LOCATION:Colorado Springs\, Colorado\, Colorado Springs\, CO\, United States
CATEGORIES:Gravel
ATTACH;FMTTYPE=image/jpeg:https://avidcyclist.com/wp-content/uploads/rampart-rager.jpg
END:VEVENT
END:VCALENDAR