BEGIN:VCALENDAR
VERSION:2.0
PRODID:-//Avid Cyclist - ECPv6.15.19//NONSGML v1.0//EN
CALSCALE:GREGORIAN
METHOD:PUBLISH
X-ORIGINAL-URL:https://avidcyclist.com
X-WR-CALDESC:Events for Avid Cyclist
REFRESH-INTERVAL;VALUE=DURATION:PT1H
X-Robots-Tag:noindex
X-PUBLISHED-TTL:PT1H
BEGIN:VTIMEZONE
TZID:America/Denver
BEGIN:DAYLIGHT
TZOFFSETFROM:-0700
TZOFFSETTO:-0600
TZNAME:MDT
DTSTART:20250309T090000
END:DAYLIGHT
BEGIN:STANDARD
TZOFFSETFROM:-0600
TZOFFSETTO:-0700
TZNAME:MST
DTSTART:20251102T080000
END:STANDARD
BEGIN:DAYLIGHT
TZOFFSETFROM:-0700
TZOFFSETTO:-0600
TZNAME:MDT
DTSTART:20260308T090000
END:DAYLIGHT
BEGIN:STANDARD
TZOFFSETFROM:-0600
TZOFFSETTO:-0700
TZNAME:MST
DTSTART:20261101T080000
END:STANDARD
BEGIN:DAYLIGHT
TZOFFSETFROM:-0700
TZOFFSETTO:-0600
TZNAME:MDT
DTSTART:20270314T090000
END:DAYLIGHT
BEGIN:STANDARD
TZOFFSETFROM:-0600
TZOFFSETTO:-0700
TZNAME:MST
DTSTART:20271107T080000
END:STANDARD
END:VTIMEZONE
BEGIN:VEVENT
DTSTART;VALUE=DATE:20260801
DTEND;VALUE=DATE:20260802
DTSTAMP:20260422T170155
CREATED:20250319T043409Z
LAST-MODIFIED:20260225T181512Z
UID:10000113-1785542400-1785628799@avidcyclist.com
SUMMARY:Copper Triangle
DESCRIPTION:A COLORADO CLASSIC\nBased at Copper Mountain Resort in the heart of the Rockies\, the famous Copper Triangle is a cycling classic. \nThis road ride is graced with breathtaking scenery\, gorgeous roads and three climbs over 10\,000 feet. The 79-mile loop crests three Colorado mountain passes – Fremont Pass (Elev. 11\,318’)\, Tennessee Pass (Elev. 10\,424’) and Vail Pass (Elev. 10\,662’) – for a total elevation gain of 6\,500 feet.
URL:https://avidcyclist.com/event/copper-triangle/
LOCATION:Copper Mountain\, Colorado\, Copper Mountain\, CO\, United States
CATEGORIES:Non-Profit Fund Raising Event,Ride,Road
ATTACH;FMTTYPE=image/jpeg:https://avidcyclist.com/wp-content/uploads/2025/03/copper-triangle-1.jpg
ORGANIZER;CN="The Ride Collective":MAILTO:support@theridecollective.com ;
END:VEVENT
END:VCALENDAR