BEGIN:VCALENDAR
VERSION:2.0
PRODID:-//Avid Cyclist - ECPv6.15.19//NONSGML v1.0//EN
CALSCALE:GREGORIAN
METHOD:PUBLISH
X-ORIGINAL-URL:https://avidcyclist.com
X-WR-CALDESC:Events for Avid Cyclist
REFRESH-INTERVAL;VALUE=DURATION:PT1H
X-Robots-Tag:noindex
X-PUBLISHED-TTL:PT1H
BEGIN:VTIMEZONE
TZID:America/Denver
BEGIN:DAYLIGHT
TZOFFSETFROM:-0700
TZOFFSETTO:-0600
TZNAME:MDT
DTSTART:20240310T090000
END:DAYLIGHT
BEGIN:STANDARD
TZOFFSETFROM:-0600
TZOFFSETTO:-0700
TZNAME:MST
DTSTART:20241103T080000
END:STANDARD
BEGIN:DAYLIGHT
TZOFFSETFROM:-0700
TZOFFSETTO:-0600
TZNAME:MDT
DTSTART:20250309T090000
END:DAYLIGHT
BEGIN:STANDARD
TZOFFSETFROM:-0600
TZOFFSETTO:-0700
TZNAME:MST
DTSTART:20251102T080000
END:STANDARD
BEGIN:DAYLIGHT
TZOFFSETFROM:-0700
TZOFFSETTO:-0600
TZNAME:MDT
DTSTART:20260308T090000
END:DAYLIGHT
BEGIN:STANDARD
TZOFFSETFROM:-0600
TZOFFSETTO:-0700
TZNAME:MST
DTSTART:20261101T080000
END:STANDARD
END:VTIMEZONE
BEGIN:VEVENT
DTSTART;VALUE=DATE:20250927
DTEND;VALUE=DATE:20250928
DTSTAMP:20260425T071153
CREATED:20250821T193219Z
LAST-MODIFIED:20250821T193603Z
UID:10000346-1758931200-1759017599@avidcyclist.com
SUMMARY:SchoolYard Cross
DESCRIPTION:Welcome to the 2025 Schoolyard Cross! \nHosted by Boulder Junior Cycling and the Dawson School Cyclocross Team in memory of Magnus White \nSaturday\, Sept. 27\, 2025\n17th Annual – Colorado’s Best Race for Beginners! \n\nRegistration is open here.\nFree entry for juniors\, U25\, and first-time women\nNeutral race support provided by Trek Store Boulder\nSponsored by Shimano\nMountain bikes are welcome!\nFree women’s clinic Wednesday night\nHarvest Festival\nPart of the Colorado Cross Cup\nCat 4 & 5 reserved for adults only.\nA USA CYCLING license is required to race. (FREE one-day licenses are available for beginners and juniors\, scroll down for details)\nKids Event for age 6\,7\, 8 (actual age on race day) at Noon\, just go to registration onsite to sign a waiver (no registration needed)\nAll proceeds support junior cycling
URL:https://avidcyclist.com/event/schoolyard-cross/
LOCATION:Dawson School\, 10455 Dawson Drive\, Lafayette\, Colorado\, 80026
CATEGORIES:Cyclocross
ATTACH;FMTTYPE=image/png:https://avidcyclist.com/wp-content/uploads/schoolyard-cross-1.png
GEO:40.0633475;-105.1105189
X-APPLE-STRUCTURED-LOCATION;VALUE=URI;X-ADDRESS=Dawson School 10455 Dawson Drive Lafayette Colorado 80026;X-APPLE-RADIUS=500;X-TITLE=10455 Dawson Drive:geo:-105.1105189,40.0633475
END:VEVENT
END:VCALENDAR