BEGIN:VCALENDAR
VERSION:2.0
PRODID:-//Avid Cyclist - ECPv6.15.19//NONSGML v1.0//EN
CALSCALE:GREGORIAN
METHOD:PUBLISH
X-ORIGINAL-URL:https://avidcyclist.com
X-WR-CALDESC:Events for Avid Cyclist
REFRESH-INTERVAL;VALUE=DURATION:PT1H
X-Robots-Tag:noindex
X-PUBLISHED-TTL:PT1H
BEGIN:VTIMEZONE
TZID:America/Denver
BEGIN:DAYLIGHT
TZOFFSETFROM:-0700
TZOFFSETTO:-0600
TZNAME:MDT
DTSTART:20240310T090000
END:DAYLIGHT
BEGIN:STANDARD
TZOFFSETFROM:-0600
TZOFFSETTO:-0700
TZNAME:MST
DTSTART:20241103T080000
END:STANDARD
BEGIN:DAYLIGHT
TZOFFSETFROM:-0700
TZOFFSETTO:-0600
TZNAME:MDT
DTSTART:20250309T090000
END:DAYLIGHT
BEGIN:STANDARD
TZOFFSETFROM:-0600
TZOFFSETTO:-0700
TZNAME:MST
DTSTART:20251102T080000
END:STANDARD
BEGIN:DAYLIGHT
TZOFFSETFROM:-0700
TZOFFSETTO:-0600
TZNAME:MDT
DTSTART:20260308T090000
END:DAYLIGHT
BEGIN:STANDARD
TZOFFSETFROM:-0600
TZOFFSETTO:-0700
TZNAME:MST
DTSTART:20261101T080000
END:STANDARD
END:VTIMEZONE
BEGIN:VEVENT
DTSTART;TZID=America/Denver:20251023T173000
DTEND;TZID=America/Denver:20251023T193000
DTSTAMP:20260422T170933
CREATED:20251007T225547Z
LAST-MODIFIED:20251007T225547Z
UID:10000404-1761240600-1761247800@avidcyclist.com
SUMMARY:Route2Change - Denver Zoo
DESCRIPTION:A moving town hall to turn outrage into action.\n\nWe are bringing lawmakers to you.\nLast year 4\,282 of us pedaled together. \nThis year we’re putting Colorado’s decision-makers on the bus—literally—to see exactly where cyclists\, pedestrians\, and other vulnerable road users have been killed. At every stop\, we’ll honor lives lost\, hear the stories behind the statistics\, and share the impact on our communities. \nJoin us to tell your story\, advocate for what you want changed\, and push our legislators toward stronger protections in the 2026 session. \n\nDenver\, October 23th 2025\nDenver Zoo\, 2300 Steel Street\, Denver\, CO 80205\n\n\n\n\n\n\n\n\n\n\n\nRegister for Denver Zoo Event 
URL:https://avidcyclist.com/event/route2change-denver-zoo/
LOCATION:Denver Zoo\, 2300 Steel Street\, Denver\, Colorado\, 80205
CATEGORIES:Advocacy Rally/Ride
ATTACH;FMTTYPE=image/png:https://avidcyclist.com/wp-content/uploads/route-to-change.png
GEO:39.7495985;-104.9507763
X-APPLE-STRUCTURED-LOCATION;VALUE=URI;X-ADDRESS=Denver Zoo 2300 Steel Street Denver Colorado 80205;X-APPLE-RADIUS=500;X-TITLE=2300 Steel Street:geo:-104.9507763,39.7495985
END:VEVENT
END:VCALENDAR