BEGIN:VCALENDAR
VERSION:2.0
PRODID:-//Avid Cyclist - ECPv6.15.19//NONSGML v1.0//EN
CALSCALE:GREGORIAN
METHOD:PUBLISH
X-WR-CALNAME:Avid Cyclist
X-ORIGINAL-URL:https://avidcyclist.com
X-WR-CALDESC:Events for Avid Cyclist
REFRESH-INTERVAL;VALUE=DURATION:PT1H
X-Robots-Tag:noindex
X-PUBLISHED-TTL:PT1H
BEGIN:VTIMEZONE
TZID:America/Denver
BEGIN:DAYLIGHT
TZOFFSETFROM:-0700
TZOFFSETTO:-0600
TZNAME:MDT
DTSTART:20240310T090000
END:DAYLIGHT
BEGIN:STANDARD
TZOFFSETFROM:-0600
TZOFFSETTO:-0700
TZNAME:MST
DTSTART:20241103T080000
END:STANDARD
BEGIN:DAYLIGHT
TZOFFSETFROM:-0700
TZOFFSETTO:-0600
TZNAME:MDT
DTSTART:20250309T090000
END:DAYLIGHT
BEGIN:STANDARD
TZOFFSETFROM:-0600
TZOFFSETTO:-0700
TZNAME:MST
DTSTART:20251102T080000
END:STANDARD
BEGIN:DAYLIGHT
TZOFFSETFROM:-0700
TZOFFSETTO:-0600
TZNAME:MDT
DTSTART:20260308T090000
END:DAYLIGHT
BEGIN:STANDARD
TZOFFSETFROM:-0600
TZOFFSETTO:-0700
TZNAME:MST
DTSTART:20261101T080000
END:STANDARD
END:VTIMEZONE
BEGIN:VEVENT
DTSTART;VALUE=DATE:20250608
DTEND;VALUE=DATE:20250609
DTSTAMP:20260425T103338
CREATED:20250319T042515Z
LAST-MODIFIED:20250513T025947Z
UID:10000037-1749340800-1749427199@avidcyclist.com
SUMMARY:Natural Grocers Criterium
DESCRIPTION:The Natural Grocers criterium will be held on the Douglas County EVOC track south of Titan road. The course is 1.3 miles with fast flowing corners and 45 feet of elevation change per lap. Great road surface conditions on a fully closed circuit.
URL:https://avidcyclist.com/event/natural-grocers-criterium/
LOCATION:Douglas County EVOC Track\, 8500 N. Moore Rd\, Littleton\, CO\, 80125\, United States
CATEGORIES:Criterium
ATTACH;FMTTYPE=image/png:https://avidcyclist.com/wp-content/uploads/Natural-Grocers-Criterium.png
GEO:39.4880111;-105.0260545
X-APPLE-STRUCTURED-LOCATION;VALUE=URI;X-ADDRESS=Douglas County EVOC Track 8500 N. Moore Rd Littleton CO 80125 United States;X-APPLE-RADIUS=500;X-TITLE=8500 N. Moore Rd:geo:-105.0260545,39.4880111
END:VEVENT
END:VCALENDAR