BEGIN:VCALENDAR
VERSION:2.0
PRODID:-//Avid Cyclist - ECPv6.15.19//NONSGML v1.0//EN
CALSCALE:GREGORIAN
METHOD:PUBLISH
X-WR-CALNAME:Avid Cyclist
X-ORIGINAL-URL:https://avidcyclist.com
X-WR-CALDESC:Events for Avid Cyclist
REFRESH-INTERVAL;VALUE=DURATION:PT1H
X-Robots-Tag:noindex
X-PUBLISHED-TTL:PT1H
BEGIN:VTIMEZONE
TZID:America/Denver
BEGIN:DAYLIGHT
TZOFFSETFROM:-0700
TZOFFSETTO:-0600
TZNAME:MDT
DTSTART:20250309T090000
END:DAYLIGHT
BEGIN:STANDARD
TZOFFSETFROM:-0600
TZOFFSETTO:-0700
TZNAME:MST
DTSTART:20251102T080000
END:STANDARD
BEGIN:DAYLIGHT
TZOFFSETFROM:-0700
TZOFFSETTO:-0600
TZNAME:MDT
DTSTART:20260308T090000
END:DAYLIGHT
BEGIN:STANDARD
TZOFFSETFROM:-0600
TZOFFSETTO:-0700
TZNAME:MST
DTSTART:20261101T080000
END:STANDARD
BEGIN:DAYLIGHT
TZOFFSETFROM:-0700
TZOFFSETTO:-0600
TZNAME:MDT
DTSTART:20270314T090000
END:DAYLIGHT
BEGIN:STANDARD
TZOFFSETFROM:-0600
TZOFFSETTO:-0700
TZNAME:MST
DTSTART:20271107T080000
END:STANDARD
END:VTIMEZONE
BEGIN:VEVENT
DTSTART;VALUE=DATE:20260815
DTEND;VALUE=DATE:20260817
DTSTAMP:20260425T070913
CREATED:20260115T183531Z
LAST-MODIFIED:20260115T213157Z
UID:10000591-1786752000-1786924799@avidcyclist.com
SUMMARY:Dunnville Grand Tour
DESCRIPTION:The Dunnville Grand Tour is more than a scenic cycling event — for over 10 years we’ve partnered with True Experience to support mental health in our community. Through this ride\, participants help raise funds and awareness for life-changing housing\, community programs\, and support services for adults living with mental illness. \n\n\n\n\n\n\n\n\n\nThe tour is a bicycle ride for all skill levels. Our routes are all on road and mostly flat with wide shoulders. You’ll be riding through some of the most beautiful scenery in Haldimand County.\nFree lunch\, drinks\, fruit and snacks are included at rest stops. SAG Wagon and maps are provided\n\n\n\n\n\n\n\n\n\n\n\n\n\n\n\n\n\n  Ride options: 25\, 50\, 75\, 100 km loops (each day) and 160km (Saturday Only)\nSaturday routes will differ from Sunday routes\n\n\n\n\n\n\n\n\n\n\n\n\n\n\n\n\n\n Dunnville Memorial Arena & Community Lifespan Centre\n275 Ramsey Drive\nDunnville\, Ontario\nCanada\, N1A 0A7\n\n\n\n\n\n\n\n\n\n\n\n\n\n\n\n\n\nCome and join us August 15-16\, 2026 in Dunnville rain or shine .
URL:https://avidcyclist.com/event/dunnville-grand-tour/
LOCATION:Dunnville\, Onterio\, Dunnville\, Onterio\, Canada
CATEGORIES:Non-Profit Fund Raising Event,Ride
ATTACH;FMTTYPE=image/png:https://avidcyclist.com/wp-content/uploads/2026/01/dunnville-grand-tour.png
GEO:42.9035374;-79.6170044
END:VEVENT
END:VCALENDAR