BEGIN:VCALENDAR
VERSION:2.0
PRODID:-//Avid Cyclist - ECPv6.15.19//NONSGML v1.0//EN
CALSCALE:GREGORIAN
METHOD:PUBLISH
X-WR-CALNAME:Avid Cyclist
X-ORIGINAL-URL:https://avidcyclist.com
X-WR-CALDESC:Events for Avid Cyclist
REFRESH-INTERVAL;VALUE=DURATION:PT1H
X-Robots-Tag:noindex
X-PUBLISHED-TTL:PT1H
BEGIN:VTIMEZONE
TZID:America/Denver
BEGIN:DAYLIGHT
TZOFFSETFROM:-0700
TZOFFSETTO:-0600
TZNAME:MDT
DTSTART:20250309T090000
END:DAYLIGHT
BEGIN:STANDARD
TZOFFSETFROM:-0600
TZOFFSETTO:-0700
TZNAME:MST
DTSTART:20251102T080000
END:STANDARD
BEGIN:DAYLIGHT
TZOFFSETFROM:-0700
TZOFFSETTO:-0600
TZNAME:MDT
DTSTART:20260308T090000
END:DAYLIGHT
BEGIN:STANDARD
TZOFFSETFROM:-0600
TZOFFSETTO:-0700
TZNAME:MST
DTSTART:20261101T080000
END:STANDARD
BEGIN:DAYLIGHT
TZOFFSETFROM:-0700
TZOFFSETTO:-0600
TZNAME:MDT
DTSTART:20270314T090000
END:DAYLIGHT
BEGIN:STANDARD
TZOFFSETFROM:-0600
TZOFFSETTO:-0700
TZNAME:MST
DTSTART:20271107T080000
END:STANDARD
END:VTIMEZONE
BEGIN:VEVENT
DTSTART;VALUE=DATE:20260829
DTEND;VALUE=DATE:20260830
DTSTAMP:20260424T090652
CREATED:20250319T042536Z
LAST-MODIFIED:20260103T040454Z
UID:10000045-1787961600-1788047999@avidcyclist.com
SUMMARY:Wasatch All-Road Gravel Race - Utah
DESCRIPTION:Yeti is rumored to roam the Wasatch mountains for the greatest snow on earth in the winter. But did you know that Yeti has also cruised on a bike to find the greatest gravel on earth in the summer? Come see for yourself…
URL:https://avidcyclist.com/event/wasatch-all-road-gravel-race-utah/
LOCATION:Francis\, Utah\, Francis\, UT\, United States
CATEGORIES:Gravel,Race
ATTACH;FMTTYPE=image/png:https://avidcyclist.com/wp-content/uploads/Wasatch-All-road-gravel-race.png
END:VEVENT
END:VCALENDAR