BEGIN:VCALENDAR
VERSION:2.0
PRODID:-//Avid Cyclist - ECPv6.15.19//NONSGML v1.0//EN
CALSCALE:GREGORIAN
METHOD:PUBLISH
X-ORIGINAL-URL:https://avidcyclist.com
X-WR-CALDESC:Events for Avid Cyclist
REFRESH-INTERVAL;VALUE=DURATION:PT1H
X-Robots-Tag:noindex
X-PUBLISHED-TTL:PT1H
BEGIN:VTIMEZONE
TZID:America/Denver
BEGIN:DAYLIGHT
TZOFFSETFROM:-0700
TZOFFSETTO:-0600
TZNAME:MDT
DTSTART:20240310T090000
END:DAYLIGHT
BEGIN:STANDARD
TZOFFSETFROM:-0600
TZOFFSETTO:-0700
TZNAME:MST
DTSTART:20241103T080000
END:STANDARD
BEGIN:DAYLIGHT
TZOFFSETFROM:-0700
TZOFFSETTO:-0600
TZNAME:MDT
DTSTART:20250309T090000
END:DAYLIGHT
BEGIN:STANDARD
TZOFFSETFROM:-0600
TZOFFSETTO:-0700
TZNAME:MST
DTSTART:20251102T080000
END:STANDARD
BEGIN:DAYLIGHT
TZOFFSETFROM:-0700
TZOFFSETTO:-0600
TZNAME:MDT
DTSTART:20260308T090000
END:DAYLIGHT
BEGIN:STANDARD
TZOFFSETFROM:-0600
TZOFFSETTO:-0700
TZNAME:MST
DTSTART:20261101T080000
END:STANDARD
END:VTIMEZONE
BEGIN:VEVENT
DTSTART;TZID=America/Denver:20250611T180000
DTEND;TZID=America/Denver:20250611T200000
DTSTAMP:20260425T073037
CREATED:20250319T042611Z
LAST-MODIFIED:20250319T150424Z
UID:10000051-1749664800-1749672000@avidcyclist.com
SUMMARY:Missouri Heights Road Race
DESCRIPTION:Date: June 11\, 2025\nEvent Type: Road Race\nLocation & Parking: CMC Spring Valley Parking Lot \nCourse Description: \nWE HIGHLY RECOMMEND FRONT AND REAR LIGHT ON THE BIKE.  THIS IS A LONG RACE AND CAN FINISH AT DUSK MAKING IT HARD FOR CARS TO SEE BIKERS WITHOUT LIGHTS.
URL:https://avidcyclist.com/event/missouri-heights-road-race/
LOCATION:Glenwood Springs\, Colorado\, Glenwood Springs\, CO\, United States
CATEGORIES:Race,Road
ATTACH;FMTTYPE=image/jpeg:https://avidcyclist.com/wp-content/uploads/Aspen-Cycling-Club-Feature-Image-1.jpg
ORGANIZER;CN="Aspen Cycling Club":MAILTO:info@aspencyclingclub.org, Kristen@aspencyclingclub.org
END:VEVENT
BEGIN:VEVENT
DTSTART;TZID=America/Denver:20250607T080000
DTEND;TZID=America/Denver:20250607T180000
DTSTAMP:20260425T073037
CREATED:20250319T042555Z
LAST-MODIFIED:20250319T150424Z
UID:10000050-1749283200-1749319200@avidcyclist.com
SUMMARY:Spring Valley Scramble
DESCRIPTION:Come race the best new MTB course in the Roaring Fork Valley.  See why this has become the Colorado High School League’s State MTB Course.  All are invited to race from Strider to Elite\, and everything in between!
URL:https://avidcyclist.com/event/spring-valley-scramble/
LOCATION:Glenwood Springs\, Colorado\, Glenwood Springs\, CO\, United States
CATEGORIES:Mountain Bike,Race
ATTACH;FMTTYPE=image/jpeg:https://avidcyclist.com/wp-content/uploads/Spring-Valley-Scramble.jpg
ORGANIZER;CN="Aspen Cycling Club":MAILTO:info@aspencyclingclub.org, Kristen@aspencyclingclub.org
END:VEVENT
END:VCALENDAR