BEGIN:VCALENDAR
VERSION:2.0
PRODID:-//Avid Cyclist - ECPv6.15.19//NONSGML v1.0//EN
CALSCALE:GREGORIAN
METHOD:PUBLISH
X-ORIGINAL-URL:https://avidcyclist.com
X-WR-CALDESC:Events for Avid Cyclist
REFRESH-INTERVAL;VALUE=DURATION:PT1H
X-Robots-Tag:noindex
X-PUBLISHED-TTL:PT1H
BEGIN:VTIMEZONE
TZID:America/Denver
BEGIN:DAYLIGHT
TZOFFSETFROM:-0700
TZOFFSETTO:-0600
TZNAME:MDT
DTSTART:20240310T090000
END:DAYLIGHT
BEGIN:STANDARD
TZOFFSETFROM:-0600
TZOFFSETTO:-0700
TZNAME:MST
DTSTART:20241103T080000
END:STANDARD
BEGIN:DAYLIGHT
TZOFFSETFROM:-0700
TZOFFSETTO:-0600
TZNAME:MDT
DTSTART:20250309T090000
END:DAYLIGHT
BEGIN:STANDARD
TZOFFSETFROM:-0600
TZOFFSETTO:-0700
TZNAME:MST
DTSTART:20251102T080000
END:STANDARD
BEGIN:DAYLIGHT
TZOFFSETFROM:-0700
TZOFFSETTO:-0600
TZNAME:MDT
DTSTART:20260308T090000
END:DAYLIGHT
BEGIN:STANDARD
TZOFFSETFROM:-0600
TZOFFSETTO:-0700
TZNAME:MST
DTSTART:20261101T080000
END:STANDARD
BEGIN:DAYLIGHT
TZOFFSETFROM:-0700
TZOFFSETTO:-0600
TZNAME:MDT
DTSTART:20270314T090000
END:DAYLIGHT
BEGIN:STANDARD
TZOFFSETFROM:-0600
TZOFFSETTO:-0700
TZNAME:MST
DTSTART:20271107T080000
END:STANDARD
END:VTIMEZONE
BEGIN:VEVENT
DTSTART;VALUE=DATE:20260328
DTEND;VALUE=DATE:20260330
DTSTAMP:20260424T075526
CREATED:20260119T224548Z
LAST-MODIFIED:20260119T224548Z
UID:10000592-1774656000-1774828799@avidcyclist.com
SUMMARY:Maverick Classic & Beer Fest
DESCRIPTION:Start your year off with the Mav Classic Road Race and Crit this March 28th and 29th\, the defending National Champions\, the CMU Cycling team invites the community to participate in their home race. Whether you are a collegiate racer\, a local pro\, or a fan of downtown festivities\, this weekend has something for everyone. Day one kicks off the criterium and Beer Fest in Downtown Grand Junction and we invite the community to cheer on racers and participate in downtown events. Enjoy unlimited drinks from 10+ local breweries from 2:00 PM to 6:00 PM. Day two is the road race in Whitewater highlighting the beautiful scenery of western Colorado. Come and join us as you gear up for your busy race season and see what all the buzz is about in Grand Junction. \nWhy Join Us?\nCollegiate & Open Categories: Open to both USAC-licensed riders and collegiate teams.\nCommunity Vibes: Cheer on the Mavericks and enjoy Grand Junction’s vibrant downtown atmosphere.\nEarly Bird Savings: Secure your Beer Fest tickets for discounted prices before March 20th.
URL:https://avidcyclist.com/event/maverick-classic-beer-fest/
LOCATION:Downtown Grand Junction\, Grand Junction\, CO\, United States
CATEGORIES:Criterium,Festival,Race,Road
ATTACH;FMTTYPE=image/jpeg:https://avidcyclist.com/wp-content/uploads/2026/01/img_3293-scaled.jpg
ORGANIZER;CN="Grand Junction Sports Commission":MAILTO:info@grandjunctionsports.org
END:VEVENT
BEGIN:VEVENT
DTSTART;VALUE=DATE:20251009
DTEND;VALUE=DATE:20251013
DTSTAMP:20260424T075526
CREATED:20251007T151148Z
LAST-MODIFIED:20251007T151148Z
UID:10000403-1759968000-1760313599@avidcyclist.com
SUMMARY:Collegiate Mountain Bike National Championships
DESCRIPTION:Welcome to the 2025 USA Cycling Collegiate Mountain Bike National Championships. All important information regarding this week’s National Championship will be linked here. Please refer to the Tech Guide for additional race information. If changes are made\, riders will be notified.
URL:https://avidcyclist.com/event/collegiate-mountain-bike-national-championships/
LOCATION:Grand Junction\, Colorado\, Grand Junction\, CO\, United States
CATEGORIES:Mountain Bike,Race
ATTACH;FMTTYPE=image/png:https://avidcyclist.com/wp-content/uploads/collegiate-mtb-championships.png
ORGANIZER;CN="USA Cycling":MAILTO:communications@usacycling.org
END:VEVENT
BEGIN:VEVENT
DTSTART;VALUE=DATE:20250926
DTEND;VALUE=DATE:20250928
DTSTAMP:20260424T075526
CREATED:20250826T163015Z
LAST-MODIFIED:20250826T163015Z
UID:10000359-1758844800-1759017599@avidcyclist.com
SUMMARY:Grand Enduro
DESCRIPTION:The Grand Enduro will challenge you on three demanding stages in and around Grand Junction’s Lunch Loops trail system. For those unfamiliar\, the nature of these trails is very technical and require expert handling skills as well as solid fitness. \nWhat to expect: \n\n\nChunky\, desert terrain that’s hard on body and equipment – bring sturdy tires and spare tubes! \n\n\nStages will lose significant elevation\, but lack sustained steeps – be ready to pedal! However\, this is no XC race\, so bring your well equipped all-mountain bike. You’ll hate it on some of the punchy\, short climbs but wish you were on an even bigger bike at some points! \n\n\nAll stages feature at least a few “moves” – sections of trail that are particularly precarious. Where possible we’ll have go-arounds\, however these will generally cost you time! Pre-riding all stages is definitely recommended and required for stages 1 and 3. \n\n\n25-40 minutes of racing over 7.2 miles of trail. 2.5-4 hours of total ride time covering ~23 miles. \n\n\nSTAGE DETAILS \nPROLOGUE: WAVER ROCK > PUCKER UP > RAVEN RIDGE > CURT’S DOWN \nRiders will be seeded based on Saturday’s Prologue race\, which will take place on the last 2 miles of Stage 3. You will start at the Waver Rock\, just below Widow Maker\, and head straight to Pucker Up. After you complete Pucker Up\, you’ll head straight across the saddle up Raven Ridge rather than down Moto as the first two years had been. You’ll be challenged to navigate through a short technical climb as you enter Raven Ridge. Then it’s mostly downhill with a couple of relatively smooth rolling climbs before you bomb down Curt’s Down into Curt’s Lane. Finish line is right at the wash area. \nBe sure to pump the brakes on your adrenaline through this as you’ll need some of this for the next day. Stay smooth and safe! Riders will be seeded based on their times in this stage. We will start fastest riders first and progress to the slower times to minimize passing which may provide a safer racing environment and enhance your experience during the event.
URL:https://avidcyclist.com/event/grand-enduro/
LOCATION:Grand Junction\, Colorado\, Grand Junction\, CO\, United States
CATEGORIES:Mountain,Mountain Bike,Race
ATTACH;FMTTYPE=image/jpeg:https://avidcyclist.com/wp-content/uploads/grand-enduro.jpg
END:VEVENT
END:VCALENDAR