BEGIN:VCALENDAR
VERSION:2.0
PRODID:-//Avid Cyclist - ECPv6.15.19//NONSGML v1.0//EN
CALSCALE:GREGORIAN
METHOD:PUBLISH
X-WR-CALNAME:Avid Cyclist
X-ORIGINAL-URL:https://avidcyclist.com
X-WR-CALDESC:Events for Avid Cyclist
REFRESH-INTERVAL;VALUE=DURATION:PT1H
X-Robots-Tag:noindex
X-PUBLISHED-TTL:PT1H
BEGIN:VTIMEZONE
TZID:America/Denver
BEGIN:DAYLIGHT
TZOFFSETFROM:-0700
TZOFFSETTO:-0600
TZNAME:MDT
DTSTART:20250309T090000
END:DAYLIGHT
BEGIN:STANDARD
TZOFFSETFROM:-0600
TZOFFSETTO:-0700
TZNAME:MST
DTSTART:20251102T080000
END:STANDARD
BEGIN:DAYLIGHT
TZOFFSETFROM:-0700
TZOFFSETTO:-0600
TZNAME:MDT
DTSTART:20260308T090000
END:DAYLIGHT
BEGIN:STANDARD
TZOFFSETFROM:-0600
TZOFFSETTO:-0700
TZNAME:MST
DTSTART:20261101T080000
END:STANDARD
BEGIN:DAYLIGHT
TZOFFSETFROM:-0700
TZOFFSETTO:-0600
TZNAME:MDT
DTSTART:20270314T090000
END:DAYLIGHT
BEGIN:STANDARD
TZOFFSETFROM:-0600
TZOFFSETTO:-0700
TZNAME:MST
DTSTART:20271107T080000
END:STANDARD
END:VTIMEZONE
BEGIN:VEVENT
DTSTART;VALUE=DATE:20260508
DTEND;VALUE=DATE:20260510
DTSTAMP:20260424T075213
CREATED:20260114T200212Z
LAST-MODIFIED:20260114T211138Z
UID:10000511-1778198400-1778371199@avidcyclist.com
SUMMARY:Rides & Vibes
DESCRIPTION:Join us in celebrating Rides & Vibes 5th anniversary as the Grand Junction Sports Commission hosts one of the biggest mountain bike races in Western Colorado. \nDay One (May 8) features a Pro Fat Tire Criterium in Downtown Grand Junction along with a community crit and kids ride\, creating a welcoming environment for all riders of all ages and abilities. The evening transitions into a music festival featuring live bands\, local vendors\, and beer on site.\nDay Two (May 9) shifts into Cross Country Mountain Bike races across Grand Junction trails featuring The Fresh 15\, The Dirty 30\, The Filthy 40\, and The Pros. Payouts are offered on both days attracting strong fields making for exciting racing. \nWith racing\, music\, and community all in one place Rides & Vibes showcases Grand Junction as a destination of competitive cycling and a lively community. Check out our website to register now and learn more!
URL:https://avidcyclist.com/event/rides-vibes/
LOCATION:Downtown Grand Junction\, Grand Junction\, CO\, United States
CATEGORIES:Festival,Mountain Bike,Race
ATTACH;FMTTYPE=image/jpeg:https://avidcyclist.com/wp-content/uploads/2026/01/rides-vibes-mtb-trail-2025-0407-grand-moments-media-scaled.jpeg
ORGANIZER;CN="Grand Junction Sports Commission":MAILTO:info@grandjunctionsports.org
END:VEVENT
BEGIN:VEVENT
DTSTART;TZID=America/Denver:20260912T073000
DTEND;TZID=America/Denver:20260912T153000
DTSTAMP:20260424T075213
CREATED:20250319T043507Z
LAST-MODIFIED:20260225T181019Z
UID:10000128-1789198200-1789227000@avidcyclist.com
SUMMARY:Tour of the Moon
DESCRIPTION:Ride the Moon\nTour of the Moon was made famous in the 1980’s Coors Classic and later in the cycling movie American Flyers. Its legacy continues as one of the premier road cycling events in the western United States\, which showcases the Colorado National Monument and its towering monoliths\, sheer-walled red rock canyons\, and panoramic views. \nRegistration is capped at 2\,200 participants so be sure to sign up early. A portion of registration fees support One Riverfront and Bicycle Colorado. \n 
URL:https://avidcyclist.com/event/tour-of-the-moon/
LOCATION:Grand Junction\, Colorado\, Grand Junction\, CO\, United States
CATEGORIES:Non-Profit Fund Raising Event,Road
ATTACH;FMTTYPE=image/png:https://avidcyclist.com/wp-content/uploads/2025/03/tour-of-the-moon-7.png
ORGANIZER;CN="The Ride Collective":MAILTO:support@theridecollective.com ;
END:VEVENT
END:VCALENDAR