BEGIN:VCALENDAR
VERSION:2.0
PRODID:-//Avid Cyclist - ECPv6.15.19//NONSGML v1.0//EN
CALSCALE:GREGORIAN
METHOD:PUBLISH
X-ORIGINAL-URL:https://avidcyclist.com
X-WR-CALDESC:Events for Avid Cyclist
REFRESH-INTERVAL;VALUE=DURATION:PT1H
X-Robots-Tag:noindex
X-PUBLISHED-TTL:PT1H
BEGIN:VTIMEZONE
TZID:America/Denver
BEGIN:DAYLIGHT
TZOFFSETFROM:-0700
TZOFFSETTO:-0600
TZNAME:MDT
DTSTART:20240310T090000
END:DAYLIGHT
BEGIN:STANDARD
TZOFFSETFROM:-0600
TZOFFSETTO:-0700
TZNAME:MST
DTSTART:20241103T080000
END:STANDARD
BEGIN:DAYLIGHT
TZOFFSETFROM:-0700
TZOFFSETTO:-0600
TZNAME:MDT
DTSTART:20250309T090000
END:DAYLIGHT
BEGIN:STANDARD
TZOFFSETFROM:-0600
TZOFFSETTO:-0700
TZNAME:MST
DTSTART:20251102T080000
END:STANDARD
BEGIN:DAYLIGHT
TZOFFSETFROM:-0700
TZOFFSETTO:-0600
TZNAME:MDT
DTSTART:20260308T090000
END:DAYLIGHT
BEGIN:STANDARD
TZOFFSETFROM:-0600
TZOFFSETTO:-0700
TZNAME:MST
DTSTART:20261101T080000
END:STANDARD
END:VTIMEZONE
BEGIN:VEVENT
DTSTART;VALUE=DATE:20250628
DTEND;VALUE=DATE:20250630
DTSTAMP:20260425T092719
CREATED:20250319T042612Z
LAST-MODIFIED:20250319T150424Z
UID:10000052-1751068800-1751241599@avidcyclist.com
SUMMARY:Bike MS Colorado
DESCRIPTION:Get Ready for the Ride of a Lifetime\nWhat is Bike MS: \nEach year\, nearly 40\,000 cyclists and more than 4\,000 teams participate around the country for people with MS. With the fundraising support of each cyclist\, the National MS Society can continue our work of tackling the complex challenges of MS. From one-to-one MS Navigator® support\, advocacy that drives systemic change to a network of resources and information that helps people affected by MS feel more in control and less alone. \nColorado Info \nEvent Name: Bike MS: Colorado \nJune 28 & 29\, 2025 \nDay 1 Start Line: University of Colorado – Boulder\, 2200 Colorado Ave.\, Boulder\, CO 80309 \nDay 2 Start Line: University of Northern Colorado\, 270D Butler-Hancock Athletic Center\, Greeley\, CO 80639 \nOver Night accommodations include: Dorms\, Hotels\, and Camping\, information posted on website in early 2025 \nRoutes: Day 1: Routes 30\, 70\, or 100 miles Day 2: 65 miles \nRegistration fee schedule for both Colorado & Utah (**submitted a code for your members and a general one to track CO Avid Cyclist folks\, will officially get the thumbs up next week that the code is live) Would you like a code for both Colorado and Utah \n\n\n\n$20 starting fee\n$35 on Monday\, December 23\, 2024\n$50 on Monday\, February 24\, 2025\n$60 on Wednesday\, April 16\, 2025\n$70 on Thursday\, May 29\, 2025\nRegistration Closes on Friday\, June 27 at Noon\n\n\n\nFundraising Minimum: $400\, includes lunch on route both days\, dinner and festivities too\, plus support during the event and a t-shirt. Additional fundraising incentives available too! \nE-Bikes and Recumbent Bikes are welcome on the ride. \nRiders must be at least 12 years of age on or before the event day and be accompanied by an adult. \nUtah Info \nEvent Name: Bike MS: Harmons Best Dam Bike Ride \nJune 28 & 29\, 2025 \nStart Line: Cache County Event Center\, 490 S 500 W\, Logan\, UT 84321 \nRoutes from Day 1: 43\, 75\, 100 miles and Day 2: 20 & 50 miles \nFundraising Minimum: $250
URL:https://avidcyclist.com/event/bike-ms-colorado/
LOCATION:Greeley\, Colorado\, 1501 65th Ave\, Greeley\, CO\, 80634\, United States
CATEGORIES:Non-Profit Fund Raising Event,Road
ATTACH;FMTTYPE=image/jpeg:https://avidcyclist.com/wp-content/uploads/Bike-MS-2.jpg
GEO:40.4154979;-104.7878298
X-APPLE-STRUCTURED-LOCATION;VALUE=URI;X-ADDRESS=Greeley Colorado 1501 65th Ave Greeley CO 80634 United States;X-APPLE-RADIUS=500;X-TITLE=1501 65th Ave:geo:-104.7878298,40.4154979
END:VEVENT
END:VCALENDAR