BEGIN:VCALENDAR
VERSION:2.0
PRODID:-//Avid Cyclist - ECPv6.15.19//NONSGML v1.0//EN
CALSCALE:GREGORIAN
METHOD:PUBLISH
X-WR-CALNAME:Avid Cyclist
X-ORIGINAL-URL:https://avidcyclist.com
X-WR-CALDESC:Events for Avid Cyclist
REFRESH-INTERVAL;VALUE=DURATION:PT1H
X-Robots-Tag:noindex
X-PUBLISHED-TTL:PT1H
BEGIN:VTIMEZONE
TZID:America/Denver
BEGIN:DAYLIGHT
TZOFFSETFROM:-0700
TZOFFSETTO:-0600
TZNAME:MDT
DTSTART:20240310T090000
END:DAYLIGHT
BEGIN:STANDARD
TZOFFSETFROM:-0600
TZOFFSETTO:-0700
TZNAME:MST
DTSTART:20241103T080000
END:STANDARD
BEGIN:DAYLIGHT
TZOFFSETFROM:-0700
TZOFFSETTO:-0600
TZNAME:MDT
DTSTART:20250309T090000
END:DAYLIGHT
BEGIN:STANDARD
TZOFFSETFROM:-0600
TZOFFSETTO:-0700
TZNAME:MST
DTSTART:20251102T080000
END:STANDARD
BEGIN:DAYLIGHT
TZOFFSETFROM:-0700
TZOFFSETTO:-0600
TZNAME:MDT
DTSTART:20260308T090000
END:DAYLIGHT
BEGIN:STANDARD
TZOFFSETFROM:-0600
TZOFFSETTO:-0700
TZNAME:MST
DTSTART:20261101T080000
END:STANDARD
END:VTIMEZONE
BEGIN:VEVENT
DTSTART;VALUE=DATE:20250524
DTEND;VALUE=DATE:20250525
DTSTAMP:20260425T073701
CREATED:20250319T042612Z
LAST-MODIFIED:20250319T150425Z
UID:10000053-1748044800-1748131199@avidcyclist.com
SUMMARY:The Original Growler
DESCRIPTION:For 16 years\, the Original Growler has not wavered from our guiding principal of asking you to trade your hard earned dollars for three things:\n\n\n\n\n\n\n\n\n1) An awesome day on the bike.\nThe Growler offers a challenging\, singletrack heavy mountain biking experience on some of the finest trails on the planet.\n\n\n\n\n\n\n\n2) A killer party.\n\nFood\, drink and camaraderie\, post race\, in downtown Gunnison (for those that still have some party left in them!)\n\n\n\n\n\n\n\n3) Top shelf trails\, both existing and developing. \n\nRegardless of where you live\, you become a stakeholder in Gunnison area trails as every penny of your entry fee goes directly to the 501(c)3 non-profit\, Gunnison Trails\, and Gunnison Trails’ mission is focused solely on improving and expanding area trails.
URL:https://avidcyclist.com/event/the-original-growler/
LOCATION:Gunnison\, Colorado\, Gunnison\, CO\, United States
CATEGORIES:Mountain,Mountain Bike,Race
ATTACH;FMTTYPE=image/png:https://avidcyclist.com/wp-content/uploads/The-Origional-Growler.png
END:VEVENT
END:VCALENDAR